BEGIN:VCALENDAR
VERSION:2.0
PRODID:-//Allwork.Space - ECPv6.0.10//NONSGML v1.0//EN
CALSCALE:GREGORIAN
METHOD:PUBLISH
X-ORIGINAL-URL:https://allwork.space
X-WR-CALDESC:Events for Allwork.Space
REFRESH-INTERVAL;VALUE=DURATION:PT1H
X-Robots-Tag:noindex
X-PUBLISHED-TTL:PT1H
BEGIN:VTIMEZONE
TZID:America/Kentucky/Louisville
BEGIN:DAYLIGHT
TZOFFSETFROM:-0500
TZOFFSETTO:-0400
TZNAME:EDT
DTSTART:20250309T070000
END:DAYLIGHT
BEGIN:STANDARD
TZOFFSETFROM:-0400
TZOFFSETTO:-0500
TZNAME:EST
DTSTART:20251102T060000
END:STANDARD
END:VTIMEZONE
BEGIN:VEVENT
DTSTART;VALUE=DATE:20250312
DTEND;VALUE=DATE:20250313
DTSTAMP:20260422T052300
CREATED:20250217T215603Z
LAST-MODIFIED:20250217T215603Z
UID:1034152-1741737600-1741823999@allwork.space
SUMMARY:Coworking Alliance Summit 2025: Uniting Global Coworking Leaders
DESCRIPTION:The Coworking Alliance Summit 2025 is set to bring together coworking alliances\, community leaders\, and industry professionals from around the world. Scheduled for March 12\, 2025\, this online event offers a unique platform to navigate global challenges\, strengthen industry ties\, and collaboratively work towards future goals. \nParticipants will have the opportunity to engage in meaningful discussions\, share resources\, and co-create the summit agenda. The event features insightful speakers and interactive breakout sessions designed to foster collaboration and knowledge sharing. Whether you’re building\, leading\, or supporting a coworking collective\, this summit is tailored for you. \nComplimentary tickets are available for members of participating coworking alliances\, thanks to the generous support of our 2025 Summit Sponsors & Partners. Non-members are also welcome to join by purchasing a Space Operator ticket or a Consultants & Companies pass. A portion of the event proceeds will be donated to the Coworking IDEA Project. \nDon’t miss this opportunity to connect with peers and shape the future of the coworking movement. \n📅 Date: March 12\, 2025 \n📍 Location: Online \n🔗 Learn More
URL:https://allwork.space/event/coworking-alliance-summit-2025-uniting-global-coworking-leaders/
CATEGORIES:Coworking & Flex Office,Leadership
ATTACH;FMTTYPE=image/jpeg:https://allwork.space/wp-content/uploads/2025/02/Coworking-Alliance-Summit-2025-Uniting-Global-Coworking-Leaders.jpg
END:VEVENT
BEGIN:VEVENT
DTSTART;VALUE=DATE:20250313
DTEND;VALUE=DATE:20250314
DTSTAMP:20260422T052300
CREATED:20250217T215856Z
LAST-MODIFIED:20250217T215856Z
UID:1034155-1741824000-1741910399@allwork.space
SUMMARY:Coworking Switzerland's 10th Anniversary: Annual Meetup & General Assembly
DESCRIPTION:Celebrate a decade of coworking excellence at the Coworking Switzerland Annual Meetup & General Assembly on March 13\, 2025\, hosted at zentroom Bern\, conveniently located inside the railway station. This milestone event offers a unique opportunity for coworking enthusiasts\, space operators\, and community leaders to come together\, reflect on the journey\, and envision the future of coworking in Switzerland. \nEvent Highlights: \n\nNetworking Lunch (12:30–14:00): Kick off the day with an optional lunch to connect with peers and industry professionals.\nWelcome & Partner Presentation (14:15–14:45): Official opening remarks and insights from our partners.\nWorkshop: “Music Makes Your Brand Go WOW” (14:45–16:00): Led by Philipp Schweidler from TONIQ.ch\, explore how music can elevate your brand identity.\nBirthday Cake & Coffee Break (16:00–16:30): Celebrate our 10-year journey with a special cake-cutting ceremony.\nGeneral Assembly (16:30–17:30): Participate in discussions shaping the future of coworking in Switzerland.\nEvening Drinks (17:30 onwards): Continue networking at L’ovestino.\n\nWhether you’re a long-standing member or new to the community\, this event promises valuable insights\, collaborative opportunities\, and a celebration of our shared achievements. \n📅 Date: March 13\, 2025 📍 Location: zentroom Bern\, Bahnhofplatz 10B\, 3011 Bern 🔗 Learn More
URL:https://allwork.space/event/coworking-switzerlands-10th-anniversary-annual-meetup-general-assembly/
CATEGORIES:Coworking & Flex Office,Leadership
ATTACH;FMTTYPE=image/jpeg:https://allwork.space/wp-content/uploads/2025/02/Coworking-Switzerlands-10th-Anniversary-Annual-Meetup-General-Assembly.jpg
END:VEVENT
BEGIN:VEVENT
DTSTART;VALUE=DATE:20250327
DTEND;VALUE=DATE:20250329
DTSTAMP:20260422T052300
CREATED:20250217T215233Z
LAST-MODIFIED:20250217T215233Z
UID:1034149-1743033600-1743206399@allwork.space
SUMMARY:Coworking Spain Conference 2025: The Flex Revolution
DESCRIPTION:Join industry leaders at the Coworking Spain Conference 2025\, a premier event dedicated to the coworking and flexible office sectors. Scheduled for May 27–28\, 2025\, at the EL BEATRIZ AUDITORIUM in Madrid\, this two-day conference offers insightful discussions\, networking opportunities\, and presentations from prominent speakers in the industry. Highlights include sessions on the state of coworking in Spain\, emerging megatrends\, and the prestigious Coworking Awards recognizing excellence and innovation. Don’t miss this opportunity to connect with peers and explore the future of flexible workspaces. \n📅 Date: May 27–28\, 2025 \n📍 Location: EL BEATRIZ AUDITORIUM\, Calle José Ortega y Gasset 29\, Madrid \n🔗 Learn More
URL:https://allwork.space/event/coworking-spain-conference-2025-the-flex-revolution/
CATEGORIES:Coworking & Flex Office,CRE
ATTACH;FMTTYPE=image/jpeg:https://allwork.space/wp-content/uploads/2025/02/Coworking-Spain-Conference-2025-The-Flex-Revolution.jpg
END:VEVENT
BEGIN:VEVENT
DTSTART;VALUE=DATE:20250328
DTEND;VALUE=DATE:20250329
DTSTAMP:20260422T052300
CREATED:20250313T150233Z
LAST-MODIFIED:20250313T150234Z
UID:1034892-1743120000-1743206399@allwork.space
SUMMARY:Convo: PR Strategies for Your Coworking Space
DESCRIPTION:How do you generate PR buzz for your coworking space? \n​​Join us for a free and flexible community conversation with fellow workspace operators and coworking pros around the world. (Join for free: https://lu.ma/fq9h1e1u)  \n​Our all-star guests will kick things off with their best tips\, insights and strategies. Then we’ll open the conversation up for a Q&A. \n​Come learn\, share and connect with other coworking leaders and rising stars of our industry. \n​​Who should attend? \n\n​​Coworking space owners and operators\n​​Community managers\n​​Workspace teams\n\n​​What should you bring? \n\n​​Ideas\, insights and strategies\n​​Questions for other workspace operators\n​​A spirit of collaboration and cooperation\n\n​​Coworking Convos are hosted by Cat Johnson.
URL:https://allwork.space/event/convo-pr-strategies-for-your-coworking-space/
CATEGORIES:Coworking & Flex Office
ATTACH;FMTTYPE=image/jpeg:https://allwork.space/wp-content/uploads/2024/10/Coworking-Convos-Featured.jpg
END:VEVENT
BEGIN:VEVENT
DTSTART;VALUE=DATE:20250328
DTEND;VALUE=DATE:20250331
DTSTAMP:20260422T052300
CREATED:20250217T220205Z
LAST-MODIFIED:20250217T220205Z
UID:1034158-1743120000-1743379199@allwork.space
SUMMARY:COWORK2025: Shaping the Future of Coworking in Berlin-Tegel
DESCRIPTION:Join the COWORK2025 conference from March 28 to 30\, 2025\, at the Beydes coworking space in Berlin-Tegel. This event is tailored for German-speaking individuals passionate about coworking\, including space operators\, community managers\, and enthusiasts eager to advance the coworking movement. \nEvent Highlights: \n\n\nFriday\, March 28: Kick-off at 4:00 PM with opening remarks\, keynote speeches\, and discussions on collaborative spaces and urban development. \n\n\nSaturday\, March 29: A Barcamp-style day where attendees set the agenda\, fostering interactive sessions and collaborative discussions. \n\n\nSunday\, March 30: Concluding with a networking lunch\, providing opportunities to connect and reflect on insights gained. \n\n\nDon’t miss this chance to engage with the coworking community\, share experiences\, and shape the future of collaborative workspaces. \n📅 Date: March 28–30\, 2025 📍 Location: Beydes\, Grußdorfstraße 3\, Hinterhof Aufgang A\, 13507 Berlin-Tegel 🔗 Learn More
URL:https://allwork.space/event/cowork2025-shaping-the-future-of-coworking-in-berlin-tegel/
CATEGORIES:Coworking & Flex Office,Leadership
ATTACH;FMTTYPE=image/jpeg:https://allwork.space/wp-content/uploads/2025/02/COWORK2025-Shaping-the-Future-of-Coworking-in-Berlin-Tegel.jpg
END:VEVENT
END:VCALENDAR