BEGIN:VCALENDAR
VERSION:2.0
PRODID:-//Allwork.Space - ECPv6.0.10//NONSGML v1.0//EN
CALSCALE:GREGORIAN
METHOD:PUBLISH
X-ORIGINAL-URL:https://allwork.space
X-WR-CALDESC:Events for Allwork.Space
REFRESH-INTERVAL;VALUE=DURATION:PT1H
X-Robots-Tag:noindex
X-PUBLISHED-TTL:PT1H
BEGIN:VTIMEZONE
TZID:America/Kentucky/Louisville
BEGIN:DAYLIGHT
TZOFFSETFROM:-0500
TZOFFSETTO:-0400
TZNAME:EDT
DTSTART:20250309T070000
END:DAYLIGHT
BEGIN:STANDARD
TZOFFSETFROM:-0400
TZOFFSETTO:-0500
TZNAME:EST
DTSTART:20251102T060000
END:STANDARD
END:VTIMEZONE
BEGIN:VEVENT
DTSTART;VALUE=DATE:20250514
DTEND;VALUE=DATE:20250515
DTSTAMP:20260422T014804
CREATED:20250213T144245Z
LAST-MODIFIED:20250213T144319Z
UID:1033963-1747180800-1747267199@allwork.space
SUMMARY:European Coworking Day 2025
DESCRIPTION:Join the third annual European Coworking Day on May 14\, 2025\, a continent-wide celebration of coworking and community. \nThis distributed\, crowdsourced event invites coworking spaces across Europe to host activities that highlight the impact of collaborative workspaces on individuals and society. \nWhether you’re a coworking space operator or new to the concept\, there’s an opportunity to get involved. \nOrganize an event at your space\, become an ambassador to spread the word in your region\, or participate in online events. \nLet’s unite to showcase the spirit of coworking and its positive influence across Europe.
URL:https://allwork.space/event/european-coworking-day-2025/
CATEGORIES:Coworking & Flex Office
ATTACH;FMTTYPE=image/jpeg:https://allwork.space/wp-content/uploads/2025/02/European-Coworking-Day.jpg
END:VEVENT
BEGIN:VEVENT
DTSTART;VALUE=DATE:20250530
DTEND;VALUE=DATE:20250531
DTSTAMP:20260422T014804
CREATED:20250506T135433Z
LAST-MODIFIED:20250506T135434Z
UID:1035919-1748563200-1748649599@allwork.space
SUMMARY:Coworking Convo: Turning Visitors Into Coworking Members
DESCRIPTION:​How can you turn visitors to your coworking space into members? \n​Let’s chat about it. \n​​Join us for a free and flexible community conversation with fellow workspace operators and coworking pros from around the world. \n​Our all-star guests will kick things off with their best tips\, insights and strategies. Then we’ll open the conversation up for a Q&A. \n​Come learn\, share and connect with other coworking leaders and rising stars of our industry. \n​​Who should attend? \n\n​​Coworking space owners and operators\n​​Community managers\n​​Workspace teams\n\n​​What should you bring? \n\n​​Ideas\, insights and strategies\n​​Questions for other workspace operators\n​​A spirit of collaboration and cooperation\n\n​​Coworking Convos are hosted by Cat Johnson.
URL:https://allwork.space/event/coworking-convo-turning-visitors-into-coworking-members/
CATEGORIES:Coworking & Flex Office,Marketing & Sales
ATTACH;FMTTYPE=image/jpeg:https://allwork.space/wp-content/uploads/2024/10/Coworking-Convos-Featured.jpg
END:VEVENT
END:VCALENDAR