BEGIN:VCALENDAR
VERSION:2.0
PRODID:-//Allwork.Space - ECPv6.0.10//NONSGML v1.0//EN
CALSCALE:GREGORIAN
METHOD:PUBLISH
X-ORIGINAL-URL:https://allwork.space
X-WR-CALDESC:Events for Allwork.Space
REFRESH-INTERVAL;VALUE=DURATION:PT1H
X-Robots-Tag:noindex
X-PUBLISHED-TTL:PT1H
BEGIN:VTIMEZONE
TZID:America/Kentucky/Louisville
BEGIN:DAYLIGHT
TZOFFSETFROM:-0500
TZOFFSETTO:-0400
TZNAME:EDT
DTSTART:20250309T070000
END:DAYLIGHT
BEGIN:STANDARD
TZOFFSETFROM:-0400
TZOFFSETTO:-0500
TZNAME:EST
DTSTART:20251102T060000
END:STANDARD
END:VTIMEZONE
BEGIN:VEVENT
DTSTART;VALUE=DATE:20251119
DTEND;VALUE=DATE:20251121
DTSTAMP:20260421T160320
CREATED:20250213T143924Z
LAST-MODIFIED:20250213T143924Z
UID:1033960-1763510400-1763683199@allwork.space
SUMMARY:Coworking Europe 2025 Conference in Berlin
DESCRIPTION:Join industry leaders at the Coworking Europe 2025 Conference\, the premier event for the coworking and flexible workspace sector. \nTaking place on November 19-20\, 2025\, at the Hilton Berlin\, this conference gathers over 500 professionals from more than 50 countries to explore the latest trends\, innovations\, and best practices in coworking. \nEngage in insightful discussions\, attend expert-led panels\, and expand your network with operators\, developers\, and stakeholders from around the globe. \nDon’t miss this opportunity to stay ahead in the evolving world of flexible workspaces.
URL:https://allwork.space/event/coworking-europe-2025-conference-in-berlin/
CATEGORIES:Coworking & Flex Office,Technology & Innovation
ATTACH;FMTTYPE=image/jpeg:https://allwork.space/wp-content/uploads/2025/02/Join-global-leaders-at-the-Coworking-Europe-2025-Conference-in-Berlin-.jpg
END:VEVENT
END:VCALENDAR