BEGIN:VCALENDAR
VERSION:2.0
PRODID:-//Allwork.Space - ECPv6.0.10//NONSGML v1.0//EN
CALSCALE:GREGORIAN
METHOD:PUBLISH
X-WR-CALNAME:Allwork.Space
X-ORIGINAL-URL:https://allwork.space
X-WR-CALDESC:Events for Allwork.Space
REFRESH-INTERVAL;VALUE=DURATION:PT1H
X-Robots-Tag:noindex
X-PUBLISHED-TTL:PT1H
BEGIN:VTIMEZONE
TZID:America/Kentucky/Louisville
BEGIN:DAYLIGHT
TZOFFSETFROM:-0500
TZOFFSETTO:-0400
TZNAME:EDT
DTSTART:20220313T070000
END:DAYLIGHT
BEGIN:STANDARD
TZOFFSETFROM:-0400
TZOFFSETTO:-0500
TZNAME:EST
DTSTART:20221106T060000
END:STANDARD
END:VTIMEZONE
BEGIN:VEVENT
DTSTART;VALUE=DATE:20220719
DTEND;VALUE=DATE:20220720
DTSTAMP:20260425T091306
CREATED:20220518T225244Z
LAST-MODIFIED:20220518T232441Z
UID:1012433-1658188800-1658275199@allwork.space
SUMMARY:WORKTECH 2022 Chicago
DESCRIPTION:WORKTECH22 Chicago is the conference for all those involved in the future of work and the workplace as well as real estate\, technology\, and innovation.\n\nWORKTECH brings innovative ideas and inspiration to the workplace community through inter-disciplinary speakers and learning experiences to enhance creativity and move thinking forward.\n\nJoin over 100 senior professionals from real estate\, facilities\, HR\, technology\, executive management\, architecture\, design and professional advisors to listen to global thought leaders\, further their knowledge\, and share best practices and expertise.
URL:https://allwork.space/event/worktech-2022-chicago/
LOCATION:AON Center\, 200 E. Randolph St.\, Chicago\, IL\, United States
CATEGORIES:Coworking & Flex Office,Leadership
ATTACH;FMTTYPE=image/jpeg:https://allwork.space/wp-content/uploads/2022/05/worktech-chicago.jpg
END:VEVENT
END:VCALENDAR