BEGIN:VCALENDAR
VERSION:2.0
PRODID:-//Allwork.Space - ECPv6.0.10//NONSGML v1.0//EN
CALSCALE:GREGORIAN
METHOD:PUBLISH
X-WR-CALNAME:Allwork.Space
X-ORIGINAL-URL:https://allwork.space
X-WR-CALDESC:Events for Allwork.Space
REFRESH-INTERVAL;VALUE=DURATION:PT1H
X-Robots-Tag:noindex
X-PUBLISHED-TTL:PT1H
BEGIN:VTIMEZONE
TZID:Europe/London
BEGIN:DAYLIGHT
TZOFFSETFROM:+0000
TZOFFSETTO:+0100
TZNAME:BST
DTSTART:20220327T010000
END:DAYLIGHT
BEGIN:STANDARD
TZOFFSETFROM:+0100
TZOFFSETTO:+0000
TZNAME:GMT
DTSTART:20221030T010000
END:STANDARD
END:VTIMEZONE
BEGIN:VEVENT
DTSTART;TZID=Europe/London:20220802T093000
DTEND;TZID=Europe/London:20220802T110000
DTSTAMP:20260424T183425
CREATED:20220726T180528Z
LAST-MODIFIED:20220726T180528Z
UID:1014736-1659432600-1659438000@allwork.space
SUMMARY:Coworking To Rebuild This City
DESCRIPTION:It’s easy to hear theories and insights about the future of work; 15 Minutes Cities debate about whether robots will take over all our jobs in the next five years. But how does that help you right here right now?
URL:https://allwork.space/event/coworking-to-rebuild-this-city/
LOCATION:The Kingston Guildhall\, Royal Borough of Kingston upon Thames High Street\, Kingston
CATEGORIES:Coworking & Flex Office,Leadership
ATTACH;FMTTYPE=image/jpeg:https://allwork.space/wp-content/uploads/2022/07/EVENTS.jpg
END:VEVENT
END:VCALENDAR