BEGIN:VCALENDAR
VERSION:2.0
PRODID:-//Allwork.Space - ECPv6.0.10//NONSGML v1.0//EN
CALSCALE:GREGORIAN
METHOD:PUBLISH
X-ORIGINAL-URL:https://allwork.space
X-WR-CALDESC:Events for Allwork.Space
REFRESH-INTERVAL;VALUE=DURATION:PT1H
X-Robots-Tag:noindex
X-PUBLISHED-TTL:PT1H
BEGIN:VTIMEZONE
TZID:Europe/London
BEGIN:DAYLIGHT
TZOFFSETFROM:+0000
TZOFFSETTO:+0100
TZNAME:BST
DTSTART:20220327T010000
END:DAYLIGHT
BEGIN:STANDARD
TZOFFSETFROM:+0100
TZOFFSETTO:+0000
TZNAME:GMT
DTSTART:20221030T010000
END:STANDARD
END:VTIMEZONE
BEGIN:VEVENT
DTSTART;TZID=Europe/London:20220920T130000
DTEND;TZID=Europe/London:20220920T210000
DTSTAMP:20260424T165829
CREATED:20220809T180751Z
LAST-MODIFIED:20220901T142327Z
UID:1015160-1663678800-1663707600@allwork.space
SUMMARY:FlexWorld 2022
DESCRIPTION:OfficeRnD’s FlexWorld is an event dedicated to the opportunities and challenges of the coworking and flex space industry and hybrid work. Become part of the first hybrid edition by attending in person OR online\, for free. For those joining us onsite in London\, you will have the opportunity to enter a raffle and win some cool prizes!
URL:https://allwork.space/event/flexworld-2022/
LOCATION:The Loading Bay\, 25 Luke St\, London\, EC2A 4DS\, United Kingdom
CATEGORIES:Coworking & Flex Office,Leadership
ATTACH;FMTTYPE=image/jpeg:https://allwork.space/wp-content/uploads/2022/08/FLEXWORLD-2022.jpg
END:VEVENT
END:VCALENDAR