BEGIN:VCALENDAR
VERSION:2.0
PRODID:-//Allwork.Space - ECPv6.0.10//NONSGML v1.0//EN
CALSCALE:GREGORIAN
METHOD:PUBLISH
X-WR-CALNAME:Allwork.Space
X-ORIGINAL-URL:https://allwork.space
X-WR-CALDESC:Events for Allwork.Space
REFRESH-INTERVAL;VALUE=DURATION:PT1H
X-Robots-Tag:noindex
X-PUBLISHED-TTL:PT1H
BEGIN:VTIMEZONE
TZID:America/Kentucky/Louisville
BEGIN:DAYLIGHT
TZOFFSETFROM:-0500
TZOFFSETTO:-0400
TZNAME:EDT
DTSTART:20220313T070000
END:DAYLIGHT
BEGIN:STANDARD
TZOFFSETFROM:-0400
TZOFFSETTO:-0500
TZNAME:EST
DTSTART:20221106T060000
END:STANDARD
END:VTIMEZONE
BEGIN:VEVENT
DTSTART;VALUE=DATE:20221004
DTEND;VALUE=DATE:20221007
DTSTAMP:20260424T114401
CREATED:20211201T215942Z
LAST-MODIFIED:20211210T194845Z
UID:1007288-1664841600-1665100799@allwork.space
SUMMARY:Expo Real
DESCRIPTION:Hosting the entire real estate industry from all over the world\, the three-day trade fair takes place in Munich every October—and has been doing so since 1998. \nBeing the biggest trade fair for property and investment in Europe\, EXPO REAL offers you the ideal setting for efficient networking.
URL:https://allwork.space/event/expo-real/
LOCATION:exporeal.net\, Munich\, Germany
CATEGORIES:Coworking & Flex Office,CRE,Technology & Innovation,Workplace Design
ATTACH;FMTTYPE=image/png:https://allwork.space/wp-content/uploads/2021/12/Expo-Real.png
END:VEVENT
END:VCALENDAR