BEGIN:VCALENDAR
VERSION:2.0
PRODID:-//Allwork.Space - ECPv6.0.10//NONSGML v1.0//EN
CALSCALE:GREGORIAN
METHOD:PUBLISH
X-ORIGINAL-URL:https://allwork.space
X-WR-CALDESC:Events for Allwork.Space
REFRESH-INTERVAL;VALUE=DURATION:PT1H
X-Robots-Tag:noindex
X-PUBLISHED-TTL:PT1H
BEGIN:VTIMEZONE
TZID:America/Kentucky/Louisville
BEGIN:DAYLIGHT
TZOFFSETFROM:-0500
TZOFFSETTO:-0400
TZNAME:EDT
DTSTART:20220313T070000
END:DAYLIGHT
BEGIN:STANDARD
TZOFFSETFROM:-0400
TZOFFSETTO:-0500
TZNAME:EST
DTSTART:20221106T060000
END:STANDARD
END:VTIMEZONE
BEGIN:VEVENT
DTSTART;VALUE=DATE:20221028
DTEND;VALUE=DATE:20221029
DTSTAMP:20260424T114610
CREATED:20220821T032103Z
LAST-MODIFIED:20220821T032103Z
UID:1015617-1666915200-1667001599@allwork.space
SUMMARY:Coworking Convo: Lead-Gen for Indie Coworking Spaces
DESCRIPTION:What are the best\, proven lead generation strategies for indie coworking operators? \nLet’s chat about it. \nJoin us for a free\, informal\, community conversation with fellow workspace operators and coworking pros. \nThe Convo will be moderated by content strategist and creator Cat Johnson. \nWe’ll kick things off with tips and insights from several workspace operators. Then we’ll open the conversation to the community to share questions\, ideas and resources. \nWho should attend? \n\nWorkspace operators\nCommunity managers\nCoworking space marketing teams\n\nWhat should you bring? \n\nIdeas\, insights and strategies\nQuestions for other workspace operators\nA spirit of collaboration and cooperation\n\nOnce you register\, you’ll receive a Zoom link to participate in the conversation.
URL:https://allwork.space/event/coworking-convo-lead-gen-for-indie-coworking-spaces/
CATEGORIES:Coworking & Flex Office,Marketing & Sales
ATTACH;FMTTYPE=image/png:https://allwork.space/wp-content/uploads/2022/08/Indie-Coworking-Spaces.png
END:VEVENT
END:VCALENDAR