BEGIN:VCALENDAR
VERSION:2.0
PRODID:-//Allwork.Space - ECPv6.0.10//NONSGML v1.0//EN
CALSCALE:GREGORIAN
METHOD:PUBLISH
X-WR-CALNAME:Allwork.Space
X-ORIGINAL-URL:https://allwork.space
X-WR-CALDESC:Events for Allwork.Space
REFRESH-INTERVAL;VALUE=DURATION:PT1H
X-Robots-Tag:noindex
X-PUBLISHED-TTL:PT1H
BEGIN:VTIMEZONE
TZID:America/Kentucky/Louisville
BEGIN:DAYLIGHT
TZOFFSETFROM:-0500
TZOFFSETTO:-0400
TZNAME:EDT
DTSTART:20220313T070000
END:DAYLIGHT
BEGIN:STANDARD
TZOFFSETFROM:-0400
TZOFFSETTO:-0500
TZNAME:EST
DTSTART:20221106T060000
END:STANDARD
END:VTIMEZONE
BEGIN:VEVENT
DTSTART;VALUE=DATE:20221110
DTEND;VALUE=DATE:20221112
DTSTAMP:20260424T100421
CREATED:20220627T154457Z
LAST-MODIFIED:20221103T173237Z
UID:1013440-1668038400-1668211199@allwork.space
SUMMARY:Coworking Europe
DESCRIPTION:The Coworking Europe Conference is the biggest event devoted to flex workspace and coworking in Europe. \nExclusive Discount: CWE22-Allwork
URL:https://allwork.space/event/coworking-europe/
LOCATION:B.Amsterdam\, Johan Huizingalaan 763A\, Amsterdam\, 763A\, Netherlands
CATEGORIES:Coworking & Flex Office,CRE,Leadership
ATTACH;FMTTYPE=image/png:https://allwork.space/wp-content/uploads/2022/06/Coworking-Europe-Amsterdam.png
END:VEVENT
END:VCALENDAR