BEGIN:VCALENDAR
VERSION:2.0
PRODID:-//Allwork.Space - ECPv6.0.10//NONSGML v1.0//EN
CALSCALE:GREGORIAN
METHOD:PUBLISH
X-ORIGINAL-URL:https://allwork.space
X-WR-CALDESC:Events for Allwork.Space
REFRESH-INTERVAL;VALUE=DURATION:PT1H
X-Robots-Tag:noindex
X-PUBLISHED-TTL:PT1H
BEGIN:VTIMEZONE
TZID:America/Kentucky/Louisville
BEGIN:DAYLIGHT
TZOFFSETFROM:-0500
TZOFFSETTO:-0400
TZNAME:EDT
DTSTART:20220313T070000
END:DAYLIGHT
BEGIN:STANDARD
TZOFFSETFROM:-0400
TZOFFSETTO:-0500
TZNAME:EST
DTSTART:20221106T060000
END:STANDARD
END:VTIMEZONE
BEGIN:VEVENT
DTSTART;VALUE=DATE:20221123
DTEND;VALUE=DATE:20221124
DTSTAMP:20260424T100650
CREATED:20220826T211003Z
LAST-MODIFIED:20220826T211003Z
UID:1015894-1669161600-1669247999@allwork.space
SUMMARY:An Overview From Coworking Specialist Pauline Roussel
DESCRIPTION:What makes a great coworking set up? How can end users select the right space for them? \nIn this talk\, Pauline will share her insights about the world of coworking.
URL:https://allwork.space/event/an-overview-from-coworking-specialist-pauline-roussel/
CATEGORIES:Coworking & Flex Office
ATTACH;FMTTYPE=image/jpeg:https://allwork.space/wp-content/uploads/2022/08/COWORKING-MILLER-KNOLL.jpg
END:VEVENT
BEGIN:VEVENT
DTSTART;VALUE=DATE:20221123
DTEND;VALUE=DATE:20221124
DTSTAMP:20260424T100650
CREATED:20220930T193119Z
LAST-MODIFIED:20220930T193119Z
UID:1016829-1669161600-1669247999@allwork.space
SUMMARY:Coworking – An Overview From Coworking Specialist Pauline Roussel
DESCRIPTION:In this talk\, Pauline will share her insights about the world of coworking. \nPauline has a comprehensive understanding of the diverse coworking world\, and she will be sharing stories from a tour of 450 coworking spaces across 48 cities worldwide which formed the basis of the book she co-authored with her partner Dimitar Inchev: “Around the world in 250 coworking spaces”. This book is a guide to how people build new work environments through collaboration\, interior design\, and community activities. \nPauline will look at what makes a great coworking setup\, as well as how end users can select the right space for them. \nShe will also give advice to those managing and designing coworking spaces.
URL:https://allwork.space/event/coworking-an-overview-from-coworking-specialist-pauline-roussel/
CATEGORIES:Coworking & Flex Office
ATTACH;FMTTYPE=image/jpeg:https://allwork.space/wp-content/uploads/2022/09/Coworking-With-Pauline.jpg
END:VEVENT
END:VCALENDAR