BEGIN:VCALENDAR
VERSION:2.0
PRODID:-//Allwork.Space - ECPv6.0.10//NONSGML v1.0//EN
CALSCALE:GREGORIAN
METHOD:PUBLISH
X-WR-CALNAME:Allwork.Space
X-ORIGINAL-URL:https://allwork.space
X-WR-CALDESC:Events for Allwork.Space
REFRESH-INTERVAL;VALUE=DURATION:PT1H
X-Robots-Tag:noindex
X-PUBLISHED-TTL:PT1H
BEGIN:VTIMEZONE
TZID:America/Kentucky/Louisville
BEGIN:DAYLIGHT
TZOFFSETFROM:-0500
TZOFFSETTO:-0400
TZNAME:EDT
DTSTART:20220313T070000
END:DAYLIGHT
BEGIN:STANDARD
TZOFFSETFROM:-0400
TZOFFSETTO:-0500
TZNAME:EST
DTSTART:20221106T060000
END:STANDARD
END:VTIMEZONE
BEGIN:VEVENT
DTSTART;VALUE=DATE:20221128
DTEND;VALUE=DATE:20221129
DTSTAMP:20260424T082810
CREATED:20221111T214406Z
LAST-MODIFIED:20221111T214406Z
UID:1018088-1669593600-1669679999@allwork.space
SUMMARY:London Coworking Assembly
DESCRIPTION:We will visit coworking spaces in E17 to experience their culture first-hand and network with other community creatives. \nHosted by our good friend Cate Maiolini and co-produced with Salto door systems. \nIf you are part of the coworking industry and movement\, one of the most valuable things you can do is visit other coworking spaces. \nPeople in London’s coworking community always see each other from afar.\nAt our London Coworking Assembly events and these monthly Learning Expeditions are a way of helping you connect to share stories and ideas about building a coworking space. \nThe first Coworking Expedition is in E17 AKA Walthamstow and we’ll be doing Islington and Brixton next.
URL:https://allwork.space/event/london-coworking-assembly/
LOCATION:Yonder Blackhorse Workshop\, 6 Hooker's Rd\, London\, E17 6DP\, United Kingdom
CATEGORIES:Coworking & Flex Office,Remote & Hybrid Work
ATTACH;FMTTYPE=image/jpeg:https://allwork.space/wp-content/uploads/2022/11/London-Coworking-Assembly-1.jpg
END:VEVENT
END:VCALENDAR