BEGIN:VCALENDAR
VERSION:2.0
PRODID:-//Allwork.Space - ECPv6.0.10//NONSGML v1.0//EN
CALSCALE:GREGORIAN
METHOD:PUBLISH
X-ORIGINAL-URL:https://allwork.space
X-WR-CALDESC:Events for Allwork.Space
REFRESH-INTERVAL;VALUE=DURATION:PT1H
X-Robots-Tag:noindex
X-PUBLISHED-TTL:PT1H
BEGIN:VTIMEZONE
TZID:America/Kentucky/Louisville
BEGIN:DAYLIGHT
TZOFFSETFROM:-0500
TZOFFSETTO:-0400
TZNAME:EDT
DTSTART:20240310T070000
END:DAYLIGHT
BEGIN:STANDARD
TZOFFSETFROM:-0400
TZOFFSETTO:-0500
TZNAME:EST
DTSTART:20241103T060000
END:STANDARD
END:VTIMEZONE
BEGIN:VEVENT
DTSTART;TZID=America/Kentucky/Louisville:20240426T120000
DTEND;TZID=America/Kentucky/Louisville:20240426T130000
DTSTAMP:20260423T013708
CREATED:20240401T154303Z
LAST-MODIFIED:20240401T154303Z
UID:1027827-1714132800-1714136400@allwork.space
SUMMARY:Convo: Staying Engaged and Inspired as a Community Builder
DESCRIPTION:Building community in a coworking space is hard! So how do you stay engaged and inspired? \n​​Join them for a free\, informal\, community conversation with fellow workspace operators and coworking pros around the world. \n​​Their Convos guests will kick things off with their best tips\, insights and strategies to attract office members who are active\, engaged and reliable. Then they’ll open the conversation up to share your tips\, ideas\, strategies and questions. \n​​Who should attend? \n\n​​Coworking space operators\n​​Community managers\n​​Workspace teams\n​​Coworking brand builders\n\n​​What should you bring? \n\n​​Ideas\, insights and strategies\n​​Questions for other workspace operators\n​​A spirit of collaboration and cooperation\n\n​​Coworking Convos are hosted by Cat Johnson.
URL:https://allwork.space/event/convo-staying-engaged-and-inspired-as-a-community-builder/
CATEGORIES:Coworking & Flex Office
ATTACH;FMTTYPE=image/jpeg:https://allwork.space/wp-content/uploads/2024/04/Convo-Staying-Engaged-and-Inspired-as-a-Community-Builder.jpg
END:VEVENT
END:VCALENDAR