BEGIN:VCALENDAR
VERSION:2.0
PRODID:-//Allwork.Space - ECPv6.0.10//NONSGML v1.0//EN
CALSCALE:GREGORIAN
METHOD:PUBLISH
X-WR-CALNAME:Allwork.Space
X-ORIGINAL-URL:https://allwork.space
X-WR-CALDESC:Events for Allwork.Space
REFRESH-INTERVAL;VALUE=DURATION:PT1H
X-Robots-Tag:noindex
X-PUBLISHED-TTL:PT1H
BEGIN:VTIMEZONE
TZID:America/Kentucky/Louisville
BEGIN:DAYLIGHT
TZOFFSETFROM:-0500
TZOFFSETTO:-0400
TZNAME:EDT
DTSTART:20240310T070000
END:DAYLIGHT
BEGIN:STANDARD
TZOFFSETFROM:-0400
TZOFFSETTO:-0500
TZNAME:EST
DTSTART:20241103T060000
END:STANDARD
END:VTIMEZONE
BEGIN:VEVENT
DTSTART;TZID=America/Kentucky/Louisville:20240801T120000
DTEND;TZID=America/Kentucky/Louisville:20240801T170000
DTSTAMP:20260422T190222
CREATED:20240725T170145Z
LAST-MODIFIED:20240725T170145Z
UID:1030084-1722513600-1722531600@allwork.space
SUMMARY:Upcoming Webinar: How To Automate Access To Your Coworking Space
DESCRIPTION:Is managing access control at your coworking space a time-consuming hassle? (We’ve all been there!) This FREE webinar tackles your biggest frustrations: ditching manual processes\, eliminating key headaches\, and achieving secure 24/7 access for your members. \nJoin Spacebring and Kisi for an insightful webinar on streamlining access control for your coworking space. Industry experts will share their knowledge on:\n\nAutomating member access with mobile credentials for a seamless experience.\nIntegrating your access control system with other tools for ultimate efficiency.\nReal-world solutions based on a recent coworking operator survey.\nStop wasting time on access control and create a stress-free\, automated future for your coworking space!\n\nWhen: \nAugust 1\, 2024 12 PM ET \nSpeakers:  \n\nHelga Moreno\, Senior Marketer at Spacebring\nBernhard Mehl\, CEO and co-founder of Kisi\n\nWho should participate? \n\nShared space operators\nCoworking space managers\nAnyone interested in streamlining access control for their shared space\n\nRegister here: https://spacebri.ng/BepJQ
URL:https://allwork.space/event/upcoming-webinar-how-to-automate-access-to-your-coworking-space/
CATEGORIES:Coworking & Flex Office
ATTACH;FMTTYPE=image/jpeg:https://allwork.space/wp-content/uploads/2024/07/Upcoming-Webinar-How-to-Automate-Access-to-Your-Coworking-Space.jpg
END:VEVENT
END:VCALENDAR