BEGIN:VCALENDAR
VERSION:2.0
PRODID:-//Allwork.Space - ECPv6.0.10//NONSGML v1.0//EN
CALSCALE:GREGORIAN
METHOD:PUBLISH
X-WR-CALNAME:Allwork.Space
X-ORIGINAL-URL:https://allwork.space
X-WR-CALDESC:Events for Allwork.Space
REFRESH-INTERVAL;VALUE=DURATION:PT1H
X-Robots-Tag:noindex
X-PUBLISHED-TTL:PT1H
BEGIN:VTIMEZONE
TZID:America/New_York
BEGIN:DAYLIGHT
TZOFFSETFROM:-0500
TZOFFSETTO:-0400
TZNAME:EDT
DTSTART:20250309T070000
END:DAYLIGHT
BEGIN:STANDARD
TZOFFSETFROM:-0400
TZOFFSETTO:-0500
TZNAME:EST
DTSTART:20251102T060000
END:STANDARD
END:VTIMEZONE
BEGIN:VEVENT
DTSTART;TZID=America/New_York:20250127T120000
DTEND;TZID=America/New_York:20250127T130000
DTSTAMP:20260422T082754
CREATED:20250121T163454Z
LAST-MODIFIED:20250121T193448Z
UID:1033499-1737979200-1737982800@allwork.space
SUMMARY:Key to a Better Experience: Streamlined Access
DESCRIPTION:Join Spacebring for a webinar on how to streamline member access for your coworking space. In this webinar\, you’ll learn how to: \n\nStreamline entry: Say goodbye to lost keys and hello to super convenient mobile access!\nBoost member happiness: Create an effortless experience that keeps them coming back for more.\nSimplify your operations: Automate access to eliminate admin headaches so you can focus on what matters most.\nDiscover valuable insights: Learn how your members use the space to make smart decisions that enhance their experience.\n\nSpecial Guest: David Smyth from Brivo\, a leading provider of cloud-based access control solutions for smart spaces\, will share his expertise on how to implement seamless and secure access control for your coworking community. \nThis webinar is a great way to learn how to create a more convenient and welcoming experience for your coworking space members. \nDate: Monday\, January 27\, 2025 Time: 12:00 PM ET \nRegister for the webinar: https://eu01web.zoom.us/webinar/register/1417266936566/WN_kw3od9o2R7WGa-3Dtyk73Q \n 
URL:https://allwork.space/event/key-to-a-better-experience-streamlined-access/
CATEGORIES:Coworking & Flex Office
ATTACH;FMTTYPE=image/png:https://allwork.space/wp-content/uploads/2025/01/Screenshot-2025-01-21-at-1.33.26 PM.png
END:VEVENT
END:VCALENDAR