BEGIN:VCALENDAR
VERSION:2.0
PRODID:-//Allwork.Space - ECPv6.0.10//NONSGML v1.0//EN
CALSCALE:GREGORIAN
METHOD:PUBLISH
X-ORIGINAL-URL:https://allwork.space
X-WR-CALDESC:Events for Allwork.Space
REFRESH-INTERVAL;VALUE=DURATION:PT1H
X-Robots-Tag:noindex
X-PUBLISHED-TTL:PT1H
BEGIN:VTIMEZONE
TZID:America/Kentucky/Louisville
BEGIN:DAYLIGHT
TZOFFSETFROM:-0500
TZOFFSETTO:-0400
TZNAME:EDT
DTSTART:20250309T070000
END:DAYLIGHT
BEGIN:STANDARD
TZOFFSETFROM:-0400
TZOFFSETTO:-0500
TZNAME:EST
DTSTART:20251102T060000
END:STANDARD
END:VTIMEZONE
BEGIN:VEVENT
DTSTART;VALUE=DATE:20250228
DTEND;VALUE=DATE:20250301
DTSTAMP:20260422T065710
CREATED:20250213T143236Z
LAST-MODIFIED:20250213T143329Z
UID:1033958-1740700800-1740787199@allwork.space
SUMMARY:Coworking Convo: Attracting Teams to Your Space
DESCRIPTION:Discover effective strategies to attract teams to your coworking space in this engaging community conversation. \nJoin industry experts Sam Rosen (Deskpass)\, Meagan Slavin (25N)\, Brad Krauskopf (Hub Australia)\, and Sarah Travers (Workbar) as they share their top tips and insights. \nFollowing their presentations\, participate in an open Q&A session to exchange ideas and collaborate with fellow workspace operators\, community managers\, and workspace teams. \nHosted by Cat Johnson Co\, this free event is an excellent opportunity to learn\, share\, and connect with leaders and rising stars in the coworking industry. \nBring your questions\, ideas\, and a spirit of collaboration to enhance your workspace’s appeal to teams. \n 
URL:https://allwork.space/event/coworking-convo-attracting-teams-to-your-space/
CATEGORIES:Coworking & Flex Office,Marketing & Sales
ATTACH;FMTTYPE=image/jpeg:https://allwork.space/wp-content/uploads/2024/10/Coworking-Convos-Featured.jpg
END:VEVENT
END:VCALENDAR