BEGIN:VCALENDAR
VERSION:2.0
PRODID:-//Allwork.Space - ECPv6.0.10//NONSGML v1.0//EN
CALSCALE:GREGORIAN
METHOD:PUBLISH
X-WR-CALNAME:Allwork.Space
X-ORIGINAL-URL:https://allwork.space
X-WR-CALDESC:Events for Allwork.Space
REFRESH-INTERVAL;VALUE=DURATION:PT1H
X-Robots-Tag:noindex
X-PUBLISHED-TTL:PT1H
BEGIN:VTIMEZONE
TZID:America/Kentucky/Louisville
BEGIN:DAYLIGHT
TZOFFSETFROM:-0500
TZOFFSETTO:-0400
TZNAME:EDT
DTSTART:20220313T070000
END:DAYLIGHT
BEGIN:STANDARD
TZOFFSETFROM:-0400
TZOFFSETTO:-0500
TZNAME:EST
DTSTART:20221106T060000
END:STANDARD
END:VTIMEZONE
BEGIN:VEVENT
DTSTART;VALUE=DATE:20220413
DTEND;VALUE=DATE:20220416
DTSTAMP:20260425T230150
CREATED:20220211T212925Z
LAST-MODIFIED:20220211T212925Z
UID:1009629-1649808000-1650067199@allwork.space
SUMMARY:Enhancing Customer Experience through Improved
DESCRIPTION:CXN Live: Customer Journey Management 2022 will be focused on: \n\nJourney mapping: effectively visualizing existing and future state customer journeys to identify key touch points and causes of friction\nJourney analytics: measuring and monitoring the mid journey touch points that predict journey success\nJourney investment – prioritizing underperforming journeys for additional focus and investment\nJourney orchestration: leveraging journey analytics to design personalized journeys that enhance emotion\nJourney optimization: leveraging AI and automation to optimize journeys in real-time CX ROI – linking customer journey management to the bottom line.
URL:https://allwork.space/event/enhancing-customer-experience-through-improved/
CATEGORIES:Human Resources,Leadership,Marketing & Sales,Technology & Innovation
ATTACH;FMTTYPE=image/png:https://allwork.space/wp-content/uploads/2022/02/Customer-Experience-Event.png
END:VEVENT
BEGIN:VEVENT
DTSTART;VALUE=DATE:20220419
DTEND;VALUE=DATE:20220421
DTSTAMP:20260425T230150
CREATED:20220211T213728Z
LAST-MODIFIED:20220211T213728Z
UID:1009633-1650326400-1650499199@allwork.space
SUMMARY:Cyber Security Digital Summit: Cloud Security APAC 2022
DESCRIPTION:Whether you are embarking on a brand re-launch or planning to increase current visibility\, Cyber Security Hub will ensure your brand is put in front of credible\, highly relevant\, active\, and qualified industry players in a cost-efficient manner. We are working on the agenda for this year’s Cyber Security Digital Summit: Cloud Security APAC 2022. \nRegister now to confirm your seat and to get the first look at the new agenda and speaker line-up!
URL:https://allwork.space/event/cyber-security-digital-summit-cloud-security-apac-2022/
CATEGORIES:Entrepreneurship,Leadership,Technology & Innovation,Workplace Design
ATTACH;FMTTYPE=image/png:https://allwork.space/wp-content/uploads/2022/02/Cyber-Security-Digital-Event.png
END:VEVENT
BEGIN:VEVENT
DTSTART;VALUE=DATE:20220421
DTEND;VALUE=DATE:20220422
DTSTAMP:20260425T230150
CREATED:20220413T160212Z
LAST-MODIFIED:20220413T160212Z
UID:1011329-1650499200-1650585599@allwork.space
SUMMARY:WORKTECH22 Amsterdam
DESCRIPTION:WORKTECH22 Amsterdam is the conference for all those involved in the future of work and the workplace as well as real estate\, technology and innovation.\nWORKTECH brings innovative ideas and inspiration to the workplace community through inter-disciplinary speakers and learning experience to enhance creativity and move thinking forward.\nJoin 100 senior professionals from real estate\, facilities\, HR\, technology\, executive management\, architecture\, design and professional advisors to listen to global thought leaders\, further their knowledge and share best practise and expertise.
URL:https://allwork.space/event/worktech22-amsterdam/
LOCATION:Office Operators – Infinity\, Zuidas\, South Axis\, Amstelveenseweg\, Amsterdam\, 500 1081 KL\, Netherlands
CATEGORIES:Leadership,Technology & Innovation
ATTACH;FMTTYPE=image/jpeg:https://allwork.space/wp-content/uploads/2022/04/Amsterdam-Event.jpg
END:VEVENT
BEGIN:VEVENT
DTSTART;VALUE=DATE:20220426
DTEND;VALUE=DATE:20220428
DTSTAMP:20260425T230150
CREATED:20211123T173352Z
LAST-MODIFIED:20211210T201013Z
UID:1006924-1650931200-1651103999@allwork.space
SUMMARY:Coworking Spain Conference
DESCRIPTION:THE COWORKING SPAIN CONFERENCE. \nThe most important coworking event in Spain. Two days of meetings with the whole Coworking family.
URL:https://allwork.space/event/coworking-spain-conference-2/
LOCATION:Complejo la Petxina\, Paseo de La Petxina 42\, Valencia\, Spain
CATEGORIES:Leadership,Remote & Hybrid Work,Technology & Innovation,Workplace Design
ATTACH;FMTTYPE=image/png:https://allwork.space/wp-content/uploads/2021/11/Coworking-Spain.png
END:VEVENT
BEGIN:VEVENT
DTSTART;VALUE=DATE:20220429
DTEND;VALUE=DATE:20220430
DTSTAMP:20260425T230150
CREATED:20220224T003442Z
LAST-MODIFIED:20220422T211444Z
UID:1009940-1651190400-1651276799@allwork.space
SUMMARY:Coworking Convo: Becoming an Eco-Friendly Brand
DESCRIPTION:How can you build an eco-friendly brand and promote a sustainable business? Let’s chat about it. \nJoin us for a free\, informal\, community conversation with fellow workspace operators and coworking pros. \nThe Convo will be moderated by content strategist and creator Cat Johnson. We’ll kick things off with tips and insights from several workspace operators. Then we’ll open the conversation to the community to share questions\, ideas and resources.
URL:https://allwork.space/event/coworking-convo-becoming-an-eco-friendly-brand/
CATEGORIES:Coworking & Flex Office,Entrepreneurship,Human Resources,Leadership
ATTACH;FMTTYPE=image/jpeg:https://allwork.space/wp-content/uploads/2022/02/Eco-Friendly-Brand.jpg
END:VEVENT
END:VCALENDAR