BEGIN:VCALENDAR
VERSION:2.0
PRODID:-//Allwork.Space - ECPv6.0.10//NONSGML v1.0//EN
CALSCALE:GREGORIAN
METHOD:PUBLISH
X-WR-CALNAME:Allwork.Space
X-ORIGINAL-URL:https://allwork.space
X-WR-CALDESC:Events for Allwork.Space
REFRESH-INTERVAL;VALUE=DURATION:PT1H
X-Robots-Tag:noindex
X-PUBLISHED-TTL:PT1H
BEGIN:VTIMEZONE
TZID:America/Kentucky/Louisville
BEGIN:DAYLIGHT
TZOFFSETFROM:-0500
TZOFFSETTO:-0400
TZNAME:EDT
DTSTART:20250309T070000
END:DAYLIGHT
BEGIN:STANDARD
TZOFFSETFROM:-0400
TZOFFSETTO:-0500
TZNAME:EST
DTSTART:20251102T060000
END:STANDARD
END:VTIMEZONE
BEGIN:VEVENT
DTSTART;VALUE=DATE:20250401
DTEND;VALUE=DATE:20250403
DTSTAMP:20260424T122719
CREATED:20241007T200519Z
LAST-MODIFIED:20241007T201043Z
UID:1031815-1743465600-1743638399@allwork.space
SUMMARY:Future of Work Canada (Toronto)
DESCRIPTION:Get ready to be part of the 6th annual Future of Work Canada event—an insightful two-day experience designed to propel you into the Future of Work! \nWhat’s New This Year? We’re introducing three dedicated conference tracks: Future Workplace\, Future Talent\, and Future Learning. \nThis year’s event is packed with fresh insights and the latest trends you need to stay ahead. \nWhat to Expect? Dive into two days of thought-provoking sessions with top-tier experts in HR\, Talent Management\, Learning and Development\, Employee Engagement\, People and Culture\, Internal Communications\, Organizational Development\, and Digital Workplace. \nBased right here in Canada\, these leaders will share best practices and cutting-edge strategies. \n  \n 
URL:https://allwork.space/event/future-of-work-canada-toronto/
CATEGORIES:Human Resources,Leadership,Technology & Innovation
ATTACH;FMTTYPE=image/jpeg:https://allwork.space/wp-content/uploads/2024/10/Future-of-Work-Canada-Toronto.jpg
END:VEVENT
BEGIN:VEVENT
DTSTART;VALUE=DATE:20250423
DTEND;VALUE=DATE:20250426
DTSTAMP:20260424T122719
CREATED:20250219T214320Z
LAST-MODIFIED:20250219T214320Z
UID:1034235-1745366400-1745625599@allwork.space
SUMMARY:2025 Workplace Benefits Conference: Navigating Pathways to Growth
DESCRIPTION:Join industry leaders at the 2025 Workplace Benefits Conference\, scheduled for April 23-25\, 2025\, at the Hilton Fort Lauderdale Marina in Fort Lauderdale\, Florida. \nThis premier event delves into the evolving workplace benefits landscape\, offering insights from carriers\, employers\, employees\, distributors\, brokers\, consultants\, and benefit technology experts. \nAttendees will explore key growth pathways\, including digital tool expansion\, holistic well-being solutions\, personalized benefits\, data-driven insights\, and new market opportunities. \nEngage in cross-functional learning and networking to navigate transformational industry changes effectively. Don’t miss this opportunity to gain fresh perspectives and strategies to drive success in the dynamic world of workplace benefits. \nLocation: Hilton Fort Lauderdale Marina\, 1881 SE 17th St\, Fort Lauderdale\, FL 33316\, USA \nDate: April 23-25\, 2025 \nWebsite: https://www.limra.com/en/events/conferences/2025/2025-workplace-benefits-conference/
URL:https://allwork.space/event/2025-workplace-benefits-conference-navigating-pathways-to-growth/
CATEGORIES:Human Resources,Leadership
ATTACH;FMTTYPE=image/jpeg:https://allwork.space/wp-content/uploads/2025/02/2025-Workplace-Benefits-Conference-Navigating-Pathways-to-Growth.jpg
END:VEVENT
BEGIN:VEVENT
DTSTART;VALUE=DATE:20250429
DTEND;VALUE=DATE:20250430
DTSTAMP:20260424T122719
CREATED:20250425T192624Z
LAST-MODIFIED:20250425T192624Z
UID:1035724-1745884800-1745971199@allwork.space
SUMMARY:Leading People Who Are Not Like You with Stephanie Chung
DESCRIPTION:The Future of Work® Podcast welcomes Stephanie Chung\, an industry trailblazer who redefined corporate leadership in aviation and beyond. In this powerful episode\, Stephanie dives deep into Ally Leadership\, sharing practical strategies for leading today’s diverse\, multigenerational\, and hybrid teams. Discover why empathy\, belonging\, and bold action are the new leadership essentials — and how to future-proof your leadership style for the world ahead.  \nFrom overcoming unconscious bias to using privilege for empowerment\, this conversation is packed with actionable insights that every aspiring and current leader must hear. Stephanie’s powerful story and proven frameworks offer a fresh blueprint for anyone who wants to lead with impact in the evolving workplace of 2025 and beyond.  \nKey Takeaways \n\nWhat Ally Leadership truly is — and why it’s a leadership imperative \nThe neuroscience behind unconscious bias and how to reframe it \nHow leaders can proactively use privilege for good \nPractical steps to create a culture of belonging and performance \nWhy vulnerability and visibility are the leadership currencies of the future \n\nAbout Stephanie Chung\nStephanie Chung is a #1 bestselling author\, keynote speaker\, and corporate board member with over 30 years of leadership experience. She is the former Chief Growth Officer at Wheels Up and the first African-American president of a private aviation company\, JetSuite. Named one of Adweek’s “Women Trailblazers” and Robb Report’s “23 Black Visionaries\,” Stephanie has helped organizations achieve billion-dollar results through strategic leadership rooted in human connection\, neuroscience\, and innovation. 
URL:https://allwork.space/event/leading-people-who-are-not-like-you-with-stephanie-chung/
CATEGORIES:Leadership
ATTACH;FMTTYPE=image/jpeg:https://allwork.space/wp-content/uploads/2025/04/Stephanie-Chung.jpg
END:VEVENT
BEGIN:VEVENT
DTSTART;VALUE=DATE:20250429
DTEND;VALUE=DATE:20250501
DTSTAMP:20260424T122719
CREATED:20250219T212256Z
LAST-MODIFIED:20250227T182303Z
UID:1034223-1745884800-1746057599@allwork.space
SUMMARY:Running Remote 2025: The Fastest Growing Conference on Flexible Work​
DESCRIPTION:Join industry leaders at Running Remote 2025\, the foremost conference dedicated to distributed and hybrid teams\, scheduled for April 29-30\, 2025\, at Fair Market in Austin\, Texas. \nThis annual event gathers hundreds of companies worldwide to explore the latest strategies and insights on flexible work\, company culture\, scaling\, transitioning\, AI\, and more. \nWith over 50 expert speakers and 40 sessions\, attendees will gain valuable knowledge and practical tools to navigate the evolving landscape of remote work. Network with C-level executives\, founders\, VPs\, and HR leaders\, and engage in discussions that will shape the future of work. \nDon’t miss this opportunity to connect with global experts and elevate your organization’s approach to distributed work.
URL:https://allwork.space/event/running-remote-2025-premier-conference-on-distributed-and-hybrid-teams/
CATEGORIES:Leadership,Remote & Hybrid Work
ATTACH;FMTTYPE=image/png:https://allwork.space/wp-content/uploads/2025/02/LS5.png
END:VEVENT
END:VCALENDAR