BEGIN:VCALENDAR
VERSION:2.0
PRODID:-//Allwork.Space - ECPv6.0.10//NONSGML v1.0//EN
CALSCALE:GREGORIAN
METHOD:PUBLISH
X-ORIGINAL-URL:https://allwork.space
X-WR-CALDESC:Events for Allwork.Space
REFRESH-INTERVAL;VALUE=DURATION:PT1H
X-Robots-Tag:noindex
X-PUBLISHED-TTL:PT1H
BEGIN:VTIMEZONE
TZID:America/Kentucky/Louisville
BEGIN:DAYLIGHT
TZOFFSETFROM:-0500
TZOFFSETTO:-0400
TZNAME:EDT
DTSTART:20250309T070000
END:DAYLIGHT
BEGIN:STANDARD
TZOFFSETFROM:-0400
TZOFFSETTO:-0500
TZNAME:EST
DTSTART:20251102T060000
END:STANDARD
END:VTIMEZONE
BEGIN:VEVENT
DTSTART;VALUE=DATE:20251001
DTEND;VALUE=DATE:20251002
DTSTAMP:20260424T025724
CREATED:20250213T155729Z
LAST-MODIFIED:20250213T155729Z
UID:1033970-1759276800-1759363199@allwork.space
SUMMARY:Future of Work APAC 2025 (Singapore)
DESCRIPTION:The future of work is transforming across the APAC region. \nFuture of Work APAC 2025 unites industry leaders\, HR experts\, and workplace innovators to discuss the latest trends in AI\, automation\, hybrid work\, and leadership evolution. \nThis must-attend event offers exclusive insights into the challenges and opportunities shaping the workforce of tomorrow. \nEngage with top decision-makers\, gain actionable strategies\, and prepare for the next era of workplace transformation.
URL:https://allwork.space/event/future-of-work-apac-2025-singapore/
CATEGORIES:Leadership,Technology & Innovation
ATTACH;FMTTYPE=image/jpeg:https://allwork.space/wp-content/uploads/2025/02/Future-of-Work-APAC-2025.jpg
END:VEVENT
BEGIN:VEVENT
DTSTART;VALUE=DATE:20251001
DTEND;VALUE=DATE:20251002
DTSTAMP:20260424T025724
CREATED:20250213T174245Z
LAST-MODIFIED:20250213T185651Z
UID:1033980-1759276800-1759363199@allwork.space
SUMMARY:Future of Work Innovation Conference 2025 In London
DESCRIPTION:The Future of Work Innovation Conference is scheduled for October 2025 in London. This event brings together professionals dedicated to transforming the enterprise\, focusing on topics such as culture building and change management. \nAttendees will have the opportunity to engage with industry experts\, participate in insightful sessions\, and explore the latest trends shaping the future of work. \nThis conference is essential for those aiming to stay ahead in the evolving workplace landscape. \nLearn more & register: Future of Work Innovation Conference
URL:https://allwork.space/event/future-of-work-innovation-conference-2025-in-london/
CATEGORIES:Leadership,Technology & Innovation
ATTACH;FMTTYPE=image/jpeg:https://allwork.space/wp-content/uploads/2025/02/Future-of-Work-Innovation-Conference-2025-In-London.jpg
END:VEVENT
BEGIN:VEVENT
DTSTART;VALUE=DATE:20251007
DTEND;VALUE=DATE:20251010
DTSTAMP:20260424T025724
CREATED:20250213T183222Z
LAST-MODIFIED:20250213T185457Z
UID:1033994-1759795200-1760054399@allwork.space
SUMMARY:Gartner HR Symposium Xpo In London 2025
DESCRIPTION:The Gartner HR Symposium/Xpo™ 2025 is scheduled for October 7–9\, 2025\, in London\, U.K. This premier conference is designed for Chief Human Resources Officers (CHROs) and their leadership teams\, offering data-driven insights and actionable strategies to navigate the evolving HR landscape. Key topics include: \n\n\nThe Future of Work: Leveraging HR trends and technologies to unlock new levels of innovation and productivity. \n\n\nCHRO Effectiveness: Enhancing leadership impact by strengthening relationships with the C-suite and stakeholders. \n\n\nHR Technology: Optimizing HR technology investments through best practices in selection\, implementation\, and adoption. \n\n\nAttendees will have the opportunity to network with peers\, engage with Gartner experts\, and explore the latest tools and strategies shaping the future of HR. This event is essential for HR professionals aiming to drive organizational success in a rapidly changing environment. \nLearn more & register: Gartner HR Symposium/Xpo™ 2025
URL:https://allwork.space/event/gartner-hr-symposium-xpo-in-london-2025/
CATEGORIES:Human Resources,Leadership
ATTACH;FMTTYPE=image/jpeg:https://allwork.space/wp-content/uploads/2025/02/Gartner-HR-Symposium-Xpo-In-London-2025.jpg
END:VEVENT
BEGIN:VEVENT
DTSTART;VALUE=DATE:20251027
DTEND;VALUE=DATE:20251031
DTSTAMP:20260424T025724
CREATED:20250213T182636Z
LAST-MODIFIED:20250213T182636Z
UID:1033991-1761523200-1761868799@allwork.space
SUMMARY:Gartner HR Symposium Xpo in Orlando\, Florida 2025
DESCRIPTION:The Gartner HR Symposium/Xpo™ 2025 is scheduled for October 27–29\, 2025\, in Orlando\, Florida. This premier conference is designed for Chief Human Resources Officers (CHROs) and their leadership teams\, offering data-driven insights and actionable strategies to navigate the evolving HR landscape. Key topics include: \n\n\nThe Future of Work: Leveraging HR trends and technologies to unlock new levels of innovation and productivity. \n\n\nCHRO Effectiveness: Enhancing leadership impact by strengthening relationships with the C-suite and stakeholders. \n\n\nHR Technology: Optimizing HR technology investments through best practices in selection\, implementation\, and adoption. \n\n\nAttendees will have the opportunity to engage with Gartner experts\, participate in interactive sessions\, and network with a diverse group of HR executives. This event is essential for HR leaders aiming to drive greater business impact and stay ahead of emerging trends. \nLearn more & register: Gartner HR Symposium/Xpo™ 2025
URL:https://allwork.space/event/gartner-hr-symposium-xpo-in-orlando-florida-2025/
CATEGORIES:Human Resources,Leadership
ATTACH;FMTTYPE=image/jpeg:https://allwork.space/wp-content/uploads/2025/02/Gartner-HR-Symposium-Xpo-in-Orlando-Florida-2025.jpg
END:VEVENT
END:VCALENDAR