BEGIN:VCALENDAR
VERSION:2.0
PRODID:-//Allwork.Space - ECPv6.0.10//NONSGML v1.0//EN
CALSCALE:GREGORIAN
METHOD:PUBLISH
X-WR-CALNAME:Allwork.Space
X-ORIGINAL-URL:https://allwork.space
X-WR-CALDESC:Events for Allwork.Space
REFRESH-INTERVAL;VALUE=DURATION:PT1H
X-Robots-Tag:noindex
X-PUBLISHED-TTL:PT1H
BEGIN:VTIMEZONE
TZID:America/Kentucky/Louisville
BEGIN:DAYLIGHT
TZOFFSETFROM:-0500
TZOFFSETTO:-0400
TZNAME:EDT
DTSTART:20220313T070000
END:DAYLIGHT
BEGIN:STANDARD
TZOFFSETFROM:-0400
TZOFFSETTO:-0500
TZNAME:EST
DTSTART:20221106T060000
END:STANDARD
END:VTIMEZONE
BEGIN:VEVENT
DTSTART;VALUE=DATE:20220426
DTEND;VALUE=DATE:20220428
DTSTAMP:20260426T003729
CREATED:20211123T173352Z
LAST-MODIFIED:20211210T201013Z
UID:1006924-1650931200-1651103999@allwork.space
SUMMARY:Coworking Spain Conference
DESCRIPTION:THE COWORKING SPAIN CONFERENCE. \nThe most important coworking event in Spain. Two days of meetings with the whole Coworking family.
URL:https://allwork.space/event/coworking-spain-conference-2/
LOCATION:Complejo la Petxina\, Paseo de La Petxina 42\, Valencia\, Spain
CATEGORIES:Leadership,Remote & Hybrid Work,Technology & Innovation,Workplace Design
ATTACH;FMTTYPE=image/png:https://allwork.space/wp-content/uploads/2021/11/Coworking-Spain.png
END:VEVENT
END:VCALENDAR