BEGIN:VCALENDAR
VERSION:2.0
PRODID:-//Allwork.Space - ECPv6.0.10//NONSGML v1.0//EN
CALSCALE:GREGORIAN
METHOD:PUBLISH
X-ORIGINAL-URL:https://allwork.space
X-WR-CALDESC:Events for Allwork.Space
REFRESH-INTERVAL;VALUE=DURATION:PT1H
X-Robots-Tag:noindex
X-PUBLISHED-TTL:PT1H
BEGIN:VTIMEZONE
TZID:America/Kentucky/Louisville
BEGIN:DAYLIGHT
TZOFFSETFROM:-0500
TZOFFSETTO:-0400
TZNAME:EDT
DTSTART:20250309T070000
END:DAYLIGHT
BEGIN:STANDARD
TZOFFSETFROM:-0400
TZOFFSETTO:-0500
TZNAME:EST
DTSTART:20251102T060000
END:STANDARD
END:VTIMEZONE
BEGIN:VEVENT
DTSTART;VALUE=DATE:20250611
DTEND;VALUE=DATE:20250613
DTSTAMP:20260424T110009
CREATED:20250213T163232Z
LAST-MODIFIED:20250213T183811Z
UID:1033976-1749600000-1749772799@allwork.space
SUMMARY:The Future of Work USA 2025 (New York)
DESCRIPTION:The Future of Work USA 2025 conference is scheduled for June 11-12\, 2025\, at the Javits Center in New York City. This sixth annual event introduces three specialized tracks: Future Workplace\, Future Talent\, and Future Learning. Attendees will engage with over 100 industry experts\, including: \n\nBarrett Evans\, Chief Learning Officer at Ford Motor Company\nElizabeth Norberg\, Global Chief People Officer at SharkNinja\nDesirée Davis Stolar\, Chief Talent Management and Employee Programs Officer at Burson\n\nThe conference will cover key themes such as employee training\, skills development\, workplace strategies\, and talent acquisition. \nWith more than 500 senior executives from diverse sectors\, participants will have ample opportunities to network\, share best practices\, and explore the latest trends in HR\, talent management\, and organizational development. This event is essential for those aiming to stay ahead in the evolving world of work. \nLearn more & register: Future of Work USA 2025
URL:https://allwork.space/event/the-future-of-work-usa-2025-new-york/
CATEGORIES:Leadership,Technology & Innovation
ATTACH;FMTTYPE=image/jpeg:https://allwork.space/wp-content/uploads/2025/02/The-Future-of-Work-USA-2025-New-York.jpg
END:VEVENT
END:VCALENDAR