BEGIN:VCALENDAR
VERSION:2.0
PRODID:-//Allwork.Space - ECPv6.0.10//NONSGML v1.0//EN
CALSCALE:GREGORIAN
METHOD:PUBLISH
X-ORIGINAL-URL:https://allwork.space
X-WR-CALDESC:Events for Allwork.Space
REFRESH-INTERVAL;VALUE=DURATION:PT1H
X-Robots-Tag:noindex
X-PUBLISHED-TTL:PT1H
BEGIN:VTIMEZONE
TZID:America/Kentucky/Louisville
BEGIN:DAYLIGHT
TZOFFSETFROM:-0500
TZOFFSETTO:-0400
TZNAME:EDT
DTSTART:20230312T070000
END:DAYLIGHT
BEGIN:STANDARD
TZOFFSETFROM:-0400
TZOFFSETTO:-0500
TZNAME:EST
DTSTART:20231105T060000
END:STANDARD
END:VTIMEZONE
BEGIN:VEVENT
DTSTART;TZID=America/Kentucky/Louisville:20230511T080000
DTEND;TZID=America/Kentucky/Louisville:20230511T173000
DTSTAMP:20260424T215946
CREATED:20230428T150436Z
LAST-MODIFIED:20230428T151421Z
UID:1021520-1683792000-1683826200@allwork.space
SUMMARY:The Brief - Marketing Brew Summit
DESCRIPTION:Marketing Brew Summit. \nThey are bringing together industry experts from General Motors\, Duolingo\, OKCupid\, and more of your favorite organizations to highlight upcoming trends\, spotlight innovative strategies\, and explore solutions to marketers’ latest challenges. Through dedicated workshops and interactive presentations\, you’ll step away with tactical learnings and tangible takeaways.
URL:https://allwork.space/event/the-brief-marketing-brew-summit/
LOCATION:New York\, NY.
CATEGORIES:Leadership,Marketing & Sales
ATTACH;FMTTYPE=image/png:https://allwork.space/wp-content/uploads/2023/04/The-Brief-Marketing-Brew-Summit.png
END:VEVENT
BEGIN:VEVENT
DTSTART;VALUE=DATE:20230522
DTEND;VALUE=DATE:20230525
DTSTAMP:20260424T215946
CREATED:20230221T161833Z
LAST-MODIFIED:20230221T161950Z
UID:1020333-1684713600-1684972799@allwork.space
SUMMARY:Gartner Marketing Symposium/Xpo
DESCRIPTION:Gartner Marketing Symposium/Xpo 2023 offers attendees the opportunity to advance their thinking as strategic leaders\, and bring their marketing vision to life with the best mix of insight and research-backed sessions to cut through the hype and delve deeper into areas that drive results. This year’s theme is Marketing’s New Directive: Reprioritize\, Rethink\, Realign. \nAccess more than 100 sessions of the latest Gartner research specifically designed to help CMOs and marketing leaders drive organizational growth. \nThe event will have seven tracks: \n\nBuild and Energize Winning Function\nDrive Value Trough Strategic and Operational Agility\nLead Multichannel Marketing Through Changing Times\nOptimize the Power of Customer Experience During Unpredictable Economic Times\nDrive Growth Through Commercial Coordination\nDemonstrate Impact\, Increase Performance\nBuild\, Activate and Manage a Valuable Brand
URL:https://allwork.space/event/gartner-marketing-symposium-xpo/
LOCATION:Denver\, CO.
CATEGORIES:Human Resources,Leadership,Marketing & Sales
ATTACH;FMTTYPE=image/jpeg:https://allwork.space/wp-content/uploads/2023/02/Gartner-Marketing-SymposiumXpo-.jpg
END:VEVENT
END:VCALENDAR