BEGIN:VCALENDAR
VERSION:2.0
PRODID:-//Allwork.Space - ECPv6.0.10//NONSGML v1.0//EN
CALSCALE:GREGORIAN
METHOD:PUBLISH
X-ORIGINAL-URL:https://allwork.space
X-WR-CALDESC:Events for Allwork.Space
REFRESH-INTERVAL;VALUE=DURATION:PT1H
X-Robots-Tag:noindex
X-PUBLISHED-TTL:PT1H
BEGIN:VTIMEZONE
TZID:America/Kentucky/Louisville
BEGIN:DAYLIGHT
TZOFFSETFROM:-0500
TZOFFSETTO:-0400
TZNAME:EDT
DTSTART:20220313T070000
END:DAYLIGHT
BEGIN:STANDARD
TZOFFSETFROM:-0400
TZOFFSETTO:-0500
TZNAME:EST
DTSTART:20221106T060000
END:STANDARD
TZID:America/Los_Angeles
BEGIN:DAYLIGHT
TZOFFSETFROM:-0800
TZOFFSETTO:-0700
TZNAME:PDT
DTSTART:20210314T100000
END:DAYLIGHT
BEGIN:STANDARD
TZOFFSETFROM:-0700
TZOFFSETTO:-0800
TZNAME:PST
DTSTART:20211107T090000
END:STANDARD
END:VTIMEZONE
BEGIN:VEVENT
DTSTART;VALUE=DATE:20220826
DTEND;VALUE=DATE:20220827
DTSTAMP:20260423T122445
CREATED:20220721T172432Z
LAST-MODIFIED:20220819T034140Z
UID:1014527-1661472000-1661558399@allwork.space
SUMMARY:Coworking Convo: Educating Your Community About Coworking
DESCRIPTION:How can you educate your local community about coworking? Let’s chat about it. \nJoin us for a free\, informal\, community conversation with fellow workspace operators and coworking pros. \nWe’ll kick things off with tips and insights from several workspace operators. Then we’ll open the conversation to the community to share questions\, ideas and resources.
URL:https://allwork.space/event/coworking-convo-educating-your-community-about-coworking/
CATEGORIES:Coworking & Flex Office,Marketing & Sales
ATTACH;FMTTYPE=image/jpeg:https://allwork.space/wp-content/uploads/2022/07/Coworking-Convo.jpg
END:VEVENT
BEGIN:VEVENT
DTSTART;VALUE=DATE:20220720
DTEND;VALUE=DATE:20220722
DTSTAMP:20260423T122445
CREATED:20220615T214704Z
LAST-MODIFIED:20220615T214704Z
UID:1013157-1658275200-1658447999@allwork.space
SUMMARY:Design Thinking Virtual Experience
DESCRIPTION:Design & Innovation Global’s conferences bring thousands of customer experience\, technology\, marketing\, user experience\, and design professionals together for inspiring keynotes\, actionable case studies\, interactive discussions\, and unparalleled networking.
URL:https://allwork.space/event/design-thinking-virtual-experience/
LOCATION:Design & Innovation: The Global Community & Research Hub
CATEGORIES:Marketing & Sales,Technology & Innovation,Workplace Design
ATTACH;FMTTYPE=image/jpeg:https://allwork.space/wp-content/uploads/2022/06/Digital-Workplace-Experience-August.jpg
END:VEVENT
BEGIN:VEVENT
DTSTART;VALUE=DATE:20220624
DTEND;VALUE=DATE:20220625
DTSTAMP:20260423T122445
CREATED:20220224T004147Z
LAST-MODIFIED:20220224T004147Z
UID:1009946-1656028800-1656115199@allwork.space
SUMMARY:Coworking Convo: Your Neighborhood as a Marketing Tool
DESCRIPTION:Your surrounding community is a huge marketing tool for your space. How do you leverage it? Let’s chat about it. \nJoin us for a free\, informal\, community conversation with fellow workspace operators and coworking pros. The Convo will be moderated by content strategist and creator Cat Johnson. \nWe’ll kick things off with tips and insights from several workspace operators. Then we’ll open the conversation to the community to share questions\, ideas and resources.
URL:https://allwork.space/event/coworking-convo-your-neighborhood-as-a-marketing-tool/
CATEGORIES:Coworking & Flex Office,Entrepreneurship,Human Resources,Marketing & Sales
ATTACH;FMTTYPE=image/jpeg:https://allwork.space/wp-content/uploads/2022/02/Neighborhood-as-a-Marketing-Tool.jpg
END:VEVENT
BEGIN:VEVENT
DTSTART;VALUE=DATE:20220502
DTEND;VALUE=DATE:20220701
DTSTAMP:20260423T122445
CREATED:20220610T213156Z
LAST-MODIFIED:20220627T202840Z
UID:1013009-1651449600-1656633599@allwork.space
SUMMARY:Allwork.Space Survey Sweepstakes
DESCRIPTION:Help us improve Allwork.Space once again and enter our sweepstakes to win a $250.00 Amazon eGift Card. Thank you!
URL:https://allwork.space/event/allwork-space-survey-sweepstakes-winner-announcement/
CATEGORIES:Coworking & Flex Office,Leadership,Marketing & Sales,Remote & Hybrid Work
ATTACH;FMTTYPE=image/jpeg:https://allwork.space/wp-content/uploads/2022/06/aws-event.jpg
END:VEVENT
BEGIN:VEVENT
DTSTART;VALUE=DATE:20220413
DTEND;VALUE=DATE:20220416
DTSTAMP:20260423T122445
CREATED:20220211T212925Z
LAST-MODIFIED:20220211T212925Z
UID:1009629-1649808000-1650067199@allwork.space
SUMMARY:Enhancing Customer Experience through Improved
DESCRIPTION:CXN Live: Customer Journey Management 2022 will be focused on: \n\nJourney mapping: effectively visualizing existing and future state customer journeys to identify key touch points and causes of friction\nJourney analytics: measuring and monitoring the mid journey touch points that predict journey success\nJourney investment – prioritizing underperforming journeys for additional focus and investment\nJourney orchestration: leveraging journey analytics to design personalized journeys that enhance emotion\nJourney optimization: leveraging AI and automation to optimize journeys in real-time CX ROI – linking customer journey management to the bottom line.
URL:https://allwork.space/event/enhancing-customer-experience-through-improved/
CATEGORIES:Human Resources,Leadership,Marketing & Sales,Technology & Innovation
ATTACH;FMTTYPE=image/png:https://allwork.space/wp-content/uploads/2022/02/Customer-Experience-Event.png
END:VEVENT
BEGIN:VEVENT
DTSTART;VALUE=DATE:20220325
DTEND;VALUE=DATE:20220326
DTSTAMP:20260423T122445
CREATED:20220224T003042Z
LAST-MODIFIED:20220224T004715Z
UID:1009937-1648166400-1648252799@allwork.space
SUMMARY:Coworking Convo: Nailing Your Tours
DESCRIPTION:How can you absolutely nail your tours and get visitors to convert to paying clients? Let’s chat about it. \nJoin us for a free\, informal\, community conversation with fellow workspace operators and coworking pros. The Convo will be moderated by content strategist and creator Cat Johnson. \nWe’ll kick things off with tips and insights from several workspace operators. Then we’ll open the conversation to the community to share questions\, ideas\, and resources.
URL:https://allwork.space/event/coworking-convo-nailing-your-tours/
CATEGORIES:Coworking & Flex Office,Entrepreneurship,Marketing & Sales,Remote & Hybrid Work
ATTACH;FMTTYPE=image/jpeg:https://allwork.space/wp-content/uploads/2022/02/Nailing-your-tours.jpg
END:VEVENT
BEGIN:VEVENT
DTSTART;VALUE=DATE:20220225
DTEND;VALUE=DATE:20220226
DTSTAMP:20260423T122445
CREATED:20220202T233253Z
LAST-MODIFIED:20220224T004554Z
UID:1009390-1645747200-1645833599@allwork.space
SUMMARY:Coworking Convo: Get Your Website Right
DESCRIPTION:What does your website say about you and your brand? Why is a website a key aspect in your marketing strategy? Let’s chat about it. \nJoin us for a free\, informal\, community conversation with fellow workspace operators and coworking pros. \nThe Convo will be moderated by content strategist Cat Johnson. We’ll kick things off with tips and insights from several workspace operators. Then we’ll open the conversation to the community to share questions\, ideas\, and resources.
URL:https://allwork.space/event/coworking-convo-get-your-website-right/
CATEGORIES:Coworking & Flex Office,Entrepreneurship,Marketing & Sales,Workplace Design
ATTACH;FMTTYPE=image/png:https://allwork.space/wp-content/uploads/2022/02/Web-design-convo.png
END:VEVENT
BEGIN:VEVENT
DTSTART;TZID=America/Los_Angeles:20211119T110000
DTEND;TZID=America/Los_Angeles:20211119T120000
DTSTAMP:20260423T122445
CREATED:20211110T231912Z
LAST-MODIFIED:20211116T053328Z
UID:1003910-1637319600-1637323200@allwork.space
SUMMARY:Convo: Working with Sponsors to Strengthen Your Coworking Brand
DESCRIPTION:How can sponsors be a valuable part of your marketing plan and strengthen your coworking brand? \nLet’s chat about it. \nJoin us for a free\, informal\, community conversation with fellow workspace operators and coworking pros. \nThe Convo will be moderated by content strategist and creator Cat Johnson. \nWe’ll kick things off with tips and insights from several workspace operators. Then we’ll open the conversation to the community to share questions\, ideas and resources. \nWho should attend? \n\nWorkspace operators\nCommunity managers\nCoworking space marketing teams\n\nWhat should you bring? \n\nIdeas\, insights and strategies\nQuestions for other workspace operators\nA spirit of collaboration and cooperation\n\nOnce you register\, you’ll receive a Zoom link to participate in the conversation.
URL:https://allwork.space/event/convo-working-with-sponsors-to-strengthen-your-coworking-brand/
CATEGORIES:Coworking & Flex Office,Marketing & Sales
ATTACH;FMTTYPE=image/png:https://allwork.space/wp-content/uploads/2021/11/Convo-Event.png
END:VEVENT
END:VCALENDAR