BEGIN:VCALENDAR
VERSION:2.0
PRODID:-//Allwork.Space - ECPv6.0.10//NONSGML v1.0//EN
CALSCALE:GREGORIAN
METHOD:PUBLISH
X-ORIGINAL-URL:https://allwork.space
X-WR-CALDESC:Events for Allwork.Space
REFRESH-INTERVAL;VALUE=DURATION:PT1H
X-Robots-Tag:noindex
X-PUBLISHED-TTL:PT1H
BEGIN:VTIMEZONE
TZID:America/Kentucky/Louisville
BEGIN:DAYLIGHT
TZOFFSETFROM:-0500
TZOFFSETTO:-0400
TZNAME:EDT
DTSTART:20220313T070000
END:DAYLIGHT
BEGIN:STANDARD
TZOFFSETFROM:-0400
TZOFFSETTO:-0500
TZNAME:EST
DTSTART:20221106T060000
END:STANDARD
BEGIN:DAYLIGHT
TZOFFSETFROM:-0500
TZOFFSETTO:-0400
TZNAME:EDT
DTSTART:20230312T070000
END:DAYLIGHT
BEGIN:STANDARD
TZOFFSETFROM:-0400
TZOFFSETTO:-0500
TZNAME:EST
DTSTART:20231105T060000
END:STANDARD
END:VTIMEZONE
BEGIN:VEVENT
DTSTART;TZID=America/Kentucky/Louisville:20230912T080000
DTEND;TZID=America/Kentucky/Louisville:20230913T210000
DTSTAMP:20260422T065654
CREATED:20230707T002517Z
LAST-MODIFIED:20230707T003754Z
UID:1022722-1694505600-1694638800@allwork.space
SUMMARY:GCUC Canada
DESCRIPTION:GCUC brings together decision-makers and game-changers in the coworking and flexible workspace industry. This unique conference experience is packed with expert insights\, visionary conversations\, educational programming\, breakouts\, opportunities for connection and a showcase of industry-leading partners. Join us as we shape the future of work\, together. \nJoin them in Toronto for GCUC Canada 2023! GCUC brings together decision-makers and game-changers in the coworking and flexible workspace industry. This unique conference experience is packed with expert insights\, visionary conversations\, educational programming\, breakouts\, opportunities for connection and a showcase of industry-leading partners. Join them as they shape the future of work\, together.
URL:https://allwork.space/event/gcuc-canada-3/
CATEGORIES:Coworking & Flex Office,Remote & Hybrid Work
ATTACH;FMTTYPE=image/png:https://allwork.space/wp-content/uploads/2023/07/Allwork.Space-2.png
END:VEVENT
BEGIN:VEVENT
DTSTART;TZID=America/Kentucky/Louisville:20230802T080000
DTEND;TZID=America/Kentucky/Louisville:20230803T210000
DTSTAMP:20260422T065654
CREATED:20230707T001017Z
LAST-MODIFIED:20230707T002557Z
UID:1022718-1690963200-1691096400@allwork.space
SUMMARY:GCUC Australia
DESCRIPTION:You’re invited to join the movement.\nGCUC brings together decision-makers and game-changers in the coworking and flexible workspace industry. This unique conference experience is packed with expert insights\, visionary conversations\, educational programming\, breakouts\, opportunities for connection and a showcase of industry-leading partners. Join us as we shape the future of work\, together. \n\nJoin them in Sydney for GCUC Australia 2023! GCUC brings together decision-makers and game-changers in the coworking and flexible workspace industry. This unique conference experience is packed with expert insights\, visionary conversations\, educational programming\, breakouts\, opportunities for connection and a showcase of industry-leading partners. Join them as they shape the future of work\, together.
URL:https://allwork.space/event/gcuc-australia-2/
CATEGORIES:Coworking & Flex Office,Human Resources,Leadership,Remote & Hybrid Work
ATTACH;FMTTYPE=image/png:https://allwork.space/wp-content/uploads/2023/07/Allwork.Space-1.png
END:VEVENT
BEGIN:VEVENT
DTSTART;TZID=America/Kentucky/Louisville:20230526T120000
DTEND;TZID=America/Kentucky/Louisville:20230526T130000
DTSTAMP:20260422T065654
CREATED:20230512T171021Z
LAST-MODIFIED:20230512T171021Z
UID:1021776-1685102400-1685106000@allwork.space
SUMMARY:Convo: Attracting Different Generations to Your Coworking Space
DESCRIPTION:Attracting different generations to your coworking space can be a challenge. How can you market your space and create a sense of community that appeals to different age groups? \n​Let’s chat about it. \n​Join us for a free\, informal\, community conversation with fellow workspace operators and coworking pros. \n​The Convo will be moderated by content strategist and creator Cat Johnson. \n​We’ll kick things off with tips and insights from several workspace operators. Then we’ll open the conversation to the community to share questions\, ideas and resources. \n​Who should attend? \n\n​Workspace operators\n​Community managers\n​Coworking space marketing teams\n\nWhat should you bring? \n\n​Ideas\, insights and strategies\n​Questions for other workspace operators\n​A spirit of collaboration and cooperation.
URL:https://allwork.space/event/convo-attracting-different-generations-to-your-coworking-space/
LOCATION:Zoom
CATEGORIES:Coworking & Flex Office,Leadership,Remote & Hybrid Work
ATTACH;FMTTYPE=image/png:https://allwork.space/wp-content/uploads/2023/05/CoworkingConvos.png
END:VEVENT
BEGIN:VEVENT
DTSTART;VALUE=DATE:20230425
DTEND;VALUE=DATE:20230427
DTSTAMP:20260422T065654
CREATED:20220921T171914Z
LAST-MODIFIED:20220921T171914Z
UID:1016562-1682380800-1682553599@allwork.space
SUMMARY:Running Remote
DESCRIPTION:Join industry leaders at Running Remote events and awards to learn how they’ve taken their companies to the next level with remote work. It’s your time to reshape the workplace.
URL:https://allwork.space/event/running-remote-3/
CATEGORIES:Human Resources,Remote & Hybrid Work
ATTACH;FMTTYPE=image/jpeg:https://allwork.space/wp-content/uploads/2022/09/running-remote.jpg
END:VEVENT
BEGIN:VEVENT
DTSTART;VALUE=DATE:20230315
DTEND;VALUE=DATE:20230317
DTSTAMP:20260422T065654
CREATED:20230214T225844Z
LAST-MODIFIED:20230214T225941Z
UID:1020212-1678838400-1679011199@allwork.space
SUMMARY:The Remote Working Expo
DESCRIPTION:Remote working is undoubtedly the biggest employee lead change in the business world in the last ten years. The pandemic forced a new style of work and now we are returning to ‘normal’\, workers are asking for change after proving how effective home\, hybrid\, and remote working can be. \nSo don’t get left behind when the UK’s workforce is demanding remote options. Stay on top of new technologies\, management styles\, and HR solutions. \nWith a lineup of the biggest names and brands within the business industry\, you will leave with all the knowledge and power you need to keep your business competitive and profitable.
URL:https://allwork.space/event/remote-working-expo/
LOCATION:London\, UK
CATEGORIES:Remote & Hybrid Work
ATTACH;FMTTYPE=image/jpeg:https://allwork.space/wp-content/uploads/2023/02/Remote-Working-Expo.jpg
END:VEVENT
BEGIN:VEVENT
DTSTART;VALUE=DATE:20221212
DTEND;VALUE=DATE:20221213
DTSTAMP:20260422T065654
CREATED:20220921T192139Z
LAST-MODIFIED:20220921T192139Z
UID:1016597-1670803200-1670889599@allwork.space
SUMMARY:WORKTECH Tokyo
DESCRIPTION:WORKTECH22 Tokyo is the conference for all those involved in the future of work and the workplace as well as real estate\, technology and innovation.
URL:https://allwork.space/event/worktech-tokyo/
CATEGORIES:Remote & Hybrid Work
ATTACH;FMTTYPE=image/jpeg:https://allwork.space/wp-content/uploads/2022/09/EVENTS-2.jpg
END:VEVENT
BEGIN:VEVENT
DTSTART;VALUE=DATE:20221208
DTEND;VALUE=DATE:20221209
DTSTAMP:20260422T065654
CREATED:20220921T191441Z
LAST-MODIFIED:20220921T191502Z
UID:1016594-1670457600-1670543999@allwork.space
SUMMARY:Financial Workplace
DESCRIPTION:Financial Workplace is the forum for all workplace professionals involved in the future of work and the workplace for the financial sector.
URL:https://allwork.space/event/financial-workplace/
LOCATION:New York\, United States
CATEGORIES:Remote & Hybrid Work
ATTACH;FMTTYPE=image/jpeg:https://allwork.space/wp-content/uploads/2022/09/financial-workplace-2022.jpg
END:VEVENT
BEGIN:VEVENT
DTSTART;VALUE=DATE:20221128
DTEND;VALUE=DATE:20221129
DTSTAMP:20260422T065654
CREATED:20221111T214406Z
LAST-MODIFIED:20221111T214406Z
UID:1018088-1669593600-1669679999@allwork.space
SUMMARY:London Coworking Assembly
DESCRIPTION:We will visit coworking spaces in E17 to experience their culture first-hand and network with other community creatives. \nHosted by our good friend Cate Maiolini and co-produced with Salto door systems. \nIf you are part of the coworking industry and movement\, one of the most valuable things you can do is visit other coworking spaces. \nPeople in London’s coworking community always see each other from afar.\nAt our London Coworking Assembly events and these monthly Learning Expeditions are a way of helping you connect to share stories and ideas about building a coworking space. \nThe first Coworking Expedition is in E17 AKA Walthamstow and we’ll be doing Islington and Brixton next.
URL:https://allwork.space/event/london-coworking-assembly/
LOCATION:Yonder Blackhorse Workshop\, 6 Hooker's Rd\, London\, E17 6DP\, United Kingdom
CATEGORIES:Coworking & Flex Office,Remote & Hybrid Work
ATTACH;FMTTYPE=image/jpeg:https://allwork.space/wp-content/uploads/2022/11/London-Coworking-Assembly-1.jpg
END:VEVENT
BEGIN:VEVENT
DTSTART;VALUE=DATE:20221117
DTEND;VALUE=DATE:20221118
DTSTAMP:20260422T065654
CREATED:20220921T184147Z
LAST-MODIFIED:20220921T184147Z
UID:1016588-1668643200-1668729599@allwork.space
SUMMARY:WORKTECH San Francisco
DESCRIPTION:WORKTECH22 San Francisco is the conference for all those involved in the future of work and the workplace as well as real estate\, technology and innovation.
URL:https://allwork.space/event/worktech-san-francisco/
CATEGORIES:Remote & Hybrid Work
ATTACH;FMTTYPE=image/jpeg:https://allwork.space/wp-content/uploads/2022/09/worktech-san-francisco.jpg
END:VEVENT
BEGIN:VEVENT
DTSTART;VALUE=DATE:20221116
DTEND;VALUE=DATE:20221118
DTSTAMP:20260422T065654
CREATED:20211201T221024Z
LAST-MODIFIED:20220821T033234Z
UID:1007292-1668556800-1668729599@allwork.space
SUMMARY:Working From Home Live
DESCRIPTION:As Europe’s biggest business event we have launched Working From Home Live\, helping our 25\,000 plus business owners and their employees adapt to the future of home working\, running directly alongside The Business Show. \nWhether it’s setting up your new home office\, utilizing the latest technology to keep in touch with colleagues and clients\, or ensuring you’re looking after your health\, Working From Home Live has all the products and services you need to work remotely successfully.
URL:https://allwork.space/event/working-from-home-live/
CATEGORIES:Human Resources,Remote & Hybrid Work
ATTACH;FMTTYPE=image/png:https://allwork.space/wp-content/uploads/2021/12/working-from-home-live.png
END:VEVENT
BEGIN:VEVENT
DTSTART;VALUE=DATE:20221115
DTEND;VALUE=DATE:20221116
DTSTAMP:20260422T065654
CREATED:20220921T183816Z
LAST-MODIFIED:20220921T183816Z
UID:1016585-1668470400-1668556799@allwork.space
SUMMARY:WORKTECH Los Angeles
DESCRIPTION:WORKTECH22 Los Angeles is the conference for all those involved in the future of work and the workplace as well as real estate\, technology and innovation.
URL:https://allwork.space/event/worktech-los-angeles/
CATEGORIES:Remote & Hybrid Work
ATTACH;FMTTYPE=image/jpeg:https://allwork.space/wp-content/uploads/2022/09/worktech-los-angeles.jpg
END:VEVENT
BEGIN:VEVENT
DTSTART;VALUE=DATE:20221115
DTEND;VALUE=DATE:20221116
DTSTAMP:20260422T065654
CREATED:20220921T182546Z
LAST-MODIFIED:20220921T182546Z
UID:1016581-1668470400-1668556799@allwork.space
SUMMARY:WORKTECH Madrid
DESCRIPTION:WORKTECH22 Madrid is the conference for all those involved in the future of work and the workplace as well as real estate\, technology and innovation. WORKTECH brings innovative ideas and inspiration to the workplace community through inter-disciplinary speakers and learning experience to enhance creativity and move thinking forward.
URL:https://allwork.space/event/worktech-madrid/
LOCATION:Microsoft Ibérica
CATEGORIES:Remote & Hybrid Work
ATTACH;FMTTYPE=image/jpeg:https://allwork.space/wp-content/uploads/2022/09/worktech-madrid.jpg
END:VEVENT
BEGIN:VEVENT
DTSTART;VALUE=DATE:20221027
DTEND;VALUE=DATE:20221028
DTSTAMP:20260422T065654
CREATED:20220921T182228Z
LAST-MODIFIED:20220921T182228Z
UID:1016577-1666828800-1666915199@allwork.space
SUMMARY:WORKTECH Buenos Aires
DESCRIPTION:WORKTECH22 Buenos Aires is the conference for all those involved in the future of work and the workplace as well as real estate\, technology and innovation.
URL:https://allwork.space/event/worktech-buenos-aires/
LOCATION:Darwin Palermo – Events Space Center
CATEGORIES:Remote & Hybrid Work
ATTACH;FMTTYPE=image/jpeg:https://allwork.space/wp-content/uploads/2022/09/worktech-buenos-aires.jpg
END:VEVENT
BEGIN:VEVENT
DTSTART;VALUE=DATE:20221026
DTEND;VALUE=DATE:20221027
DTSTAMP:20260422T065654
CREATED:20220921T181928Z
LAST-MODIFIED:20220921T181928Z
UID:1016573-1666742400-1666828799@allwork.space
SUMMARY:WORKTECH Toronto
DESCRIPTION:WORKTECH22 Toronto is the conference for all those involved in the future of work and the workplace as well as real estate\, technology and innovation.
URL:https://allwork.space/event/worktech-toronto/
LOCATION:Deloitte\, Bay Adelaide East\, Toronto\, Canada
CATEGORIES:Remote & Hybrid Work
ATTACH;FMTTYPE=image/jpeg:https://allwork.space/wp-content/uploads/2022/09/worktech-toronto.jpg
END:VEVENT
BEGIN:VEVENT
DTSTART;VALUE=DATE:20221025
DTEND;VALUE=DATE:20221026
DTSTAMP:20260422T065654
CREATED:20220929T154234Z
LAST-MODIFIED:20220929T154408Z
UID:1016726-1666656000-1666742399@allwork.space
SUMMARY:IDC Future Of Work Nordics
DESCRIPTION:Join IDC’s Future of Work digital event on October 25th 2022 to be inspired and learn more about: \n\nWhat hybrid working means and how to make it a success\nHow to provide technology experience parity across home\, office and other work environments\nHow to enhance employee engagement\nHow to create an “Experience Office” and make commuting worthwhile\nHow to build better teams in a distributed workforce\nHow to make the workplace intelligent\, personal and highly connected
URL:https://allwork.space/event/mastering-the-hybrid-work-from-vision-to-execution/
CATEGORIES:Remote & Hybrid Work
ATTACH;FMTTYPE=image/jpeg:https://allwork.space/wp-content/uploads/2022/09/Mastering-the-Hybrid-Work.jpg
END:VEVENT
BEGIN:VEVENT
DTSTART;VALUE=DATE:20221025
DTEND;VALUE=DATE:20221026
DTSTAMP:20260422T065654
CREATED:20220921T180659Z
LAST-MODIFIED:20220921T180659Z
UID:1016569-1666656000-1666742399@allwork.space
SUMMARY:WORKTECH Santiago
DESCRIPTION:WORKTECH22 Santiago is the conference for all those involved in the future of work and the workplace as well as real estate\, technology and innovation.
URL:https://allwork.space/event/worktech-santiago/
LOCATION:Centroparque Events Center
CATEGORIES:Remote & Hybrid Work
ATTACH;FMTTYPE=image/jpeg:https://allwork.space/wp-content/uploads/2022/09/worktech-santiago.jpg
END:VEVENT
BEGIN:VEVENT
DTSTART;VALUE=DATE:20221020
DTEND;VALUE=DATE:20221021
DTSTAMP:20260422T065654
CREATED:20220921T172834Z
LAST-MODIFIED:20220921T172834Z
UID:1016565-1666224000-1666310399@allwork.space
SUMMARY:WORKTECH Seattle
DESCRIPTION:WORKTECH22 Seattle is the conference for all those involved in the future of work and the workplace as well as real estate\, technology and innovation.
URL:https://allwork.space/event/worktech-seattle/
LOCATION:WeWork\, 1201 3rd Avenue\, Seattle\, WA\, United States
CATEGORIES:Remote & Hybrid Work
ATTACH;FMTTYPE=image/jpeg:https://allwork.space/wp-content/uploads/2022/09/worktech-seattle.jpg
END:VEVENT
BEGIN:VEVENT
DTSTART;VALUE=DATE:20221018
DTEND;VALUE=DATE:20221020
DTSTAMP:20260422T065654
CREATED:20220330T044604Z
LAST-MODIFIED:20220330T044604Z
UID:1010985-1666051200-1666223999@allwork.space
SUMMARY:Digital Workplace Exchange
DESCRIPTION:In the current global climate\, it is potentially more important than ever before\, to enable the continued knowledge-sharing and relationship-building we have previously taken for granted through face-to-face exchanges. \nFor the first time ever\, we will be bringing our Exchanges online and continue to bring cutting-edge learning and quality discussions\, now straight to you in the comfort of your own home!
URL:https://allwork.space/event/digital-workplace-exchange/
LOCATION:TBD\, TBD\, Berlin\, Germany
CATEGORIES:Coworking & Flex Office,Remote & Hybrid Work,Workplace Wellness
ATTACH;FMTTYPE=image/jpeg:https://allwork.space/wp-content/uploads/2022/03/Digital-Workplace-Exchange.jpg
END:VEVENT
BEGIN:VEVENT
DTSTART;VALUE=DATE:20221012
DTEND;VALUE=DATE:20221014
DTSTAMP:20260422T065654
CREATED:20220330T042622Z
LAST-MODIFIED:20220330T042622Z
UID:1010982-1665532800-1665705599@allwork.space
SUMMARY:Digital Workplace Experience
DESCRIPTION:Industry experts and leading practitioners in IT\, HR\, People Analytics\, Communications\, and L&D will share hybrid workplace best practices spanning the connected digital workplace\, employee acquisition and engagement\, intelligent workflows and automation\, and the future of hybrid team collaboration.\n\nTopics will include:\n\n– Technology Enabling the Hybrid Workplace – Collaboration\, People Analytics\, Performance\, and Information Management\n\n– Addressing Employee Burnout – Boosting Resilience & Productivity via Intelligent Policies and Workspaces\n\n– Ensuring Information Security in Your Remote & Digital Workplace\n\n– Hybrid Team Collaboration – Creating Productive\, Inclusive Work Streams\n\n– The New Watercooler – Practices & Platforms for Cultivating Positive Culture
URL:https://allwork.space/event/digital-workplace-experience-4/
CATEGORIES:Coworking & Flex Office,Human Resources,Remote & Hybrid Work
ATTACH;FMTTYPE=image/jpeg:https://allwork.space/wp-content/uploads/2022/03/Digital-Workplace-Experience-October.jpg
END:VEVENT
BEGIN:VEVENT
DTSTART;VALUE=DATE:20221003
DTEND;VALUE=DATE:20221006
DTSTAMP:20260422T065654
CREATED:20220921T164433Z
LAST-MODIFIED:20220927T152831Z
UID:1016542-1664755200-1665014399@allwork.space
SUMMARY:Hybrid Work Conference
DESCRIPTION:Introducing\, the Hybrid Work Conference \nOur hybrid workplace event celebrates all things hybrid – new innovative strategies\, work-life balance\, workplace technology\, and more.
URL:https://allwork.space/event/hybrid-work-conference/
LOCATION:InterContinental Hotel\, Boston\, MA\, United States
CATEGORIES:Coworking & Flex Office,Remote & Hybrid Work
ATTACH;FMTTYPE=image/jpeg:https://allwork.space/wp-content/uploads/2022/09/Hybrid-Work-Conference-1.jpg
END:VEVENT
BEGIN:VEVENT
DTSTART;VALUE=DATE:20220921
DTEND;VALUE=DATE:20220922
DTSTAMP:20260422T065654
CREATED:20220826T203640Z
LAST-MODIFIED:20220831T212051Z
UID:1015887-1663718400-1663804799@allwork.space
SUMMARY:Building Resilience in a Changing Work Environment
DESCRIPTION:In this session\, we will be looking at how we can navigate a new landscape\, define the next futures for organizations\, work and the workplace\, and lead our people through this change. Foresight and leadership frameworks will be introduced to ensure the organization’s “greatest asset” is paid proper attention by marrying the personal and change task together.
URL:https://allwork.space/event/building-resilience-in-a-changing-work-environment/
CATEGORIES:Entrepreneurship,Remote & Hybrid Work
ATTACH;FMTTYPE=image/jpeg:https://allwork.space/wp-content/uploads/2022/08/WORK-ENVIRONMENT-MILLERKNOLL.jpg
END:VEVENT
BEGIN:VEVENT
DTSTART;VALUE=DATE:20220907
DTEND;VALUE=DATE:20220909
DTSTAMP:20260422T065654
CREATED:20220615T222035Z
LAST-MODIFIED:20220821T021634Z
UID:1013163-1662508800-1662681599@allwork.space
SUMMARY:REwork APAC Summit
DESCRIPTION:This event is for workplace leadership job functions who need to work together to create the workplace that best meets the challenges inherent within a hybrid or work-from-anywhere (WFA) model. The Summit focuses on the three core areas affected by hybrid and WFA\, namely: \n– PEOPLE – which includes staff wellbeing\, the HR policies\, and employee experience \n\n\n– PLACE & SPACE – which includes the footprint\, the Hub and spoke location\, and flex design\n\n– TECHNOLOGY – which includes office connectivity\, EX and WX apps\, and space monitoring
URL:https://allwork.space/event/rework-summit/
LOCATION:Sofitel Sydney Wentworth\, 61/101 Phillip St\, Sydney\, 2000\, Australia
CATEGORIES:Human Resources,Remote & Hybrid Work
ATTACH;FMTTYPE=image/png:https://allwork.space/wp-content/uploads/2022/06/rework-apac.png
END:VEVENT
BEGIN:VEVENT
DTSTART;VALUE=DATE:20220803
DTEND;VALUE=DATE:20220805
DTSTAMP:20260422T065654
CREATED:20220330T040529Z
LAST-MODIFIED:20220720T220009Z
UID:1010976-1659484800-1659657599@allwork.space
SUMMARY:Digital Workplace Experience
DESCRIPTION:Industry experts and leading practitioners in IT\, HR\, People Analytics\, Communications\, and L&D will share hybrid workplace best practices spanning the connected digital workplace\, employee acquisition and engagement\, intelligent workflows and automation\, and the future of hybrid team collaboration.\n\nTopics will include:\n\n– Technology Enabling the Hybrid Workplace – Collaboration\, People Analytics\, Performance\, and Information Management\n\n– Addressing Employee Burnout – Boosting Resilience & Productivity via Intelligent Policies and Workspaces\n\n– Ensuring Information Security in Your Remote & Digital Workplace\n\n– Hybrid Team Collaboration – Creating Productive\, Inclusive Work Streams\n\n– The New Watercooler – Practices & Platforms for Cultivating Positive Culture
URL:https://allwork.space/event/digital-workplace-experience-3/
CATEGORIES:Coworking & Flex Office,Human Resources,Remote & Hybrid Work
ATTACH;FMTTYPE=image/jpeg:https://allwork.space/wp-content/uploads/2022/03/Digital-Workplace-Experience-May.jpg
END:VEVENT
BEGIN:VEVENT
DTSTART;VALUE=DATE:20220630
DTEND;VALUE=DATE:20220702
DTSTAMP:20260422T065654
CREATED:20220331T214948Z
LAST-MODIFIED:20220331T214949Z
UID:1011047-1656547200-1656719999@allwork.space
SUMMARY:Coworking London Conference 2022
DESCRIPTION:After being postponed for the last two years\, this event\, organized by eOffice\, is back for its 7th edition.\n\nCoworking London Conference is a forum featuring the intersection of real estate\, flex and coworking\, design and technology\, and the future of the workplace.\n\nWe connect global workplace specialists\, operators\, landlords\, facility managers\, and decision-makers and trendsetters in architecture/interior design/technology. Together we discuss the current and future trends of coworking and the flexible office market.
URL:https://allwork.space/event/coworking-london-conference-2022/
LOCATION:TBD\, TBD\, Berlin\, Germany
CATEGORIES:Leadership,Remote & Hybrid Work,Technology & Innovation
ATTACH;FMTTYPE=image/jpeg:https://allwork.space/wp-content/uploads/2022/03/eoffice-event.jpg
END:VEVENT
BEGIN:VEVENT
DTSTART;VALUE=DATE:20220621
DTEND;VALUE=DATE:20220623
DTSTAMP:20260422T065654
CREATED:20211201T201203Z
LAST-MODIFIED:20211210T195545Z
UID:1007269-1655769600-1655942399@allwork.space
SUMMARY:Gartner Digital Workplace Summit
DESCRIPTION:Hybrid work today has given digital workplace leaders a glimpse into the future of work tomorrow. At the crossroads\, the new work patterns we formed in crisis may become our next normal. \nEnabling a workplace that is innovative\, inclusive\, and insightful demands a strategy to adopt and use technology to its full potential.
URL:https://allwork.space/event/gartner-digital-workplace-summit/
LOCATION:Marriott Marquis San Diego Marina\, 333 W Harbor Dr\, San Diego\, 92101\, United States
CATEGORIES:Human Resources,Leadership,Remote & Hybrid Work,Technology & Innovation,Workplace Wellness
ATTACH;FMTTYPE=image/png:https://allwork.space/wp-content/uploads/2021/12/hybrid-work.png
END:VEVENT
BEGIN:VEVENT
DTSTART;VALUE=DATE:20220517
DTEND;VALUE=DATE:20220520
DTSTAMP:20260422T065654
CREATED:20220323T055124Z
LAST-MODIFIED:20220331T192127Z
UID:1010685-1652745600-1653004799@allwork.space
SUMMARY:GCUC North America
DESCRIPTION:GCUC brings together decision-makers and game-changers in the coworking and flexible workspace industry. This unique conference experience is packed with expert insights\, visionary conversations\, educational programming\, breakouts\, opportunities for connection\, and a showcase of industry-leading partners. Joins us as we shape the future of work\, together.
URL:https://allwork.space/event/gcuc-north-america-2/
LOCATION:Bell Harbor\, 2211 Alaskan Way\, Seattle\, United States
CATEGORIES:Leadership,Remote & Hybrid Work
ATTACH;FMTTYPE=image/jpeg:https://allwork.space/wp-content/uploads/2022/03/GCUC_1010686f4939.jpg
END:VEVENT
BEGIN:VEVENT
DTSTART;VALUE=DATE:20220517
DTEND;VALUE=DATE:20220519
DTSTAMP:20260422T065654
CREATED:20211209T203626Z
LAST-MODIFIED:20211210T200124Z
UID:1007716-1652745600-1652918399@allwork.space
SUMMARY:Running Remote
DESCRIPTION:Running Remote 2022 is the largest conference in the world dedicated to meeting the critical business challenges of remote and hybrid workplace transformation. \nNow in its 5th year\, we offer remote-first founders and hybrid-team leaders access to the knowledge\, connections and solutions to help build and manage remote and hybrid teams which excel. \nThe new hybrid format event for 2022 – across desktop\, mobile and in-person – live and on-demand\, will give up to c.500+ in-person and 500+ online attendees the opportunity to network with\, and learn from\, your company and other industry leaders.
URL:https://allwork.space/event/running-remote-2/
CATEGORIES:Entrepreneurship,Human Resources,Leadership,Remote & Hybrid Work
ATTACH;FMTTYPE=image/png:https://allwork.space/wp-content/uploads/2021/12/Ontario-Canada_100771730bfd.png
END:VEVENT
BEGIN:VEVENT
DTSTART;VALUE=DATE:20220511
DTEND;VALUE=DATE:20220513
DTSTAMP:20260422T065654
CREATED:20211118T194536Z
LAST-MODIFIED:20211210T200852Z
UID:1006718-1652227200-1652399999@allwork.space
SUMMARY:Digital Nomads World
DESCRIPTION:Digital Nomads World is a live and virtual trade show serving digital nomads\, remote and freelance workers. The conference program will have 2 keynote addresses and 12 seminars\, presented by industry experts. The exhibit hall will contain recruiting firms\, technology\, and service providers as well as destination promoters.
URL:https://allwork.space/event/digital-nomads-world/
LOCATION:Walter E. Washington Convention Center\, 801 Mt Vernon Pl NW\, Washington\, DC 20001\, Washington\, DC\, United States
CATEGORIES:Entrepreneurship,Leadership,Remote & Hybrid Work,Technology & Innovation,Workplace Wellness
ATTACH;FMTTYPE=image/png:https://allwork.space/wp-content/uploads/2021/11/Digital-Nomads-World-DC.png
END:VEVENT
BEGIN:VEVENT
DTSTART;VALUE=DATE:20220504
DTEND;VALUE=DATE:20220506
DTSTAMP:20260422T065654
CREATED:20220330T034447Z
LAST-MODIFIED:20220330T034447Z
UID:1010965-1651622400-1651795199@allwork.space
SUMMARY:Digital Workplace Experience
DESCRIPTION:Industry experts and leading practitioners in IT\, HR\, People Analytics\, Communications\, and L&D will share hybrid workplace best practices spanning the connected digital workplace\, employee acquisition and engagement\, intelligent workflows and automation\, and the future of hybrid team collaboration.\n\nTopics will include:\n\n– Technology Enabling the Hybrid Workplace\n\n– Addressing Employee Burnout\n\n– Ensuring Information Security in Your Remote & Digital Workplace\n\n– Hybrid Team Collaboration\n\n– The New Watercooler
URL:https://allwork.space/event/digital-workplace-experience-2/
CATEGORIES:Human Resources,Remote & Hybrid Work
ATTACH;FMTTYPE=image/jpeg:https://allwork.space/wp-content/uploads/2022/03/Digital-Workplace-Experience-August.jpg
END:VEVENT
BEGIN:VEVENT
DTSTART;VALUE=DATE:20220502
DTEND;VALUE=DATE:20220701
DTSTAMP:20260422T065654
CREATED:20220610T213156Z
LAST-MODIFIED:20220627T202840Z
UID:1013009-1651449600-1656633599@allwork.space
SUMMARY:Allwork.Space Survey Sweepstakes
DESCRIPTION:Help us improve Allwork.Space once again and enter our sweepstakes to win a $250.00 Amazon eGift Card. Thank you!
URL:https://allwork.space/event/allwork-space-survey-sweepstakes-winner-announcement/
CATEGORIES:Coworking & Flex Office,Leadership,Marketing & Sales,Remote & Hybrid Work
ATTACH;FMTTYPE=image/jpeg:https://allwork.space/wp-content/uploads/2022/06/aws-event.jpg
END:VEVENT
END:VCALENDAR