BEGIN:VCALENDAR
VERSION:2.0
PRODID:-//Allwork.Space - ECPv6.0.10//NONSGML v1.0//EN
CALSCALE:GREGORIAN
METHOD:PUBLISH
X-ORIGINAL-URL:https://allwork.space
X-WR-CALDESC:Events for Allwork.Space
REFRESH-INTERVAL;VALUE=DURATION:PT1H
X-Robots-Tag:noindex
X-PUBLISHED-TTL:PT1H
BEGIN:VTIMEZONE
TZID:Europe/Berlin
BEGIN:DAYLIGHT
TZOFFSETFROM:+0100
TZOFFSETTO:+0200
TZNAME:CEST
DTSTART:20230326T010000
END:DAYLIGHT
BEGIN:STANDARD
TZOFFSETFROM:+0200
TZOFFSETTO:+0100
TZNAME:CET
DTSTART:20231029T010000
END:STANDARD
TZID:America/Kentucky/Louisville
BEGIN:DAYLIGHT
TZOFFSETFROM:-0500
TZOFFSETTO:-0400
TZNAME:EDT
DTSTART:20220313T070000
END:DAYLIGHT
BEGIN:STANDARD
TZOFFSETFROM:-0400
TZOFFSETTO:-0500
TZNAME:EST
DTSTART:20221106T060000
END:STANDARD
BEGIN:DAYLIGHT
TZOFFSETFROM:-0500
TZOFFSETTO:-0400
TZNAME:EDT
DTSTART:20230312T070000
END:DAYLIGHT
BEGIN:STANDARD
TZOFFSETFROM:-0400
TZOFFSETTO:-0500
TZNAME:EST
DTSTART:20231105T060000
END:STANDARD
TZID:Europe/London
BEGIN:DAYLIGHT
TZOFFSETFROM:+0000
TZOFFSETTO:+0100
TZNAME:BST
DTSTART:20220327T010000
END:DAYLIGHT
BEGIN:STANDARD
TZOFFSETFROM:+0100
TZOFFSETTO:+0000
TZNAME:GMT
DTSTART:20221030T010000
END:STANDARD
TZID:America/Mexico_City
BEGIN:DAYLIGHT
TZOFFSETFROM:-0600
TZOFFSETTO:-0500
TZNAME:CDT
DTSTART:20210404T080000
END:DAYLIGHT
BEGIN:STANDARD
TZOFFSETFROM:-0500
TZOFFSETTO:-0600
TZNAME:CST
DTSTART:20211031T070000
END:STANDARD
END:VTIMEZONE
BEGIN:VEVENT
DTSTART;TZID=Europe/Berlin:20230823T180000
DTEND;TZID=Europe/Berlin:20230823T190000
DTSTAMP:20260422T052412
CREATED:20230815T183318Z
LAST-MODIFIED:20230815T185703Z
UID:1023555-1692813600-1692817200@allwork.space
SUMMARY:Coworking IDEA – evaluation call
DESCRIPTION:Every month\, the coworking IDEA project presents us with a coworking challenge to make coworking more inclusive\, diverse\, fair and accessible. There is a focus topic for each month with lots of impulses and working materials that you can use in your coworking community. Because many of us would like to do things better in order to inspire more people to work in this way. But where is the best place to start? The project’s coworking challenge and the associated exchange provide you with impulses and concrete things for your coworking community. The monthly evaluation call connects people worldwide to talk about this challenge\, to discuss and learn from each other. \n\n\nMaking coworking more Inclusive\, Diverse\, Equitable and Accessible.\n\n\n\n\n\nProud of the coworking movement they’ve collectively created\, yet over the last two decades the global coworking conversation has drifted from it’s core values (Community\, Collaboration\, Accessibility\, Openness & Sustainability) towards more financial and corporate interests. Colonialism\, systemic racism\, sexism and many other disparities in today’s society are predictably found within our industry\, our events\, and our communities as well. \nThey are committed to re-centering the meaningful human connections\, communal care and creative collaboration that coworking was founded upon\, and they are committed to making the coworking industry more Inclusive\, Diverse\, Equitable and Accessible. \nThe Coworking IDEA Project is intended to help us navigate on our path forward together\, as this International collective of coworking associations\, community organizers and collaborative consultants share their best IDEAs to improve the coworking movement for everyone. \nAll are welcome.
URL:https://allwork.space/event/coworking-idea-evaluation-call/
LOCATION:Zoom
CATEGORIES:Coworking & Flex Office,Human Resources,Workplace Wellness
ATTACH;FMTTYPE=image/png:https://allwork.space/wp-content/uploads/2023/08/Allwork.Space-2.png
END:VEVENT
BEGIN:VEVENT
DTSTART;VALUE=DATE:20230615
DTEND;VALUE=DATE:20230616
DTSTAMP:20260422T052412
CREATED:20230210T192111Z
LAST-MODIFIED:20230210T192424Z
UID:1020145-1686787200-1686873599@allwork.space
SUMMARY:Outdoor Office Day
DESCRIPTION:Do you also prefer to take your work outdoors? Are you meeting your colleagues in a city park close to home? Do you have phone conversations whilst walking outside and do you like to organize #weetings (walking meetings)? When the sun comes out\, do you find yourself grabbing a table and chairs from your home or office\, placing them on a balcony\, on the pavement or garden in order to read or write? Work\, well-being and urban nature are indivisibly linked. Celebrate on 16th of June 2022 the necessity to work more healthily by taking your office outdoors: #outdoorofficeday \nOutdoor Office Day is an open invitation. For everyone. It doesn’t matter whether you work full-time from home or are gradually returning to the office. Being self-employed or a manager at a corporate. Join us and participate in the 4th international edition of the #OutdoorOfficeDay and prove that you care about your own well-being and that of your colleagues.
URL:https://allwork.space/event/outdoor-office-day/
CATEGORIES:Workplace Design,Workplace Wellness
ATTACH;FMTTYPE=image/jpeg:https://allwork.space/wp-content/uploads/2023/02/Outdoor-Office-Day-2023-AllworkSpace.jpg
END:VEVENT
BEGIN:VEVENT
DTSTART;TZID=America/Kentucky/Louisville:20230606T093000
DTEND;TZID=America/Kentucky/Louisville:20230606T110000
DTSTAMP:20260422T052412
CREATED:20230519T170227Z
LAST-MODIFIED:20230519T172336Z
UID:1021939-1686043800-1686049200@allwork.space
SUMMARY:Community Is The Key – But What Is The Secret?
DESCRIPTION:As a coworking space owner or community manager\, you hear everyone talking about community.  \nDoes every coworking space on Instagram seem to have more community in its feed than you could ever hope for? \nDo you feel like you are trying to catch smoke in a jar? \nYou know community is the key\, but what is the secret?  \nWhat is the one thing you need to do to find community?  \nWhere is it\, and how do you keep it when you get it? \nThe promise of community is everywhere.  \nFor their June London Coworking Assembly Breakfast Show\, they have gathered four people who are part of thriving communities.  \nThey have also walked various paths in life and the London coworking ecosystem in the last ten years.  \nOi Leng Lui – Co-Founder of The Hearth – a women’s space in Queen’s Park London. \nJoyce Ogunade – Head of the Affordable Workspace Programme at London Borough of Islington. \nZoe Ellis-Moore – Founder of Spaces to Places – Marketing\, Research & Placemaking for Coworking and Office Spaces. \nGerald Vanderpuye – Founder Virtue collectors club and Co-founder Impact Brixton \nClick the button and join them on the 6th of June from 09:30 am – 11 am for a lively open discussion on the secret of community.
URL:https://allwork.space/event/community-is-the-key-but-what-is-the-secret/
LOCATION:Studio Milliken\, 5 Berry Street\, Clerkenwell London EC1V 0AA\, EC1V 0AA\, United Kingdom
CATEGORIES:Coworking & Flex Office,Human Resources,Workplace Wellness
ATTACH;FMTTYPE=image/png:https://allwork.space/wp-content/uploads/2023/05/Allwork.space_.png
END:VEVENT
BEGIN:VEVENT
DTSTART;VALUE=DATE:20230522
DTEND;VALUE=DATE:20230525
DTSTAMP:20260422T052412
CREATED:20230221T154921Z
LAST-MODIFIED:20230221T154921Z
UID:1020329-1684713600-1684972799@allwork.space
SUMMARY:2023 Global Conference Theme: Strategy Through a Creative and Inclusive Lens
DESCRIPTION:This year’s theme\, Strategy Through a Creative and Inclusive Lens\, focuses on how organizations are meeting current challenges\, from the pandemic to the evolving changes that we are seeing from de-globalization\, geopolitics\, Artificial Intelligence (AI)\, environmental & climate change\, diversity\, equity & inclusion (DEI)\, energy & resources\, among many others.
URL:https://allwork.space/event/2023-global-conference-theme-strategy-through-a-creative-and-inclusive-lens/
CATEGORIES:Human Resources,Workplace Wellness
ATTACH;FMTTYPE=image/jpeg:https://allwork.space/wp-content/uploads/2023/02/2023-Global-Conference-Theme-Strategy-Through-a-Creative-and-Inclusive-Lens.jpg
END:VEVENT
BEGIN:VEVENT
DTSTART;TZID=America/Kentucky/Louisville:20230331T120000
DTEND;TZID=America/Kentucky/Louisville:20230331T130000
DTSTAMP:20260422T052412
CREATED:20230223T145912Z
LAST-MODIFIED:20230223T145912Z
UID:1020378-1680264000-1680267600@allwork.space
SUMMARY:Convo: Hospitality as a Service
DESCRIPTION:​Service normally refers to an intangible product that is offered to members. Hospitality is an interaction and refers to the way you treat your members. Know how can hospitality and service be bridged to better serve our communities. \n​The Convo will be moderated by content strategist and creator Cat Johnson. \n​Who should attend? \n\n​Workspace operators\n​Community managers\n​Coworking space marketing teams\n\n​What should you bring? \n\n​Ideas\, insights and strategies\n​Questions for other workspace operators\n​A spirit of collaboration and cooperation
URL:https://allwork.space/event/convo-hospitality-as-a-service/
LOCATION:Zoom
CATEGORIES:Coworking & Flex Office,Workplace Design,Workplace Wellness
ATTACH;FMTTYPE=image/jpeg:https://allwork.space/wp-content/uploads/2023/02/Convo-Hospitality-as-a-Service.jpg
END:VEVENT
BEGIN:VEVENT
DTSTART;TZID=America/Kentucky/Louisville:20230228T090000
DTEND;TZID=America/Kentucky/Louisville:20230228T103000
DTSTAMP:20260422T052412
CREATED:20230223T152807Z
LAST-MODIFIED:20230223T152807Z
UID:1020386-1677574800-1677580200@allwork.space
SUMMARY:DEI – Beyond the Buzzwords
DESCRIPTION:Diversity\, equity\, and inclusion\, also known as DEI\, are needed to create an empathetic\, accepting\, and progressive working environment in our society. \nCreating this is no longer a nice to have but a financial and business imperative. McKinsey has said for some time that those organizations that invest in gender and ethnic diversity\, outperform those that do not. \nMaking sure everyone’s perspective is heard and they feel like valued participants in the conversation contributes to nurturing a working environment that’s inclusive to all. \nBut how do we go beyond the buzzwords? \nThe European Coworking Assembly has created the IDEA handbook. A guide on implementing inclusion\, diversity\, equity\, and accessibility into workplaces\, the handbook also explores how to approach these conversations with compassion and respect. \nIt’s a small step\, but it’s the beginning of making a substantial and impactful change. \nThe panel for this event will include the following: \n\nNeil Usher\, author of Unf*cking Work: How to Fix it for Good\nKate Usher\, Menopause & Gender Equity Consultant at Menopause in Business\nShazia Mustafa\, Centre Director\, The Granville\nKofi Oppong\, Founder of Urban MBA\nLucy Mcinally\, Founder and Content Marketer at …And So Forth\, will lead this panel of change-makers.
URL:https://allwork.space/event/dei-beyond-the-buzzwords/
LOCATION:Business Design Centre \, 52 Upper Street\, Islington\, London N1 0QH
CATEGORIES:Human Resources,Workplace Wellness
ATTACH;FMTTYPE=image/jpeg:https://allwork.space/wp-content/uploads/2023/02/DEI-Beyond-the-Buzzwords.jpg
END:VEVENT
BEGIN:VEVENT
DTSTART;VALUE=DATE:20221214
DTEND;VALUE=DATE:20221215
DTSTAMP:20260422T052412
CREATED:20220826T211515Z
LAST-MODIFIED:20220826T211515Z
UID:1015897-1670976000-1671062399@allwork.space
SUMMARY:Fixing Work - A Webinar with Neil Usher
DESCRIPTION:There’s something wrong upstream – with work itself. The problems we faced pre-pandemic are still very much with us\, buried beneath endless talk of how many days we might spend in the office. \nIf we don’t fix work itself\, we’ll be unable to even begin to resolve the issue of place. Based on his challenging forthcoming book Neil Usher examines the 12 phrases that have codified our alienation from work and one another – and what we can do about it.
URL:https://allwork.space/event/fixing-work-a-webinar-with-neil-usher/
CATEGORIES:Workplace Wellness
ATTACH;FMTTYPE=image/jpeg:https://allwork.space/wp-content/uploads/2022/08/FIXING-WORK.jpg
END:VEVENT
BEGIN:VEVENT
DTSTART;VALUE=DATE:20221116
DTEND;VALUE=DATE:20221119
DTSTAMP:20260422T052412
CREATED:20220518T231739Z
LAST-MODIFIED:20220821T033517Z
UID:1012441-1668556800-1668815999@allwork.space
SUMMARY:7th Future Workplaces Summit
DESCRIPTION:Join Luxatia International and global executives as we return for our 7th FUTURE Workplaces Summit in Berlin\, Germany on November 16th – 18th\, 2022. This edition will delve into the emerging trends in modern office design\, space utilization strategies\, digital workplace architecture\, workplace health\, and wellbeing\, establishing a permanent place for a hybrid work model\, and best strategies for creating inspiring\, multi-functional spaces for all.
URL:https://allwork.space/event/7th-future-workplaces-summit/
LOCATION:TBD\, TBD\, Berlin\, Germany
CATEGORIES:Technology & Innovation,Workplace Design,Workplace Wellness
ATTACH;FMTTYPE=image/jpeg:https://allwork.space/wp-content/uploads/2022/05/Berlin-event.jpg
END:VEVENT
BEGIN:VEVENT
DTSTART;VALUE=DATE:20221027
DTEND;VALUE=DATE:20221028
DTSTAMP:20260422T052412
CREATED:20220919T153926Z
LAST-MODIFIED:20220919T154042Z
UID:1016442-1666828800-1666915199@allwork.space
SUMMARY:Celebrating Neurodiversity at Work 2022
DESCRIPTION:This event will examine the key barriers facing neurodiverse individuals in the workplace and how these can be removed to ensure a supportive and successful environment.
URL:https://allwork.space/event/celebrating-neurodiversity-at-work-2022/
CATEGORIES:Workplace Wellness
ATTACH;FMTTYPE=image/jpeg:https://allwork.space/wp-content/uploads/2022/09/celebrating-neurodiversity.jpg
END:VEVENT
BEGIN:VEVENT
DTSTART;VALUE=DATE:20221019
DTEND;VALUE=DATE:20221020
DTSTAMP:20260422T052412
CREATED:20220826T205340Z
LAST-MODIFIED:20220826T205340Z
UID:1015891-1666137600-1666223999@allwork.space
SUMMARY:Designing For Every User - Neurodiversity In The Workplace
DESCRIPTION:The goal of this session is not to discuss designing for any sort of disability but to review designing to support individuals who process information in ways that vary from the majority.
URL:https://allwork.space/event/designing-for-every-user-neurodiversity-in-the-workplace/
CATEGORIES:Workplace Design,Workplace Wellness
ATTACH;FMTTYPE=image/jpeg:https://allwork.space/wp-content/uploads/2022/08/Neurodiversity-In-The-Workplace.jpg
END:VEVENT
BEGIN:VEVENT
DTSTART;VALUE=DATE:20221018
DTEND;VALUE=DATE:20221020
DTSTAMP:20260422T052412
CREATED:20220330T045029Z
LAST-MODIFIED:20220821T024147Z
UID:1010988-1666051200-1666223999@allwork.space
SUMMARY:HR Exchange: Employee Engagement and Experience
DESCRIPTION:This free online event will help HR professionals once again find their footing in these changing times while bringing together HR professionals who are successfully addressing the issues of diversity\, working remotely\, and adapting to the future of work. \nAttendees will be able to put their real questions to the speakers and get valuable\, actionable feedback that can be used to plan your organization’s plan for the next 5\, 10\, and 20 years.
URL:https://allwork.space/event/hr-exchange-employee-engagement-and-experience-2/
CATEGORIES:Human Resources,Workplace Wellness
ATTACH;FMTTYPE=image/png:https://allwork.space/wp-content/uploads/2022/03/Employee-Engagement-and-Experience.png
END:VEVENT
BEGIN:VEVENT
DTSTART;VALUE=DATE:20221018
DTEND;VALUE=DATE:20221020
DTSTAMP:20260422T052412
CREATED:20220330T044604Z
LAST-MODIFIED:20220330T044604Z
UID:1010985-1666051200-1666223999@allwork.space
SUMMARY:Digital Workplace Exchange
DESCRIPTION:In the current global climate\, it is potentially more important than ever before\, to enable the continued knowledge-sharing and relationship-building we have previously taken for granted through face-to-face exchanges. \nFor the first time ever\, we will be bringing our Exchanges online and continue to bring cutting-edge learning and quality discussions\, now straight to you in the comfort of your own home!
URL:https://allwork.space/event/digital-workplace-exchange/
LOCATION:TBD\, TBD\, Berlin\, Germany
CATEGORIES:Coworking & Flex Office,Remote & Hybrid Work,Workplace Wellness
ATTACH;FMTTYPE=image/jpeg:https://allwork.space/wp-content/uploads/2022/03/Digital-Workplace-Exchange.jpg
END:VEVENT
BEGIN:VEVENT
DTSTART;VALUE=DATE:20220928
DTEND;VALUE=DATE:20220930
DTSTAMP:20260422T052412
CREATED:20220831T145216Z
LAST-MODIFIED:20220831T164541Z
UID:1015996-1664323200-1664495999@allwork.space
SUMMARY:IBI/Conference Board Health and Productivity Forum
DESCRIPTION:The IBI/Conference Board Health & Productivity Forum will address the more holistic value proposition for health and wellbeing\, and how all the various program components contribute to it and align the interests of employees and employers in a new framework.
URL:https://allwork.space/event/ibi-conference-board-health-and-productivity-forum/
LOCATION:Marriott Marquis Chicago
CATEGORIES:Human Resources,Workplace Wellness
ATTACH;FMTTYPE=image/jpeg:https://allwork.space/wp-content/uploads/2022/08/25.jpg
END:VEVENT
BEGIN:VEVENT
DTSTART;VALUE=DATE:20220928
DTEND;VALUE=DATE:20220929
DTSTAMP:20260422T052412
CREATED:20220831T154837Z
LAST-MODIFIED:20220831T154837Z
UID:1016007-1664323200-1664409599@allwork.space
SUMMARY:Women in FM Annual Conference
DESCRIPTION:IWFM Women in FM invite you to join them in the beautiful\, listed and newly refurbished Council House\, right in the heart of Birmingham’s city centre for an engaging conference where we address this year’s International Women’s Day theme of #Breakingthebias
URL:https://allwork.space/event/women-in-fm-annual-conference/
LOCATION:Council House
CATEGORIES:Workplace Wellness
ATTACH;FMTTYPE=image/jpeg:https://allwork.space/wp-content/uploads/2022/08/IWFM.jpg
END:VEVENT
BEGIN:VEVENT
DTSTART;VALUE=DATE:20220920
DTEND;VALUE=DATE:20220923
DTSTAMP:20260422T052412
CREATED:20220831T160540Z
LAST-MODIFIED:20220831T160540Z
UID:1016020-1663632000-1663891199@allwork.space
SUMMARY:Wellbeing at Work Summit
DESCRIPTION:The three-day festival will attract senior-level HR\, Reward\, Wellness\, Benefit and business leaders from across the region like you\, who want to take their wellbeing and mental health strategies to the next level.
URL:https://allwork.space/event/wellbeing-at-work-summit/
LOCATION:The Shard
CATEGORIES:Human Resources,Workplace Wellness
ATTACH;FMTTYPE=image/jpeg:https://allwork.space/wp-content/uploads/2022/08/wellbeing-at-work-summit.jpg
END:VEVENT
BEGIN:VEVENT
DTSTART;TZID=America/Kentucky/Louisville:20220830T080000
DTEND;TZID=America/Kentucky/Louisville:20220830T170000
DTSTAMP:20260422T052412
CREATED:20220830T180639Z
LAST-MODIFIED:20220830T180639Z
UID:1015955-1661846400-1661878800@allwork.space
SUMMARY:WORKTECH22 X Wellbeing London
DESCRIPTION:WORKTECH22 X Wellbeing London is a unique Conference and Innovations Exhibition focussing on all aspects of Workplace Wellbeing and how it impacts the Future of Work.
URL:https://allwork.space/event/worktech22-x-wellbeing-london/
CATEGORIES:Technology & Innovation,Workplace Wellness
ATTACH;FMTTYPE=image/png:https://allwork.space/wp-content/uploads/2022/08/WORKTECH-London-.png
END:VEVENT
BEGIN:VEVENT
DTSTART;VALUE=DATE:20220712
DTEND;VALUE=DATE:20220713
DTSTAMP:20260422T052412
CREATED:20220330T035712Z
LAST-MODIFIED:20220330T035712Z
UID:1010973-1657584000-1657670399@allwork.space
SUMMARY:HR Exchange: Diversity and Inclusion
DESCRIPTION:FREE-TO-ATTEND\nINTERACTIVE\nONLINE EVENT\n\nTOPICS INCLUDE:\n\n– Developing and Fostering Diverse and Inclusive Leadership\n– Building and Sustaining Management Engagement in DEI Initiatives\n– The Role of Organizational D&I in the Quest for Social Justice\n– Diversity Impact Partners – Building a Meaningful Diversity Infrastructure\n– Challenges and Opportunities for DEI in a Post COVID World
URL:https://allwork.space/event/hr-exchange-diversity-and-inclusion/
CATEGORIES:Human Resources,Workplace Wellness
ATTACH;FMTTYPE=image/jpeg:https://allwork.space/wp-content/uploads/2022/03/diversity-and-inclusion.jpg
END:VEVENT
BEGIN:VEVENT
DTSTART;VALUE=DATE:20220621
DTEND;VALUE=DATE:20220623
DTSTAMP:20260422T052412
CREATED:20211201T201203Z
LAST-MODIFIED:20211210T195545Z
UID:1007269-1655769600-1655942399@allwork.space
SUMMARY:Gartner Digital Workplace Summit
DESCRIPTION:Hybrid work today has given digital workplace leaders a glimpse into the future of work tomorrow. At the crossroads\, the new work patterns we formed in crisis may become our next normal. \nEnabling a workplace that is innovative\, inclusive\, and insightful demands a strategy to adopt and use technology to its full potential.
URL:https://allwork.space/event/gartner-digital-workplace-summit/
LOCATION:Marriott Marquis San Diego Marina\, 333 W Harbor Dr\, San Diego\, 92101\, United States
CATEGORIES:Human Resources,Leadership,Remote & Hybrid Work,Technology & Innovation,Workplace Wellness
ATTACH;FMTTYPE=image/png:https://allwork.space/wp-content/uploads/2021/12/hybrid-work.png
END:VEVENT
BEGIN:VEVENT
DTSTART;VALUE=DATE:20220511
DTEND;VALUE=DATE:20220513
DTSTAMP:20260422T052412
CREATED:20211118T194536Z
LAST-MODIFIED:20211210T200852Z
UID:1006718-1652227200-1652399999@allwork.space
SUMMARY:Digital Nomads World
DESCRIPTION:Digital Nomads World is a live and virtual trade show serving digital nomads\, remote and freelance workers. The conference program will have 2 keynote addresses and 12 seminars\, presented by industry experts. The exhibit hall will contain recruiting firms\, technology\, and service providers as well as destination promoters.
URL:https://allwork.space/event/digital-nomads-world/
LOCATION:Walter E. Washington Convention Center\, 801 Mt Vernon Pl NW\, Washington\, DC 20001\, Washington\, DC\, United States
CATEGORIES:Entrepreneurship,Leadership,Remote & Hybrid Work,Technology & Innovation,Workplace Wellness
ATTACH;FMTTYPE=image/png:https://allwork.space/wp-content/uploads/2021/11/Digital-Nomads-World-DC.png
END:VEVENT
BEGIN:VEVENT
DTSTART;VALUE=DATE:20220426
DTEND;VALUE=DATE:20220428
DTSTAMP:20260422T052412
CREATED:20220211T214731Z
LAST-MODIFIED:20220211T214731Z
UID:1009637-1650931200-1651103999@allwork.space
SUMMARY:HR Exchange: Employee Engagement and Experience
DESCRIPTION:This free online event will help HR professionals approach and align their people strategy\, employee experience\, and digital transformation to create long-term sustainability. \nAttendees will be able to put their real questions to the speakers and get valuable\, actionable feedback that can be used to plan your organization’s plan for the next 5\, 10\, and 20 years.
URL:https://allwork.space/event/hr-exchange-employee-engagement-and-experience/
LOCATION:HR Exchange Network
CATEGORIES:Human Resources,Workplace Design,Workplace Wellness
ATTACH;FMTTYPE=image/png:https://allwork.space/wp-content/uploads/2022/02/HR-Exchange.png
END:VEVENT
BEGIN:VEVENT
DTSTART;VALUE=DATE:20220328
DTEND;VALUE=DATE:20220331
DTSTAMP:20260422T052412
CREATED:20220125T174746Z
LAST-MODIFIED:20220125T224901Z
UID:1009082-1648425600-1648684799@allwork.space
SUMMARY:Future Offices Winter
DESCRIPTION:This years theme\, Changing Opportunities for the Workplace\, focuses on the idea that “One Size\, Shape\, and Location Does Not Fit All” and that it was truly put to the test during the past 18 months. \nOffice real estate changed dramatically as entire cities and regions shut down almost entirely. Work-from-home became the norm for many and changed the way the workplace space is viewed\, whether at home\, an office or a retail location. \nNow as businesses begin to reopen\, new strategies are being put in place to woo workers back in person with safety and wellness\, location considerations\, and new perks and amenities; to accommodate personnel with hybrid models or co-working\, and allow certain positions to continue to work from home. Safety and wellness\, innovative designs\, governance\, human resources support and advanced technology are keys to making these new opportunities work.
URL:https://allwork.space/event/future-offices-winter-2/
LOCATION:TBD\, TBD\, Berlin\, Germany
CATEGORIES:Coworking & Flex Office,Human Resources,Technology & Innovation,Workplace Wellness
ATTACH;FMTTYPE=image/png:https://allwork.space/wp-content/uploads/https://res.cloudinary.com/allwork-space/images/v1643132808/wordpress/Future-Offices-Winter/Future-Offices-Winter.png
END:VEVENT
BEGIN:VEVENT
DTSTART;VALUE=DATE:20220126
DTEND;VALUE=DATE:20220127
DTSTAMP:20260422T052412
CREATED:20211208T233558Z
LAST-MODIFIED:20211210T204920Z
UID:1007658-1643155200-1643241599@allwork.space
SUMMARY:How strong is the connective fabric holding your people together?
DESCRIPTION:The past 18 months have frayed many organizational networks\, putting them at risk of becoming so porous and weak that they start actively constraining employees from achieving their company’s objectives. No matter what the future of work looks like for your organization\, leaders must be more intentional than ever before in how they connect employees. \nThe challenge is managing the multiple different kinds of relationships and patterns of association that turn social networks into enabling forces for propagating culture\, creating and sharing new knowledge\, and increasing cohesion. \nThe good news\, there are a lot of small and manageable interventions we can introduce to rebuild the strength of our organizational networks. \nJoin us to learn what small steps you can take to revitalize your organization’s network.
URL:https://allwork.space/event/how-strong-is-the-connective-fabric-holding-your-people-together/
CATEGORIES:Entrepreneurship,Human Resources,Leadership,Workplace Wellness
ATTACH;FMTTYPE=image/png:https://allwork.space/wp-content/uploads/2021/12/connectivity.png
END:VEVENT
BEGIN:VEVENT
DTSTART;VALUE=DATE:20220117
DTEND;VALUE=DATE:20220118
DTSTAMP:20260422T052412
CREATED:20211203T185434Z
LAST-MODIFIED:20211210T205338Z
UID:1007388-1642377600-1642463999@allwork.space
SUMMARY:NMHC Women's Event
DESCRIPTION:NMHC is planning to hold the 2022 NMHC Women’s Event on Monday\, January 17 from 1:00 pm – 4:30 pm. \nNote: Separate registration is required for each event. \nYou must first register for the Annual Meeting or Apartment Strategies Outlook Conference before registering for the Women’s Event.
URL:https://allwork.space/event/nmhc-womens-event/
LOCATION:Signia by Hilton Orlando Bonnet Creek / Waldorf Astoria\, 14100 Bonnet Creek Resort Ln\, Orlando\, FL\, 32821\, United States
CATEGORIES:Human Resources,Leadership,Workplace Wellness
ATTACH;FMTTYPE=image/png:https://allwork.space/wp-content/uploads/2021/12/Womens-Event-.png
END:VEVENT
BEGIN:VEVENT
DTSTART;VALUE=DATE:20220104
DTEND;VALUE=DATE:20220105
DTSTAMP:20260422T052412
CREATED:20211215T230849Z
LAST-MODIFIED:20211215T230849Z
UID:1007962-1641254400-1641340799@allwork.space
SUMMARY:NYC Entrepreneur's Coworking day
DESCRIPTION:No more working at home alone. Meet fellow entrepreneurs in New York City\, learn from and support each other\, as you build your respective businesses. \nOpen to all founders\, from all backgrounds and industries.
URL:https://allwork.space/event/nyc-entrepreneurs-coworking-day/
LOCATION:TBD (Times Square – NYC)
CATEGORIES:Coworking & Flex Office,Entrepreneurship,Leadership,Workplace Wellness
ATTACH;FMTTYPE=image/png:https://allwork.space/wp-content/uploads/2021/12/NYC-entrepreneurs-day.png
END:VEVENT
BEGIN:VEVENT
DTSTART;TZID=America/Mexico_City:20211201T141500
DTEND;TZID=America/Mexico_City:20211201T150500
DTSTAMP:20260422T052412
CREATED:20211124T171804Z
LAST-MODIFIED:20211130T173436Z
UID:1006985-1638368100-1638371100@allwork.space
SUMMARY:Learn how to transform diversity and inclusion into a driver of growth
DESCRIPTION:Public live-stream from the Coworking Europe Conference: \nThe European Coworking Assembly is part of the IDEA Coworking Project. Together we invite you to our keynote on *How to transform diversity and inclusion into a driver of growth for your community\, your membership\, and your revenue* at Coworking Europe 2021. In collaboration with the conference organisers this keynote will be open to the whole world via a live streamed link.  \nWe’ve gathered ten of the best minds in coworking to share their knowledge and best practices around nurturing a culture of Inclusion\, Diversity\, Equity and Accessibility (IDEA).  \n Find out how to reach out to everybody in your coworking community and generate a sense of belonging across gender\, sex\, age\, race\, sexual orientation\, disability\, or origin. Learn how opening your heart and community can also become a revenue generator for your coworking community and business. \nAlso\, find out more about the IDEA handbook in the making. \nRegister here: https://coworkingidea.org/live-streamed-idea-discussion-2021-at-coworking-europe/ \n  \nPanel: \nMiro Miroslavov from OfficeRnD \nCecilia Tham of Makers of Barcelona \nHector Kolonas from Syncaroo \nAlex Ahom from the European Coworking Assembly \nCarmen Lecuane from Nexudus \nShazia Mustafa from Third Door \nMike LaRosa from Upflex \nPauline Roussel from Coworkies \nNatalie du Toit  from Innocomm \nBertie van Wyk from MillerKnoll \n  \n 
URL:https://allwork.space/event/european-coworking-assembly/
CATEGORIES:Coworking & Flex Office,Human Resources,Leadership,Workplace Wellness
ATTACH;FMTTYPE=image/png:https://allwork.space/wp-content/uploads/2021/11/European-Coworking-Assembly_1006986c1e70.png
END:VEVENT
END:VCALENDAR