BEGIN:VCALENDAR
VERSION:2.0
PRODID:-//Allwork.Space - ECPv6.0.10//NONSGML v1.0//EN
CALSCALE:GREGORIAN
METHOD:PUBLISH
X-ORIGINAL-URL:https://allwork.space
X-WR-CALDESC:Events for Allwork.Space
REFRESH-INTERVAL;VALUE=DURATION:PT1H
X-Robots-Tag:noindex
X-PUBLISHED-TTL:PT1H
BEGIN:VTIMEZONE
TZID:America/Kentucky/Louisville
BEGIN:DAYLIGHT
TZOFFSETFROM:-0500
TZOFFSETTO:-0400
TZNAME:EDT
DTSTART:20180311T070000
END:DAYLIGHT
BEGIN:STANDARD
TZOFFSETFROM:-0400
TZOFFSETTO:-0500
TZNAME:EST
DTSTART:20181104T060000
END:STANDARD
END:VTIMEZONE
BEGIN:VEVENT
DTSTART;VALUE=DATE:20180726
DTEND;VALUE=DATE:20180727
DTSTAMP:20260423T061813
CREATED:20180730T192308Z
LAST-MODIFIED:20180730T192308Z
UID:35561-1532563200-1532649599@allwork.space
SUMMARY:CoworkingNG
DESCRIPTION:The conference will bring together entrepreneurs\, innovators\, service providers\, operators and policy drivers\, to explore the interesting innovations\, key partnerships and trends that is causing the industry’s explosion and value creation across multiple sectors all over the world.
URL:https://allwork.space/event/coworkingng/
LOCATION:Lagos\, Nigeria
ATTACH;FMTTYPE=image/jpeg:https://allwork.space/wp-content/uploads/2018/07/CoworkingNG.jpg
END:VEVENT
END:VCALENDAR