BEGIN:VCALENDAR
VERSION:2.0
PRODID:-//Allwork.Space - ECPv6.0.10//NONSGML v1.0//EN
CALSCALE:GREGORIAN
METHOD:PUBLISH
X-ORIGINAL-URL:https://allwork.space
X-WR-CALDESC:Events for Allwork.Space
REFRESH-INTERVAL;VALUE=DURATION:PT1H
X-Robots-Tag:noindex
X-PUBLISHED-TTL:PT1H
BEGIN:VTIMEZONE
TZID:America/Kentucky/Louisville
BEGIN:DAYLIGHT
TZOFFSETFROM:-0500
TZOFFSETTO:-0400
TZNAME:EDT
DTSTART:20180311T070000
END:DAYLIGHT
BEGIN:STANDARD
TZOFFSETFROM:-0400
TZOFFSETTO:-0500
TZNAME:EST
DTSTART:20181104T060000
END:STANDARD
END:VTIMEZONE
BEGIN:VEVENT
DTSTART;VALUE=DATE:20180814
DTEND;VALUE=DATE:20180820
DTSTAMP:20260423T075649
CREATED:20180730T193415Z
LAST-MODIFIED:20180730T193415Z
UID:35565-1534204800-1534723199@allwork.space
SUMMARY:Freedom X Fest
DESCRIPTION:Freedom X Fest is the first collaboration of its kind\, bringing together leaders of the location-independent lifestyle movement\, entrepreneurs\, and creatives of all kinds. There are talks and hands-on collaborative workshops that teach you how to successfully live and work remotely\, become an entrepreneur\, create alternative models of living\, tap into your creativity\, flexi-work\, and so much more.
URL:https://allwork.space/event/freedom-x-fest/
LOCATION:Puig-arnau Pubilló\, Spain
ATTACH;FMTTYPE=image/png:https://allwork.space/wp-content/uploads/2018/07/Freedom-X-Fest.png
END:VEVENT
BEGIN:VEVENT
DTSTART;VALUE=DATE:20180815
DTEND;VALUE=DATE:20180818
DTSTAMP:20260423T075649
CREATED:20180730T193930Z
LAST-MODIFIED:20180730T193930Z
UID:35569-1534291200-1534550399@allwork.space
SUMMARY:GCUC Australia
DESCRIPTION:“For five years now\, GCUC has marched hand in hand with the coworking movement around the world; we’ve explored everything coworking\, from location and design\, to branding and finance.\nWith top thought-leaders of the industry as speakers and panelists\, together we’ll help you jump on board and dominate the future of work!”
URL:https://allwork.space/event/gcuc-australia/
LOCATION:Sydney
ATTACH;FMTTYPE=image/jpeg:https://allwork.space/wp-content/uploads/2018/07/GCUC-Australia.jpg
END:VEVENT
END:VCALENDAR