BEGIN:VCALENDAR
VERSION:2.0
PRODID:-//Allwork.Space - ECPv6.0.10//NONSGML v1.0//EN
CALSCALE:GREGORIAN
METHOD:PUBLISH
X-ORIGINAL-URL:https://allwork.space
X-WR-CALDESC:Events for Allwork.Space
REFRESH-INTERVAL;VALUE=DURATION:PT1H
X-Robots-Tag:noindex
X-PUBLISHED-TTL:PT1H
BEGIN:VTIMEZONE
TZID:America/Kentucky/Louisville
BEGIN:DAYLIGHT
TZOFFSETFROM:-0500
TZOFFSETTO:-0400
TZNAME:EDT
DTSTART:20190310T070000
END:DAYLIGHT
BEGIN:STANDARD
TZOFFSETFROM:-0400
TZOFFSETTO:-0500
TZNAME:EST
DTSTART:20191103T060000
END:STANDARD
END:VTIMEZONE
BEGIN:VEVENT
DTSTART;VALUE=DATE:20190220
DTEND;VALUE=DATE:20190222
DTSTAMP:20260423T171233
CREATED:20190215T132947Z
LAST-MODIFIED:20190215T132947Z
UID:39617-1550620800-1550793599@allwork.space
SUMMARY:WorkTech 19 Sydney
DESCRIPTION:WORKTECH19 Sydney is the forum for all those involved in the future of work and the workplace as well as real estate\, technology and innovation. Discuss the latest thinking on the growing importance of the workplace as a strategic tool for an organisation’s business return.
URL:https://allwork.space/event/worktech-19-sydney/
LOCATION:International Convention Centre\, Darling Harbour\, Sydney
ATTACH;FMTTYPE=image/png:https://allwork.space/wp-content/uploads/2019/02/Screen-Shot-2019-02-15-at-7.28.00-AM.png
END:VEVENT
END:VCALENDAR