BEGIN:VCALENDAR
VERSION:2.0
PRODID:-//Allwork.Space - ECPv6.0.10//NONSGML v1.0//EN
CALSCALE:GREGORIAN
METHOD:PUBLISH
X-WR-CALNAME:Allwork.Space
X-ORIGINAL-URL:https://allwork.space
X-WR-CALDESC:Events for Allwork.Space
REFRESH-INTERVAL;VALUE=DURATION:PT1H
X-Robots-Tag:noindex
X-PUBLISHED-TTL:PT1H
BEGIN:VTIMEZONE
TZID:America/Kentucky/Louisville
BEGIN:DAYLIGHT
TZOFFSETFROM:-0500
TZOFFSETTO:-0400
TZNAME:EDT
DTSTART:20190310T070000
END:DAYLIGHT
BEGIN:STANDARD
TZOFFSETFROM:-0400
TZOFFSETTO:-0500
TZNAME:EST
DTSTART:20191103T060000
END:STANDARD
END:VTIMEZONE
BEGIN:VEVENT
DTSTART;VALUE=DATE:20190404
DTEND;VALUE=DATE:20190405
DTSTAMP:20260423T202901
CREATED:20190215T133952Z
LAST-MODIFIED:20190215T133952Z
UID:39627-1554336000-1554422399@allwork.space
SUMMARY:WorkTech 19 Tokyo
DESCRIPTION:WORKTECH19 Tokyo is a one-day conference for all those involved in the future of work and the workplace. The event will share cutting edge ideas and explore the latest thinking on the future of work and the workplace from a people\, place and technology perspective. Our global speakers will explore future technologies\, cutting edge award-winning workplaces\, people\, change and engagement.
URL:https://allwork.space/event/worktech-19-tokyo/
ATTACH;FMTTYPE=image/png:https://allwork.space/wp-content/uploads/2019/02/Screen-Shot-2019-02-15-at-7.38.24-AM.png
END:VEVENT
BEGIN:VEVENT
DTSTART;VALUE=DATE:20190409
DTEND;VALUE=DATE:20190415
DTSTAMP:20260423T202901
CREATED:20190311T222837Z
LAST-MODIFIED:20190311T222837Z
UID:40232-1554768000-1555286399@allwork.space
SUMMARY:Workplace 3.0
DESCRIPTION:Workplace3.0 is conceived as an irreplaceable think tank for finding out about and understanding upcoming necessary changes to workspaces. More than just an exhibition\, it is a starting point for stimulating forward-looking ideas capable of catering to a changing market and changing needs.
URL:https://allwork.space/event/workplace-3-0/
LOCATION:Fiera Milano Rho\, Milan\, Italy
ATTACH;FMTTYPE=image/png:https://allwork.space/wp-content/uploads/2019/03/Screen-Shot-2019-03-11-at-4.26.03-PM.png
END:VEVENT
BEGIN:VEVENT
DTSTART;VALUE=DATE:20190410
DTEND;VALUE=DATE:20190411
DTSTAMP:20260423T202901
CREATED:20190311T223124Z
LAST-MODIFIED:20190311T223124Z
UID:40240-1554854400-1554940799@allwork.space
SUMMARY:CRETech Boston: The Future of Real Estate Technology Showcase
DESCRIPTION:CREtech is partnering with MIT Center for Real Estate for our second annual Boston event. The CREtech FUTURE: Boston event will feature four curated technology showcases with scientists and innovators focused on what real estate professionals can expect not tomorrow\, but ten years and beyond. Plus\, attendees will also experience the unmatched networking opportunities that CREtech events are known for.
URL:https://allwork.space/event/cretech-boston-the-future-of-real-estate-technology-showcase/
LOCATION:PTC\, Boston\, United States
ATTACH;FMTTYPE=image/png:https://allwork.space/wp-content/uploads/2019/03/Screen-Shot-2019-03-11-at-4.29.46-PM.png
END:VEVENT
BEGIN:VEVENT
DTSTART;VALUE=DATE:20190416
DTEND;VALUE=DATE:20190417
DTSTAMP:20260423T202901
CREATED:20190215T134156Z
LAST-MODIFIED:20190215T134156Z
UID:39632-1555372800-1555459199@allwork.space
SUMMARY:Technology & Trends 2019
DESCRIPTION:“The Technology & Trends 2019 event is an executive briefing which focuses on the impact of emerging technologies set to reshape enterprise and the workplace.\nExperts will present an analysis on emerging digital workplace technologies\, innovations and technology that will revolutionise work\, work process and the workplace. Join us at Technology & Trends 2019 to find out how these innovations could affect you and your organisation.”
URL:https://allwork.space/event/technology-trends-2019/
ATTACH;FMTTYPE=image/png:https://allwork.space/wp-content/uploads/2019/02/Screen-Shot-2019-02-15-at-7.40.40-AM.png
END:VEVENT
BEGIN:VEVENT
DTSTART;VALUE=DATE:20190424
DTEND;VALUE=DATE:20190425
DTSTAMP:20260423T202901
CREATED:20190408T213302Z
LAST-MODIFIED:20190408T213302Z
UID:40939-1556064000-1556150399@allwork.space
SUMMARY:Coworking Content 101: 13 Ways to Attract Members with Content Marketing
DESCRIPTION:Do you need more members in your coworking community? \nYou can attract your ideal members with content. \nUsing 13 proven content marketing strategies\, you can position your workspace and community as a resource and hub for independent professionals\, freelancers\, remote workers\, startups and more. \nIn this hour-long training\, I’ll show you how. \nWhat You’ll Learn: \n\nWhich types of content will attract your ideal members\nHow to extend your marketing reach into new markets and communities\nHow to establish your space as a go-to resource for your target market\nHow to stand out in crowded markets\nAnd more\n\nWho Should Attend: \n\nCoworking space owners and operators\nCommunity managers\nWorkspace marketing teams\nService providers who want to understand the workspace ecosystem\n\nThe training also includes an Ask Me Anything session where you can ask me anything you want about content marketing\, content strategy\, brand storytelling\, etc. \nSee you there!
URL:https://allwork.space/event/coworking-content-101-13-ways-to-attract-members-with-content-marketing/
ATTACH;FMTTYPE=image/png:https://allwork.space/wp-content/uploads/2019/04/event-cover-1384.png
END:VEVENT
BEGIN:VEVENT
DTSTART;VALUE=DATE:20190424
DTEND;VALUE=DATE:20190426
DTSTAMP:20260423T202901
CREATED:20190328T180749Z
LAST-MODIFIED:20190328T180749Z
UID:40668-1556064000-1556236799@allwork.space
SUMMARY:ISG - Future Workplace Summit (London)
DESCRIPTION:The Future Workplace Summit brings together enterprise users\, industry thought leaders\, workplace innovators and pioneers to spend time exploring and advancing the concepts important to tomorrow’s workforce. \n  \nGet an exclusive 20% discount using code: allwork20
URL:https://allwork.space/event/isg-future-workplace-summit-london/
ATTACH;FMTTYPE=image/png:https://allwork.space/wp-content/uploads/2019/03/FWS-2019-UK-ALLWORK-Banners-v1_370x345_40669315f5.png
END:VEVENT
BEGIN:VEVENT
DTSTART;VALUE=DATE:20190429
DTEND;VALUE=DATE:20190502
DTSTAMP:20260423T202901
CREATED:20190311T225317Z
LAST-MODIFIED:20190311T225317Z
UID:40251-1556496000-1556755199@allwork.space
SUMMARY:Future Offices - Spring
DESCRIPTION:Future Offices is back\, and this time we are bringing our thought leaders and site tours to Austin\, Texas! With an influx of gen z\, millennial leadership\, and still a multi-generational workforce\, corporate real estate and workplace strategies have become a continuum for improvement.  Between lease strategy\, the digital workplace\, health and wellness\, and the coworking disruption\, don’t miss the chance to learn the most pertinent challenges faced by the Fortune 500’s Global Heads of Real Estate\, Facilities\, and Workplace.
URL:https://allwork.space/event/future-offices-spring/
LOCATION:Hyatt Regency\, Austin\, TX\, United States
ATTACH;FMTTYPE=image/png:https://allwork.space/wp-content/uploads/2019/03/Screen-Shot-2019-03-11-at-4.50.15-PM.png
END:VEVENT
END:VCALENDAR