BEGIN:VCALENDAR
VERSION:2.0
PRODID:-//Allwork.Space - ECPv6.0.10//NONSGML v1.0//EN
CALSCALE:GREGORIAN
METHOD:PUBLISH
X-ORIGINAL-URL:https://allwork.space
X-WR-CALDESC:Events for Allwork.Space
REFRESH-INTERVAL;VALUE=DURATION:PT1H
X-Robots-Tag:noindex
X-PUBLISHED-TTL:PT1H
BEGIN:VTIMEZONE
TZID:America/Kentucky/Louisville
BEGIN:DAYLIGHT
TZOFFSETFROM:-0500
TZOFFSETTO:-0400
TZNAME:EDT
DTSTART:20190310T070000
END:DAYLIGHT
BEGIN:STANDARD
TZOFFSETFROM:-0400
TZOFFSETTO:-0500
TZNAME:EST
DTSTART:20191103T060000
END:STANDARD
END:VTIMEZONE
BEGIN:VEVENT
DTSTART;VALUE=DATE:20190605
DTEND;VALUE=DATE:20190606
DTSTAMP:20260423T233900
CREATED:20190312T175613Z
LAST-MODIFIED:20190312T175613Z
UID:40337-1559692800-1559779199@allwork.space
SUMMARY:WELLNESS 19
DESCRIPTION:Wellness 2019 encompasses all aspects of Wellness including Mind\, Body and Spirit and addresses some of the most interesting and challenging subjects such as the stigma of mental health\, taming technology\, nutrition\, design and much more.
URL:https://allwork.space/event/wellness-19/
ATTACH;FMTTYPE=image/png:https://allwork.space/wp-content/uploads/2019/03/Screen-Shot-2019-03-12-at-11.53.28-AM.png
END:VEVENT
BEGIN:VEVENT
DTSTART;VALUE=DATE:20190606
DTEND;VALUE=DATE:20190609
DTSTAMP:20260423T233900
CREATED:20190312T160855Z
LAST-MODIFIED:20190312T160855Z
UID:40302-1559779200-1560038399@allwork.space
SUMMARY:AIA Conference on Architecture - Las Vegas
DESCRIPTION:You’ll leave Las Vegas with actionable insights that will inspire your projects and your practice\, from some of the most creative architects\, designers\, firms\, and futurists. \nA’19 programming includes sessions on artificial intelligence\, data visualization\, 3D concrete printing\, Amazon Spheres\, tall wood\, nano-grid condos\, immigrant architects\, overcoming houselessness\, the latest in WELL design\, the energy-hog myth\, designing border crossings and ports of entry\, zero net energy affordable housing\, new codes and standards\, and architecture tours of local standouts like Frank Gehry’s Lou Ruvo Brain Center\, Seven Magic Mountains\, and the Downtown Container Park. \nDon’t miss it! Join us in Las Vegas June 6–8\, 2019.
URL:https://allwork.space/event/aia-conference-on-architecture-las-vegas/
ATTACH;FMTTYPE=image/png:https://allwork.space/wp-content/uploads/2019/03/Screen-Shot-2019-03-12-at-10.06.32-AM.png
END:VEVENT
BEGIN:VEVENT
DTSTART;VALUE=DATE:20190610
DTEND;VALUE=DATE:20190613
DTSTAMP:20260423T233900
CREATED:20190312T160214Z
LAST-MODIFIED:20190312T160214Z
UID:40292-1560124800-1560383999@allwork.space
SUMMARY:NeoCon
DESCRIPTION:NeoCon marks its 51st edition as the world’s leading platform and most important event of the year for the commercial design industry. \n\n\n With nearly 1 million square feet of exhibition space\, NeoCon will feature game-changing products and services from both leading companies and emerging talent—providing unparalleled access to the latest and most innovative solutions in commercial design.
URL:https://allwork.space/event/neocon/
LOCATION:The Merchandise Mart (theMart)\, Chicago\, IL\, United States
ATTACH;FMTTYPE=image/png:https://allwork.space/wp-content/uploads/2019/03/Screen-Shot-2019-03-12-at-10.01.29-AM.png
END:VEVENT
BEGIN:VEVENT
DTSTART;VALUE=DATE:20190617
DTEND;VALUE=DATE:20190620
DTSTAMP:20260423T233900
CREATED:20190312T160541Z
LAST-MODIFIED:20190312T160541Z
UID:40296-1560729600-1560988799@allwork.space
SUMMARY:Digital Workplace Experience
DESCRIPTION:See inside the world’s most successful digital workplaces. Discover how organizations like GE\, Harvard\, Google\, Sony and Schneider Electric run their digital workplaces.
URL:https://allwork.space/event/digital-workplace-experience/
LOCATION:Radisson Blu Aqua Hotel\, Chicago\, Illinois\, United States
ATTACH;FMTTYPE=image/png:https://allwork.space/wp-content/uploads/2019/03/Screen-Shot-2019-03-12-at-10.05.07-AM.png
END:VEVENT
BEGIN:VEVENT
DTSTART;VALUE=DATE:20190626
DTEND;VALUE=DATE:20190627
DTSTAMP:20260423T233900
CREATED:20190215T135034Z
LAST-MODIFIED:20190215T135034Z
UID:39647-1561507200-1561593599@allwork.space
SUMMARY:WorkTech 19 Munich
DESCRIPTION:WORKTECH19 Munich is the forum for all those involved in the future of work and the workplace as well as real estate\, technology and innovation. Munich will attract some of the biggest and brightest names to debate\, discuss\, and divulge the last thinking on the Future of Work and the Workplace.
URL:https://allwork.space/event/worktech-19-munich/
LOCATION:Microsoft\, Walter-Gropius-Straße 5\, 80807 München\, Germany
ATTACH;FMTTYPE=image/png:https://allwork.space/wp-content/uploads/2019/02/Screen-Shot-2019-02-15-at-7.49.33-AM.png
END:VEVENT
BEGIN:VEVENT
DTSTART;VALUE=DATE:20190629
DTEND;VALUE=DATE:20190701
DTSTAMP:20260423T233900
CREATED:20190611T145719Z
LAST-MODIFIED:20190611T145719Z
UID:42322-1561766400-1561939199@allwork.space
SUMMARY:Running Remote
DESCRIPTION:The World’s Largest Remote Work Conference \nIf you are serious about managing remote teams\, this event is for you. \n\nIf you’re running a remote team or serious about starting one\, this is the conference for you. Running Remote Conference 2019 is carefully curated to teach you next-level\, actionable strategies and tactics you can utilize the very next day to manage & grow your remote team. This is the conference we’ve been trying to find but until now it didn’t exist. Running Remote is the largest event for practical advice from leading CEO’s\, Founders\, and Project Managers who build and manage remote teams. Some of their speakers include Marcie Murray Director of Support Shopify\, Amir Salihefendic Founder of Doist\, Andrew Warner of Mixergy\, Mariano Suarez-Battan CEO of Mural and more. Topics will cover hiring practices\, financial management\, company culture\, collaboration tools and lots more.Get your Seat Now!\n20% exclusive discount with our promo code: allworkspace\n 
URL:https://allwork.space/event/running-remote/
ATTACH;FMTTYPE=image/png:https://allwork.space/wp-content/uploads/2019/06/Screenshot-2019-01-25-at-11.46.34-AM.png
END:VEVENT
END:VCALENDAR