BEGIN:VCALENDAR
VERSION:2.0
PRODID:-//Allwork.Space - ECPv6.0.10//NONSGML v1.0//EN
CALSCALE:GREGORIAN
METHOD:PUBLISH
X-ORIGINAL-URL:https://allwork.space
X-WR-CALDESC:Events for Allwork.Space
REFRESH-INTERVAL;VALUE=DURATION:PT1H
X-Robots-Tag:noindex
X-PUBLISHED-TTL:PT1H
BEGIN:VTIMEZONE
TZID:America/Kentucky/Louisville
BEGIN:DAYLIGHT
TZOFFSETFROM:-0500
TZOFFSETTO:-0400
TZNAME:EDT
DTSTART:20190310T070000
END:DAYLIGHT
BEGIN:STANDARD
TZOFFSETFROM:-0400
TZOFFSETTO:-0500
TZNAME:EST
DTSTART:20191103T060000
END:STANDARD
END:VTIMEZONE
BEGIN:VEVENT
DTSTART;VALUE=DATE:20190909
DTEND;VALUE=DATE:20190912
DTSTAMP:20260424T043428
CREATED:20190710T132257Z
LAST-MODIFIED:20190710T132257Z
UID:43084-1567987200-1568246399@allwork.space
SUMMARY:WorkSpace Connect
DESCRIPTION:Enterprises are looking to provide employees with spaces\, tools\, and roles that fit the revolutions occurring in the worlds of technology\, real estate/facilities\, and people management. Don’t miss the first event to bring together enterprise leaders of these 3 worlds for mutual learning and hands-on experience\, and to share insights on how to develop a coherent strategy. \nEverything at the event is focused on one overriding goal: To help you prepare for the future of digital workspaces that take advantage of innovations in the use of technology and office space.
URL:https://allwork.space/event/workspace-connect/
LOCATION:Dallas\, Texas
ATTACH;FMTTYPE=image/jpeg:https://allwork.space/wp-content/uploads/2019/07/D7L43zGXkAMW3HO.jpeg
END:VEVENT
BEGIN:VEVENT
DTSTART;VALUE=DATE:20190912
DTEND;VALUE=DATE:20190913
DTSTAMP:20260424T043428
CREATED:20190312T161049Z
LAST-MODIFIED:20190312T161049Z
UID:40305-1568246400-1568332799@allwork.space
SUMMARY:Disrupt CRE - San Francisco
DESCRIPTION:Join San Francisco’s top commercial real estate decision makers for an afternoon of educational sessions and talks about the future of real estate technology. The conference explores how technology is changing the business of commercial real estate and dives into how technology implementations are playing out.
URL:https://allwork.space/event/disrupt-cre-san-francisco/
ATTACH;FMTTYPE=image/png:https://allwork.space/wp-content/uploads/2019/03/DisruptCRE_LogoBlackBlue.png
END:VEVENT
BEGIN:VEVENT
DTSTART;VALUE=DATE:20190912
DTEND;VALUE=DATE:20190914
DTSTAMP:20260424T043428
CREATED:20190312T161320Z
LAST-MODIFIED:20190312T161320Z
UID:40307-1568246400-1568419199@allwork.space
SUMMARY:Gartner Digital Workplace Summit 2019 – London\, UK
DESCRIPTION:Drive a Multifaceted Culture: People\, Process and Technology. The digital workplace is where modern technologies and effective strategies meet to enable new work patterns and greater levels of productivity and workforce agility.
URL:https://allwork.space/event/gartner-digital-workplace-summit-2019-london-uk/
ATTACH;FMTTYPE=image/png:https://allwork.space/wp-content/uploads/2019/03/Screen-Shot-2019-03-12-at-10.11.54-AM.png
END:VEVENT
BEGIN:VEVENT
DTSTART;VALUE=DATE:20190917
DTEND;VALUE=DATE:20190918
DTSTAMP:20260424T043428
CREATED:20190215T135320Z
LAST-MODIFIED:20190215T135320Z
UID:39651-1568678400-1568764799@allwork.space
SUMMARY:WorkTech 19 Singapore
DESCRIPTION:WORKTECH19 Singapore is the forum for all those involved in the future of work and the workplace as well as real estate\, technology and innovation.WORKTECH brings innovative ideas and inspiration to the workplace community through inter-disciplinary speakers and learning experience to enhance creativity and move thinking forward.
URL:https://allwork.space/event/worktech-19-singapore/
LOCATION:Holiday Inn Singapore\, Orchard City Centre\, Singapore
ATTACH;FMTTYPE=image/png:https://allwork.space/wp-content/uploads/2019/02/Screen-Shot-2019-02-15-at-7.52.13-AM.png
END:VEVENT
BEGIN:VEVENT
DTSTART;VALUE=DATE:20190919
DTEND;VALUE=DATE:20190921
DTSTAMP:20260424T043428
CREATED:20190312T162056Z
LAST-MODIFIED:20190312T162056Z
UID:40314-1568851200-1569023999@allwork.space
SUMMARY:3rd Annual Future Of Work and Workspace Conference 2019  - Berlin
DESCRIPTION:A unique opportunity to learn how to create diverse environments and balanced design strategies\, showcase company roots through space and integrate latest technologies in company’s work. It is a great platform for learning\, exchanging opinions\, and expanding one’s network enabled by live presentations followed by a dynamic questions & answers sessions as well as panel discussions and workshops with some of the keynote speakers.
URL:https://allwork.space/event/3rd-annual-future-of-work-and-workspace-conference-2019-berlin/
ATTACH;FMTTYPE=image/jpeg:https://allwork.space/wp-content/uploads/2019/03/3RD-Annual-Workspace-e1550067311599-770x415-1.jpg
END:VEVENT
BEGIN:VEVENT
DTSTART;VALUE=DATE:20190923
DTEND;VALUE=DATE:20190925
DTSTAMP:20260424T043428
CREATED:20190215T132308Z
LAST-MODIFIED:20190215T132308Z
UID:39611-1569196800-1569369599@allwork.space
SUMMARY:GCUC United Kingdom
DESCRIPTION:The GCUC experience brings you for jam-packed days of keynotes\, networking\, an “un”conference\, panel sessions\, VIP Dinner\, Awards and a partner showcase worthy of your time. Book your spot and immerse yourself in the future of work.
URL:https://allwork.space/event/gcuc-united-kingdom/
ATTACH;FMTTYPE=image/png:https://allwork.space/wp-content/uploads/2019/02/Screen-Shot-2019-02-15-at-7.21.24-AM.png
END:VEVENT
END:VCALENDAR