BEGIN:VCALENDAR
VERSION:2.0
PRODID:-//Allwork.Space - ECPv6.0.10//NONSGML v1.0//EN
CALSCALE:GREGORIAN
METHOD:PUBLISH
X-ORIGINAL-URL:https://allwork.space
X-WR-CALDESC:Events for Allwork.Space
REFRESH-INTERVAL;VALUE=DURATION:PT1H
X-Robots-Tag:noindex
X-PUBLISHED-TTL:PT1H
BEGIN:VTIMEZONE
TZID:America/Kentucky/Louisville
BEGIN:DAYLIGHT
TZOFFSETFROM:-0500
TZOFFSETTO:-0400
TZNAME:EDT
DTSTART:20190310T070000
END:DAYLIGHT
BEGIN:STANDARD
TZOFFSETFROM:-0400
TZOFFSETTO:-0500
TZNAME:EST
DTSTART:20191103T060000
END:STANDARD
END:VTIMEZONE
BEGIN:VEVENT
DTSTART;VALUE=DATE:20191029
DTEND;VALUE=DATE:20191102
DTSTAMP:20260424T074649
CREATED:20190829T200822Z
LAST-MODIFIED:20190829T200822Z
UID:44367-1572307200-1572652799@allwork.space
SUMMARY:GCUC - Canada
DESCRIPTION:The GCUC Canada experience is made up of four full days of keynotes\, panels\, performances\, workshops\, an Unconference\, networking events\, receptions\, group tours and a fabulous partner showcase. Toronto shines on the global stage – you definitely don’t want to miss this one!
URL:https://allwork.space/event/gcuc-canada-2/
ATTACH;FMTTYPE=image/png:https://allwork.space/wp-content/uploads/2019/08/Screen-Shot-2019-08-29-at-3.07.57-PM.png
END:VEVENT
BEGIN:VEVENT
DTSTART;VALUE=DATE:20191113
DTEND;VALUE=DATE:20191116
DTSTAMP:20260424T074649
CREATED:20190312T163128Z
LAST-MODIFIED:20190312T163128Z
UID:40324-1573603200-1573862399@allwork.space
SUMMARY:Coworking Europe 2019 - Warsaw\, Poland
DESCRIPTION:Coworking Europe is an annual conference featuring the rise of Coworking \nCoworking Europe 2019 will take place in Warsaw\, on November 13-14-15! \n\n\nMore than fifty speakers and panelists will share their thoughts and best practices with an audience made out of coworking space operators\, facility managers\, real estate pundits as well as city councils representatives\, public development agencies\, universities or startup incubator managers.
URL:https://allwork.space/event/coworking-europe-2019-warsaw-poland/
ATTACH;FMTTYPE=image/jpeg:https://allwork.space/wp-content/uploads/2019/03/Coworking-Europe-2019.jpg
END:VEVENT
BEGIN:VEVENT
DTSTART;VALUE=DATE:20191114
DTEND;VALUE=DATE:20191116
DTSTAMP:20260424T074649
CREATED:20190823T195730Z
LAST-MODIFIED:20190823T195730Z
UID:44218-1573689600-1573862399@allwork.space
SUMMARY:ASDINNOVATE - The Future of Work & The Workplace
DESCRIPTION:ASDinnovate is a 2 Day Conference focused on innovation in the PropTech sector. This year’s theme is the Future of Work and The Workplace. \nWith the growth of the PropTech sector and the transformation of the office space\, we are focusing on the challenges of attracting and retaining talent in a distributed and agile workplace. In addition to the incredible line-up of speakers\, this year’s ASDinnovate includes the ASDFair which is the first of it’s kind PropTech career fair and showcase featuring some of the leading employers in PropTech. \nASDinnovate is an incredible 2 Day festival of real estate innovation around the way we work and where we work\, it’s a can’t miss event! \nSecure your ticket today with an exclusive 15% discount from Allwork.Space.
URL:https://allwork.space/event/asdinnovate-the-future-of-work-the-workplace/
ATTACH;FMTTYPE=image/png:https://allwork.space/wp-content/uploads/2019/08/ASDinnovate-New-Flyer.png
END:VEVENT
BEGIN:VEVENT
DTSTART;VALUE=DATE:20191119
DTEND;VALUE=DATE:20191121
DTSTAMP:20260424T074649
CREATED:20191001T194042Z
LAST-MODIFIED:20191001T194042Z
UID:45105-1574121600-1574294399@allwork.space
SUMMARY:GRI Offices 2019 - London
DESCRIPTION:Workspace demand is changing\, the landlord\, occupier relationship is shifting and real estate values need to be adjusted. Join C-level office owners\, operators\, investors\, landlords and flexible\, serviced office visionaries for the launch of GRI Offices Europe 2019.\nPrivate roundtable discussions allow participants to share their market experiences in order to develop strategies on how to create financial and rental sustainability in a world of short term and flexi leases and meet new partners to accelerate ‘own-operate’ strategies. Key themes include\, beyond coworking hype\, valuation\, acquisition and management strategies in the late cycle\, the new roles of landlords\,  risks and opportunities of short term leases and understanding tenant demands. \nQuickly find the right partners\, get actionable business intelligence and build new high value relationships!
URL:https://allwork.space/event/gri-offices-2019-london/
ATTACH;FMTTYPE=image/jpeg:https://allwork.space/wp-content/uploads/2019/10/EFZXZOTXUAERQJ7.jpeg
END:VEVENT
END:VCALENDAR