BEGIN:VCALENDAR
VERSION:2.0
PRODID:-//Allwork.Space - ECPv6.0.10//NONSGML v1.0//EN
CALSCALE:GREGORIAN
METHOD:PUBLISH
X-WR-CALNAME:Allwork.Space
X-ORIGINAL-URL:https://allwork.space
X-WR-CALDESC:Events for Allwork.Space
REFRESH-INTERVAL;VALUE=DURATION:PT1H
X-Robots-Tag:noindex
X-PUBLISHED-TTL:PT1H
BEGIN:VTIMEZONE
TZID:America/Kentucky/Louisville
BEGIN:DAYLIGHT
TZOFFSETFROM:-0500
TZOFFSETTO:-0400
TZNAME:EDT
DTSTART:20200308T070000
END:DAYLIGHT
BEGIN:STANDARD
TZOFFSETFROM:-0400
TZOFFSETTO:-0500
TZNAME:EST
DTSTART:20201101T060000
END:STANDARD
END:VTIMEZONE
BEGIN:VEVENT
DTSTART;VALUE=DATE:20200401
DTEND;VALUE=DATE:20200402
DTSTAMP:20260424T184829
CREATED:20200228T165445Z
LAST-MODIFIED:20200228T165445Z
UID:49292-1585699200-1585785599@allwork.space
SUMMARY:GCUC UK (Manchester)
DESCRIPTION:Get inspired\, meet influential people and shape the future of work.\n\nThe GCUC experience brings you an unrivalled insight on the coworking and flexible workspace sector\, through keynotes\, networking and panel sessions\, VIP Dinner\, Awards and a partner showcase worthy of your time.\nIn 2020 we are coming to Manchester on 1st April and return to London for our 3rd conference on 30th Sep – 1st October
URL:https://allwork.space/event/gcuc-uk-manchester/
LOCATION:Manchester
ATTACH;FMTTYPE=image/png:https://allwork.space/wp-content/uploads/2020/02/2.png
END:VEVENT
BEGIN:VEVENT
DTSTART;VALUE=DATE:20200401
DTEND;VALUE=DATE:20200403
DTSTAMP:20260424T184829
CREATED:20200117T191135Z
LAST-MODIFIED:20200117T191135Z
UID:48092-1585699200-1585871999@allwork.space
SUMMARY:Innov8 Work - Future of Work Conference (Israel)
DESCRIPTION:As technology and cultural changes are transforming the way we work\, we’re all facing some crucial questions. For example: in this candidate-driven market\, how to recruit and develop top talent? What will the future company look like? What jobs will we lose to machines? How can we work efficiently with freelancers? How can we design for innovation in large corporations? \nInnov8 Work is a new conference with a mission to bring together startups & leaders of HR\, coworking\, the gig economy & corporate innovation for a chance to connect\, learn\, and help each other be more successful.
URL:https://allwork.space/event/innov8-work-future-of-work-conference-israel/
LOCATION:Israel
ATTACH;FMTTYPE=image/png:https://allwork.space/wp-content/uploads/2020/01/Screen-Shot-2020-01-17-at-1.10.25-PM.png
END:VEVENT
BEGIN:VEVENT
DTSTART;VALUE=DATE:20200420
DTEND;VALUE=DATE:20200422
DTSTAMP:20260424T184829
CREATED:20191002T172330Z
LAST-MODIFIED:20191002T172330Z
UID:45124-1587340800-1587513599@allwork.space
SUMMARY:Running Remote - Austin USA
DESCRIPTION:Learn to Build & Scale Your Remote Team: Running Remote Conference 2020 \n20-21 April 2020\, Etter-Harbin Alumni center\, Austin\, USA \nIf you are serious about managing remote teams\, this event is for you. The third consecutive Running Remote conference is carefully curated to teach you next-level\, actionable strategies and tactics you can utilize the very next day to manage and grow your distributed team. \nThis year’s speaker lineup includes one of the pioneers of the digital nomad movement – Wade Foster\, CEO of Zapier\, John Eckman\, CEO of 10up\, and Sara Sutton\, Founder of FlexJobs & Remote.co \nRunning Remote 2019 had 26 speakers\, 20 sponsors\, 80 partners and 418 attendees from 46 countries. 57% of attendees were CEO’s/Founders/VP’s coming primarily from SaaS\, consulting\, web & app development\, and e-commerce. \nGet an Early Bird Ticket today only at $599!
URL:https://allwork.space/event/running-remote-austin-usa/
ATTACH;FMTTYPE=image/jpeg:https://allwork.space/wp-content/uploads/2019/10/71137439_1005224146475723_1024107395221028864_o.jpg
END:VEVENT
BEGIN:VEVENT
DTSTART;VALUE=DATE:20200420
DTEND;VALUE=DATE:20200424
DTSTAMP:20260424T184829
CREATED:20200117T174257Z
LAST-MODIFIED:20200117T174257Z
UID:48036-1587340800-1587686399@allwork.space
SUMMARY:GCUC USA Coworking Conference 2020 (Seattle)
DESCRIPTION:The Global Coworking Unconference Conference (GCUC\, pronounced “juicy”) is the largest coworking conference series in the world. \nSince 2011\, GCUC has brought together more than 7\,000 game-changers from around the globe. We’ve hosted 24 conferences internationally (and counting). We’re experiencing unparalleled growth\, just like the coworking industry itself. Spoiler alert: we don’t intend to slow down\, much less stop. \nThe “GCUC experience” goes like this: three exhilarating days full of keynotes\, networking\, an “un”conference (trust us on this one)\, panel sessions\, group dinners and a fabulous partner showcase. The crowd is a diverse group of people who’ve come from far and wide. We often hear that GCUC is unlike any other conference our attendees have experienced. That’s our secret recipe working its magic on the corporate executives\, entrepreneurs\, designers\, coworking space owners\, real estate visionaries and industry enthusiasts who converge to talk about ideas and insights\, big and small\, as we build the future of work together.
URL:https://allwork.space/event/gcuc-usa-coworking-conference-2020-seattle/
LOCATION:Seattle
ATTACH;FMTTYPE=image/png:https://allwork.space/wp-content/uploads/2020/01/Screen-Shot-2020-01-17-at-11.43.05-AM.png
END:VEVENT
BEGIN:VEVENT
DTSTART;VALUE=DATE:20200423
DTEND;VALUE=DATE:20200425
DTSTAMP:20260424T184829
CREATED:20200117T174530Z
LAST-MODIFIED:20200117T174530Z
UID:48040-1587600000-1587772799@allwork.space
SUMMARY:ChileCowork 2020
DESCRIPTION:ChileCowork 2020 is the 14th meeting of niche entrepreneurs. This year it takes place at WE.DO Cowork collaborative workspace. Participate in the gathering\, where you will see great exponents of coworking in Chile\, which will present themes related to entrepreneurship and coworking\, as well as participating in conversation panels. If you are looking for an opportunity to expand your knowledge and find inspiration for the development of your cowork\, this conference is the key.
URL:https://allwork.space/event/chilecowork-2020/
LOCATION:Rancagua\, Chile
ATTACH;FMTTYPE=image/png:https://allwork.space/wp-content/uploads/2020/01/chile-cowork-marca-1-2550x2671-1.png
END:VEVENT
END:VCALENDAR