BEGIN:VCALENDAR
VERSION:2.0
PRODID:-//Allwork.Space - ECPv6.0.10//NONSGML v1.0//EN
CALSCALE:GREGORIAN
METHOD:PUBLISH
X-WR-CALNAME:Allwork.Space
X-ORIGINAL-URL:https://allwork.space
X-WR-CALDESC:Events for Allwork.Space
REFRESH-INTERVAL;VALUE=DURATION:PT1H
X-Robots-Tag:noindex
X-PUBLISHED-TTL:PT1H
BEGIN:VTIMEZONE
TZID:America/Kentucky/Louisville
BEGIN:DAYLIGHT
TZOFFSETFROM:-0500
TZOFFSETTO:-0400
TZNAME:EDT
DTSTART:20200308T070000
END:DAYLIGHT
BEGIN:STANDARD
TZOFFSETFROM:-0400
TZOFFSETTO:-0500
TZNAME:EST
DTSTART:20201101T060000
END:STANDARD
END:VTIMEZONE
BEGIN:VEVENT
DTSTART;VALUE=DATE:20200527
DTEND;VALUE=DATE:20200528
DTSTAMP:20260424T202917
CREATED:20200507T060828Z
LAST-MODIFIED:20200507T060828Z
UID:51088-1590537600-1590623999@allwork.space
SUMMARY:Coworking Symposium 2020 (Virtual)
DESCRIPTION:Book your free virtual seat to the 2020 Coworking Symposium happening in May \nMay 27th 2020\, sees an exciting admission-free event hitting the digital airwaves. The  Coworking Symposium will be hosted by an impressive speaker line-up. \nOriginally in the form of a half day conference in Prague\, this gathering has now been pivoted to be a purely digital assembly\, in light of the recent Covid-19 restrictions. Taking on this format means the reach is far greater than first anticipated\, making it a truly inclusive and worldwide event. \nCoworking Symposium 2020 will focus on recent and emerging trends in the coworking industry. There is a widening gap between workspace researchers and coworking industry experts that would need to be patched due to the swift hybridisation of contemporary coworking environments. Coworking Symposium will\, therefore\, bring some of the key minds of both worlds to open a discussion on developmental trends\, investment opportunities and future collaborative workplace movements. \n“This is the ideal opportunity for industry masters and coworking members to network and to answer those burning questions – especially now when as an industry we need to come together to navigate ‘the new normal.’” says Marko Orel\, organiser of the event.
URL:https://allwork.space/event/coworking-symposium-2020-virtual/
ATTACH;FMTTYPE=image/jpeg:https://allwork.space/wp-content/uploads/2020/05/EXROtEzXYAA23cM.jpeg
END:VEVENT
END:VCALENDAR