BEGIN:VCALENDAR
VERSION:2.0
PRODID:-//Allwork.Space - ECPv6.0.10//NONSGML v1.0//EN
CALSCALE:GREGORIAN
METHOD:PUBLISH
X-WR-CALNAME:Allwork.Space
X-ORIGINAL-URL:https://allwork.space
X-WR-CALDESC:Events for Allwork.Space
REFRESH-INTERVAL;VALUE=DURATION:PT1H
X-Robots-Tag:noindex
X-PUBLISHED-TTL:PT1H
BEGIN:VTIMEZONE
TZID:America/Kentucky/Louisville
BEGIN:DAYLIGHT
TZOFFSETFROM:-0500
TZOFFSETTO:-0400
TZNAME:EDT
DTSTART:20200308T070000
END:DAYLIGHT
BEGIN:STANDARD
TZOFFSETFROM:-0400
TZOFFSETTO:-0500
TZNAME:EST
DTSTART:20201101T060000
END:STANDARD
END:VTIMEZONE
BEGIN:VEVENT
DTSTART;VALUE=DATE:20201208
DTEND;VALUE=DATE:20201210
DTSTAMP:20260425T090811
CREATED:20200913T205052Z
LAST-MODIFIED:20200913T205052Z
UID:67838-1607385600-1607558399@allwork.space
SUMMARY:Global Workspace Association (GWA) Fall Virtual Conference
DESCRIPTION:The GWA Conference is the premier event hosting the most inclusive and sophisticated conversations around the future of flexible office. Each year\, The GWA Conference brings together a cross-section of workspace innovators to glimpse into the future\, share best practices\, build relationships\, and get inspired.
URL:https://allwork.space/event/global-workspace-association-gwa-fall-virtual-conference/
ATTACH;FMTTYPE=image/png:https://allwork.space/wp-content/uploads/2020/09/GWAConferenceBanner_Allwork_.png
END:VEVENT
END:VCALENDAR