BEGIN:VCALENDAR
VERSION:2.0
PRODID:-//Allwork.Space - ECPv6.0.10//NONSGML v1.0//EN
CALSCALE:GREGORIAN
METHOD:PUBLISH
X-ORIGINAL-URL:https://allwork.space
X-WR-CALDESC:Events for Allwork.Space
REFRESH-INTERVAL;VALUE=DURATION:PT1H
X-Robots-Tag:noindex
X-PUBLISHED-TTL:PT1H
BEGIN:VTIMEZONE
TZID:America/Kentucky/Louisville
BEGIN:DAYLIGHT
TZOFFSETFROM:-0500
TZOFFSETTO:-0400
TZNAME:EDT
DTSTART:20210314T070000
END:DAYLIGHT
BEGIN:STANDARD
TZOFFSETFROM:-0400
TZOFFSETTO:-0500
TZNAME:EST
DTSTART:20211107T060000
END:STANDARD
END:VTIMEZONE
BEGIN:VEVENT
DTSTART;VALUE=DATE:20210208
DTEND;VALUE=DATE:20210209
DTSTAMP:20260425T121304
CREATED:20210109T231410Z
LAST-MODIFIED:20210109T231410Z
UID:71649-1612742400-1612828799@allwork.space
SUMMARY:GCUC's Designing for Member Reentry - Canada
DESCRIPTION:As we enter 2021\, people are ready to return to “the office” but for many the office is gone. Coworking and flexspace is the wave of the future as the choice of workplace location turns to the employee.\nThis five part regional series is designed to walk you through processes to acquire members\, grow your community and boost sales. \nWe will discuss:  \n\nacquisition campaigns (for members who have left your space)\nreengaging former leads\nattracting the new WFH (work from home) crowd\npositioning your space to be a contender for corporate clients looking to place remote workforces\nconnecting and engaging with your local community\nsetting yourself up for success and harnessing the opportunities that are headed your way\n\nAt the end of the quarter we will bring the industry together to host a global roundtable on reentry best practices. \nMore info here
URL:https://allwork.space/event/gcucs-designing-for-member-reentry-canada/
ATTACH;FMTTYPE=image/png:https://allwork.space/wp-content/uploads/2021/01/EVENT-IMAGES-ALLWORK.png
END:VEVENT
BEGIN:VEVENT
DTSTART;VALUE=DATE:20210218
DTEND;VALUE=DATE:20210219
DTSTAMP:20260425T121304
CREATED:20210211T194922Z
LAST-MODIFIED:20210211T194922Z
UID:72954-1613606400-1613692799@allwork.space
SUMMARY:GCUC ONLINE: HR Implications of the COVID-19 Vaccine
DESCRIPTION:First inoculations of the COVID-19 vaccine were recently distributed among healthcare workers and you\, like many business leaders\, may be planning to evaluate your vaccine policy and the practical implications of policy rollout. \nJoin Jackie Breslin\, Director HR Compliance Services TriNet\, as she takes a deeper dive into what businesses need to know to keep up with the changing HR landscape in 2021 and beyond. \nWe will address some of the hard questions like: \nCan you require your employees to get the vaccines?\nWhat are the legal implications of that policy?\nIs it legal to require your members to show proof of vaccination to access the space?\nCan you disclose to the community which members are vaccinated vs not?\nCan you designate rooms for unvaccinated members? \nWe will have a brief presentation and then open it up to Q&A!
URL:https://allwork.space/event/gcuc-online-hr-implications-of-the-covid-19-vaccine/
ATTACH;FMTTYPE=image/png:https://allwork.space/wp-content/uploads/2021/02/EVENT-IMAGES-ALLWORK-4.png
END:VEVENT
BEGIN:VEVENT
DTSTART;VALUE=DATE:20210222
DTEND;VALUE=DATE:20210223
DTSTAMP:20260425T121304
CREATED:20210223T231814Z
LAST-MODIFIED:20210223T231814Z
UID:71653-1613952000-1614038399@allwork.space
SUMMARY:GCUC's Designing for Member Reentry - United Kingdom
DESCRIPTION:As we enter 2021\, people are ready to return to “the office” but for many the office is gone. Coworking and flexspace is the wave of the future as the choice of workplace location turns to the employee.\nThis five part regional series is designed to walk you through processes to acquire members\, grow your community and boost sales. \nWe will discuss:  \n\nacquisition campaigns (for members who have left your space)\nreengaging former leads\nattracting the new WFH (work from home) crowd\npositioning your space to be a contender for corporate clients looking to place remote workforces\nconnecting and engaging with your local community\nsetting yourself up for success and harnessing the opportunities that are headed your way\n\nAt the end of the quarter we will bring the industry together to host a global roundtable on reentry best practices. \nMore info here
URL:https://allwork.space/event/gcucs-designing-for-member-reentry-united-kingdom/
ATTACH;FMTTYPE=image/png:https://allwork.space/wp-content/uploads/2021/01/EVENT-IMAGES-ALLWORK.png
END:VEVENT
BEGIN:VEVENT
DTSTART;VALUE=DATE:20210223
DTEND;VALUE=DATE:20210226
DTSTAMP:20260425T121304
CREATED:20210202T180430Z
LAST-MODIFIED:20210202T180430Z
UID:72561-1614038400-1614297599@allwork.space
SUMMARY:HR and Future of Work LIVE (3rd edition)
DESCRIPTION:The Future of Work is here. Things like remote work\, flexible work hours\, learning being integrated into the work experience and upskilling are all happening before our eyes. Now\, the Future of Work discussion must shift once again to figure out how to evolve the employee experience further and help humans integrate with technology in ways that will drive efficiency and the growth of new skills. Roles are changing\, demands on the workforce are shifting and HR will be at the forefront of what the future of work looks like. Registering and attending this FREE ONLINE event will provide you real strategies for preparing your company and your employees now for the challenges that lay ahead. Challenges such as predicting the skills of the future\, strengthening and sustaining the workforce through new digital technologies and fostering a cohesive corporate structure.  Attendees will also be able to put their real questions to the speakers and get valuable\, actionable feedback that can be used to plan your organization’s plan for the next 5\, 10 and 20 years. More info here. \nHR and Future of Work is scheduled to start at 11a EST daily.\n\n\n\n100% Online | No travel Required  | Free to Participate | Earn SHRM Credits
URL:https://allwork.space/event/hr-and-future-of-work-live-3rd-edition/
ATTACH;FMTTYPE=image/png:https://allwork.space/wp-content/uploads/2021/02/EVENT-IMAGES-ALLWORK_72562ba203.png
END:VEVENT
BEGIN:VEVENT
DTSTART;VALUE=DATE:20210224
DTEND;VALUE=DATE:20210225
DTSTAMP:20260425T121304
CREATED:20210220T145608Z
LAST-MODIFIED:20210220T145608Z
UID:73260-1614124800-1614211199@allwork.space
SUMMARY:essensys & GWA webinar - Future-Proofing and De-Risking Your Flex Office Operation
DESCRIPTION:Industry experts come together to discuss critical components to enabling flexibility across an office portfolio. Understand the blind spots when it comes to management agreements\, technology and the occupier experience in a post-Covid office market where the spotlight is on flexible workspace.
URL:https://allwork.space/event/essensys-gwa-webinar-future-proofing-and-de-risking-your-flex-office-operation/
ATTACH;FMTTYPE=image/png:https://allwork.space/wp-content/uploads/2021/02/c2b6b36b-505e-4528-97d6-68d489ca6f7e.png
END:VEVENT
BEGIN:VEVENT
DTSTART;VALUE=DATE:20210225
DTEND;VALUE=DATE:20210226
DTSTAMP:20260425T121304
CREATED:20210204T010732Z
LAST-MODIFIED:20210204T010732Z
UID:72668-1614211200-1614297599@allwork.space
SUMMARY:technologywithin Webinar: How To Manage a Succesful Workspace
DESCRIPTION:Join Richard and Chris from technologywithin to find out more about how twiinworkspace can help your workspace.\nFeb 25\, 2021 11:00 AM London Time
URL:https://allwork.space/event/technologywithin-webinar-how-to-manage-a-succesful-workspace/
ATTACH;FMTTYPE=image/png:https://allwork.space/wp-content/uploads/2021/02/twiinworkspace-feb-21-newsletter.png
END:VEVENT
BEGIN:VEVENT
DTSTART;VALUE=DATE:20210226
DTEND;VALUE=DATE:20210227
DTSTAMP:20260425T121304
CREATED:20210202T181141Z
LAST-MODIFIED:20210202T181141Z
UID:72567-1614297600-1614383999@allwork.space
SUMMARY:Coworking Convos: Using Clubhouse to Promote Your Coworking Space
DESCRIPTION:Can Clubhouse be used to promote your coworking space? \nLet’s chat about it. \nJoin for a free\, informal\, community conversation with fellow workspace operators and coworking pros. \nThe Convo will be moderated by coworking storyteller and content strategist Cat Johnson. \nWe’ll kick things off with tips and insights from a panel of workspace operators. Then we’ll open the conversation to the community to share questions\, ideas and resources. \nWho should attend? \n\nWorkspace operators\nCommunity managers\nCoworking space marketing teams\n\nWhat should you bring? \n\nIdeas\, insights and strategies\nQuestions for other workspace operators\nA spirit of collaboration and cooperation\n\nREGISTER HERE TO JOIN THE CONVO
URL:https://allwork.space/event/coworking-convos-using-clubhouse-to-promote-your-coworking-space/
ATTACH;FMTTYPE=image/png:https://allwork.space/wp-content/uploads/2020/02/Convos_Square.png
END:VEVENT
END:VCALENDAR