BEGIN:VCALENDAR
VERSION:2.0
PRODID:-//Allwork.Space - ECPv6.0.10//NONSGML v1.0//EN
CALSCALE:GREGORIAN
METHOD:PUBLISH
X-WR-CALNAME:Allwork.Space
X-ORIGINAL-URL:https://allwork.space
X-WR-CALDESC:Events for Allwork.Space
REFRESH-INTERVAL;VALUE=DURATION:PT1H
X-Robots-Tag:noindex
X-PUBLISHED-TTL:PT1H
BEGIN:VTIMEZONE
TZID:America/Kentucky/Louisville
BEGIN:DAYLIGHT
TZOFFSETFROM:-0500
TZOFFSETTO:-0400
TZNAME:EDT
DTSTART:20210314T070000
END:DAYLIGHT
BEGIN:STANDARD
TZOFFSETFROM:-0400
TZOFFSETTO:-0500
TZNAME:EST
DTSTART:20211107T060000
END:STANDARD
END:VTIMEZONE
BEGIN:VEVENT
DTSTART;VALUE=DATE:20210504
DTEND;VALUE=DATE:20210528
DTSTAMP:20260425T181722
CREATED:20210331T151902Z
LAST-MODIFIED:20210331T151902Z
UID:74695-1620086400-1622159999@allwork.space
SUMMARY:Coworking Spain Conference
DESCRIPTION:The most important coworking event in Spain. 8 days of online meetings with the whole Coworking family \nThe most important speakers in the coworking industry\, flex offices and the future of work. \nUse our exclusive discount code: cwsc_loves_allwork
URL:https://allwork.space/event/coworking-spain-conference/
ATTACH;FMTTYPE=image/jpeg:https://allwork.space/wp-content/uploads/2021/03/BANNER-800X800-CWSC-MULTI.jpg
END:VEVENT
BEGIN:VEVENT
DTSTART;VALUE=DATE:20210513
DTEND;VALUE=DATE:20210514
DTSTAMP:20260425T181722
CREATED:20210420T135728Z
LAST-MODIFIED:20210420T135728Z
UID:75546-1620864000-1620950399@allwork.space
SUMMARY:Industrial & Office National Outlook - Spring 2021 - Yardi Webinar
DESCRIPTION:The pandemic has impacted the industrial and office industries in very different ways. The industrial sector has been performing exceptionally well with the growth in e-commerce\, and demand is expected to maintain its momentum. The office industry\, on the other hand\, has been severely impacted by most office-using employees still working remotely\, and the future of work is still largely in question. \nJoin industry experts Jeff Adler and Peter Kolaczynski as they offer insight into key industry topics\, including: \n• Demand for industrial space as consumption starts to move back to services from goods\n• Industrial supply forecast given constraints to build\n• Operating fundamentals for both industrial and office properties\n• Sensitivity analysis on the future of work and its impact on office utilization in urban cores and gateway markets
URL:https://allwork.space/event/industrial-office-national-outlook-spring-2021-yardi-webinar/
ATTACH;FMTTYPE=image/png:https://allwork.space/wp-content/uploads/2021/04/Screen-Shot-2021-04-20-at-8.43.19-AM.png
END:VEVENT
BEGIN:VEVENT
DTSTART;VALUE=DATE:20210514
DTEND;VALUE=DATE:20210515
DTSTAMP:20260425T181723
CREATED:20210505T133808Z
LAST-MODIFIED:20250212T183135Z
UID:76132-1620950400-1621036799@allwork.space
SUMMARY:All Good Work Foundation: Information Session For Flexible Workspaces
DESCRIPTION:Learn how the All Good Foundation and Upflex have partnered to make donating space to local nonprofits\, and how it helps your community and your flexible workspace business.
URL:https://allwork.space/event/all-good-work-foundation-information-session-for-flexible-workspaces/
ATTACH;FMTTYPE=image/jpeg:https://allwork.space/wp-content/uploads/2021/05/Screen-Shot-2021-05-05-at-8.37.21-AM.jpg
END:VEVENT
BEGIN:VEVENT
DTSTART;VALUE=DATE:20210520
DTEND;VALUE=DATE:20210521
DTSTAMP:20260425T181723
CREATED:20210428T130528Z
LAST-MODIFIED:20210428T130528Z
UID:75854-1621468800-1621555199@allwork.space
SUMMARY:Future-proof your building and increase its marketability (technologywithin webinar)
DESCRIPTION:Join the team at technologywithin and a special guest from McKay Securities to discover how best to future proof your building and increase its marketability. Our recent webinar examining the concept of Greyspace and the opportunities if offers the Flexspace sector sparked a great deal of interest from landlords and tenants alike\, looking for help and expertise to help them repackage and remarket the vacant portions of their real estate portfolio. This session looks to offer the technical advice to support more flexible commercial models and explain how that will pay returns in the long term. A valuable way to spend 45 minutes.
URL:https://allwork.space/event/future-proof-your-building-and-increase-its-marketability-technologywithin-webinar/
ATTACH;FMTTYPE=image/png:https://allwork.space/wp-content/uploads/2021/04/tw-twiindata-landlord-webinar-newsletter.png
END:VEVENT
BEGIN:VEVENT
DTSTART;VALUE=DATE:20210521
DTEND;VALUE=DATE:20210522
DTSTAMP:20260425T181723
CREATED:20210202T202054Z
LAST-MODIFIED:20210202T202054Z
UID:72595-1621555200-1621641599@allwork.space
SUMMARY:Running Remote 2021
DESCRIPTION:Running Remote events are carefully curated to teach you next-level\, actionable strategies and tactics you can utilize the very next day to manage & grow your remote team. \nWhether you run a remote-first company or a remote team within a hybrid or traditional company\, our events are for you. You will get equipped with the tools to succeed in building remote teams. Get inspired\, sharpen your skills and energize your creativity with insights from experts leading the remote work revolution. \n20%-off promo code – allworkspace\n 
URL:https://allwork.space/event/running-remote-2021/
ATTACH;FMTTYPE=image/png:https://allwork.space/wp-content/uploads/2021/02/EVENT-IMAGES-ALLWORK-2_72596f0fe3.png
END:VEVENT
BEGIN:VEVENT
DTSTART;VALUE=DATE:20210527
DTEND;VALUE=DATE:20210528
DTSTAMP:20260425T181723
CREATED:20210505T133003Z
LAST-MODIFIED:20210505T133003Z
UID:76129-1622073600-1622159999@allwork.space
SUMMARY:Neighbourhood Coworking Space: Fact or Fiction?
DESCRIPTION:Is the next golden age of Coworking happening now? \nWe’ve seen everyone boot the commute since March 2020 when COVID and Lockdown hit the UK. \nEvery week we hear a new story about the future of work\, the new normal and back to work… \nBut what is really happening to coworking and the shared workspace industry? \nThere is a lot of press and PR generated by companies and events who are heavily invested in us going ‘back to the office’ mainly because they own those offices. \nJoin our next London Coworking Assembly conversation about the rising neighbourhood and work near home movement.
URL:https://allwork.space/event/neighbourhood-coworking-space-fact-or-fiction/
ATTACH;FMTTYPE=image/jpeg:https://allwork.space/wp-content/uploads/2021/05/Image-A.jpeg
END:VEVENT
BEGIN:VEVENT
DTSTART;VALUE=DATE:20210527
DTEND;VALUE=DATE:20210528
DTSTAMP:20260425T181723
CREATED:20210517T151647Z
LAST-MODIFIED:20210517T151647Z
UID:76541-1622073600-1622159999@allwork.space
SUMMARY:Future of Digital Customer Experience
DESCRIPTION:Future of Digital Customer Experience Summit for businesses is a 2-day networking event with revolutionary keynotes\, case studies\, and panels. It brings together experts from the field of Technology\, Marketing\, Automation\, AI\, Innovation\, and Services to discuss how Digital Transformation is impacting the Future of Customer Experience. A one of a kind forum to benchmark\, gain subject matter expertise & business intelligence by collaborating with Industry Leaders from the field of Engineering\, Retail\, Technology\, Big Data\, Digitalisation\, Information Security\, and more! \nAccording to a report by Internet Retailing\, 69% of customers need a personalized experience whereas less than 50% of brands can deliver the same. The need to become proactive in utilizing customer data is becoming the need of the hour for businesses to render a personalized Customer Experience.\nThe most significant change in the digital landscape remains the need to enhance the customer experience throughout all the channels and 24/7 in a week. \nGroup Futurista has organized a ‘Future of Digital Customer Experience Summit’ webinar with some of the leading experts in the industry to gain valuable insights on the subject. Join us for the webinar and don’t forget to save yourself a seat.
URL:https://allwork.space/event/future-of-digital-customer-experience/
ATTACH;FMTTYPE=image/jpeg:https://allwork.space/wp-content/uploads/2021/05/Banner.jpeg
END:VEVENT
BEGIN:VEVENT
DTSTART;VALUE=DATE:20210528
DTEND;VALUE=DATE:20210529
DTSTAMP:20260425T181723
CREATED:20210505T132217Z
LAST-MODIFIED:20210505T132217Z
UID:76127-1622160000-1622246399@allwork.space
SUMMARY:Coworking Convo: Mental Wellness and Coworking
DESCRIPTION:How do you facilitate mental wellness in a coworking space? \nLet’s chat about it. \nJoin us for a free\, informal\, community conversation with fellow workspace operators and coworking pros. \nThe Convo will be moderated by content strategist and creator Cat Johnson. \nWe’ll kick things off with tips and insights from several workspace operators. Then we’ll open the conversation to the community to share questions\, ideas and resources. \nWho should attend? \n\nWorkspace operators\nCommunity managers\nCoworking space marketing teams\n\nWhat should you bring? \n\nIdeas\, insights and strategies\nQuestions for other workspace operators\nA spirit of collaboration and cooperation\n\nOnce you register\, you’ll receive a Zoom link to participate in the conversation. \nREGISTER HERE TO JOIN THE CONVO
URL:https://allwork.space/event/coworking-convo-mental-wellness-and-coworking/
ATTACH;FMTTYPE=image/jpeg:https://allwork.space/wp-content/uploads/2021/03/AWS-CC-Ad2-logo-updated.jpg
END:VEVENT
END:VCALENDAR