BEGIN:VCALENDAR
VERSION:2.0
PRODID:-//Allwork.Space - ECPv6.0.10//NONSGML v1.0//EN
CALSCALE:GREGORIAN
METHOD:PUBLISH
X-ORIGINAL-URL:https://allwork.space
X-WR-CALDESC:Events for Allwork.Space
REFRESH-INTERVAL;VALUE=DURATION:PT1H
X-Robots-Tag:noindex
X-PUBLISHED-TTL:PT1H
BEGIN:VTIMEZONE
TZID:America/Kentucky/Louisville
BEGIN:DAYLIGHT
TZOFFSETFROM:-0500
TZOFFSETTO:-0400
TZNAME:EDT
DTSTART:20210314T070000
END:DAYLIGHT
BEGIN:STANDARD
TZOFFSETFROM:-0400
TZOFFSETTO:-0500
TZNAME:EST
DTSTART:20211107T060000
END:STANDARD
END:VTIMEZONE
BEGIN:VEVENT
DTSTART;VALUE=DATE:20210819
DTEND;VALUE=DATE:20210820
DTSTAMP:20260425T230147
CREATED:20210802T154318Z
LAST-MODIFIED:20210802T154318Z
UID:79624-1629331200-1629417599@allwork.space
SUMMARY:Local Coworking Spaces and Their Role in the Community
DESCRIPTION:Coworking spaces play an important role within communities. There is the possibility for networking opportunities that are created by these spaces. Allowing people from all walks of life to connect – and the impact is felt throughout the community. \nThe London Coworking Assembly invites you to join our three panellists\, Nina Franco\, Kofi Oppong\, and Nicola Moore\, to discuss some tips and resources that you can apply to your workspace to make sure it is affordable\, inclusive\, and brings value to the community.
URL:https://allwork.space/event/local-coworking-spaces-and-their-role-in-the-community/
ATTACH;FMTTYPE=image/png:https://allwork.space/wp-content/uploads/2021/08/Screen-Shot-2021-08-02-at-10.42.06-AM
END:VEVENT
BEGIN:VEVENT
DTSTART;VALUE=DATE:20210825
DTEND;VALUE=DATE:20210826
DTSTAMP:20260425T230147
CREATED:20210731T032510Z
LAST-MODIFIED:20210731T032510Z
UID:79618-1629849600-1629935999@allwork.space
SUMMARY:Work Without Limits Virtual Summit
DESCRIPTION:Work Without Limits Summit is a one-day virtual event exploring how world-class teams from around the world can create immediate value\, drive growth\, and future-proof your business. \nLeading executives\, industry experts\, influencers\, and top talent will share insights for unlocking growth through the world’s work marketplace—where access to global teams can help reveal your true potential in 2021 and beyond. \nDon’t miss out on this transformational event.
URL:https://allwork.space/event/work-without-limits-virtual-summit/
ATTACH;FMTTYPE=image/png:https://allwork.space/wp-content/uploads/2021/07/STANDARD-CONTENT-12.png
END:VEVENT
BEGIN:VEVENT
DTSTART;VALUE=DATE:20210827
DTEND;VALUE=DATE:20210828
DTSTAMP:20260425T230147
CREATED:20210803T003617Z
LAST-MODIFIED:20210803T003617Z
UID:79627-1630022400-1630108799@allwork.space
SUMMARY:Coworking Convo: Member Communication Tools and Strategies
DESCRIPTION:11am Pacific / 2pm Eastern / 6pm GMT – RSVP HERE \nWhat are the best ways to communicate with your members? \nLet’s chat about it. \nJoin us for a free\, informal\, community conversation with fellow workspace operators and coworking pros. \nThe Convo will be moderated by content strategist and creator Cat Johnson. \nWe’ll kick things off with tips and insights from several workspace operators. Then we’ll open the conversation to the community to share questions\, ideas and resources. \nWho should attend? \n\nWorkspace operators\nCommunity managers\nCoworking space marketing teams\n\nWhat should you bring? \n\nIdeas\, insights and strategies\nQuestions for other workspace operators\nA spirit of collaboration and cooperation\n\nOnce you register\, you’ll receive a Zoom link to participate in the conversation. \nREGISTER HERE TO JOIN THE CONVO
URL:https://allwork.space/event/coworking-convo-member-communication-tools-and-strategies/
ATTACH;FMTTYPE=image/jpeg:https://allwork.space/wp-content/uploads/2021/03/AWS-CC-Ad2-logo-updated.jpg
END:VEVENT
END:VCALENDAR