BEGIN:VCALENDAR
VERSION:2.0
PRODID:-//Allwork.Space - ECPv6.0.10//NONSGML v1.0//EN
CALSCALE:GREGORIAN
METHOD:PUBLISH
X-ORIGINAL-URL:https://allwork.space
X-WR-CALDESC:Events for Allwork.Space
REFRESH-INTERVAL;VALUE=DURATION:PT1H
X-Robots-Tag:noindex
X-PUBLISHED-TTL:PT1H
BEGIN:VTIMEZONE
TZID:America/Kentucky/Louisville
BEGIN:DAYLIGHT
TZOFFSETFROM:-0500
TZOFFSETTO:-0400
TZNAME:EDT
DTSTART:20250309T070000
END:DAYLIGHT
BEGIN:STANDARD
TZOFFSETFROM:-0400
TZOFFSETTO:-0500
TZNAME:EST
DTSTART:20251102T060000
END:STANDARD
END:VTIMEZONE
BEGIN:VEVENT
DTSTART;VALUE=DATE:20250401
DTEND;VALUE=DATE:20250402
DTSTAMP:20260424T092150
CREATED:20250328T060002Z
LAST-MODIFIED:20250327T214902Z
UID:1035209-1743465600-1743551999@allwork.space
SUMMARY:Inside the Flexible Workspace Revolution With Mark Dixon
DESCRIPTION:Join us for a powerful episode of The Future of Work® Podcast\, airing Tuesday\, April 1st\, 2025\, featuring one of the foremost visionaries in flexible workspace innovation—Mark Dixon\, Founder and CEO of IWG.   \nIn this candid conversation\, Dixon and host Frank Cottle unpack the myths behind the return-to-office debate and shine a light on what’s really shaping the modern workplace: economics\, management techniques\, and cutting-edge technology. IWG’s more than 5\,000 global locations and partnerships with 80% of the Fortune 500 make Dixon’s insights a masterclass in navigating the evolving commercial real estate landscape—and why convenience\, not centralization\, is the future.  \nIn this event episode\, Dixon challenges outdated narratives\, debunks RTO myths perpetuated by media\, and delivers a compelling breakdown of how flexible work\, AI\, and decentralized office models are transforming business productivity and growth strategies. Discover why the office is not dead—it’s being redefined.   \nWhether you’re an enterprise leader\, commercial real estate strategist\, HR pro\, or entrepreneur\, this episode will leave you rethinking how\, where\, and why we work.  \nWhat You’ll Learn\n\nWhy flexible workspace is more than real estate—it’s a service of convenience.\nHow AI and population shifts are reshaping global commercial real estate needs.\nThe economic and managerial benefits of decentralizing offices across regions.\nWhy the “return to office” debate is missing the real question.\nThe role of hybrid work in talent acquisition and long-term workforce productivity.\n\nAbout Mark Dixon\nMark Dixon\, Founder and CEO of IWG\, is a global pioneer in flexible workspace solutions. Since founding Regis in 1989 and transforming it into IWG\, Dixon has grown the company into a worldwide leader with over 5\,000 locations across 120+ countries. IWG’s global footprint includes powerhouse brands like Regis\, Spaces\, Signature\, and HQ\, serving startups to Fortune 500 giants including Amazon\, Netflix\, EY\, and Uber. Under Dixon’s leadership\, the flexible workspace industry has moved from niche to necessity\, redefining how companies view office space. An award-winning entrepreneur\, Dixon is also a passionate vintner and agriculturalist\, committed to sustainable business and innovative thinking. 
URL:https://allwork.space/event/inside-the-flexible-workspace-revolution-with-mark-dixon/
CATEGORIES:Coworking & Flex Office
ATTACH;FMTTYPE=image/jpeg:https://allwork.space/wp-content/uploads/2025/03/Mark-Dixon.jpg
END:VEVENT
BEGIN:VEVENT
DTSTART;VALUE=DATE:20250401
DTEND;VALUE=DATE:20250403
DTSTAMP:20260424T092150
CREATED:20241007T200519Z
LAST-MODIFIED:20241007T201043Z
UID:1031815-1743465600-1743638399@allwork.space
SUMMARY:Future of Work Canada (Toronto)
DESCRIPTION:Get ready to be part of the 6th annual Future of Work Canada event—an insightful two-day experience designed to propel you into the Future of Work! \nWhat’s New This Year? We’re introducing three dedicated conference tracks: Future Workplace\, Future Talent\, and Future Learning. \nThis year’s event is packed with fresh insights and the latest trends you need to stay ahead. \nWhat to Expect? Dive into two days of thought-provoking sessions with top-tier experts in HR\, Talent Management\, Learning and Development\, Employee Engagement\, People and Culture\, Internal Communications\, Organizational Development\, and Digital Workplace. \nBased right here in Canada\, these leaders will share best practices and cutting-edge strategies. \n  \n 
URL:https://allwork.space/event/future-of-work-canada-toronto/
CATEGORIES:Human Resources,Leadership,Technology & Innovation
ATTACH;FMTTYPE=image/jpeg:https://allwork.space/wp-content/uploads/2024/10/Future-of-Work-Canada-Toronto.jpg
END:VEVENT
BEGIN:VEVENT
DTSTART;VALUE=DATE:20250403
DTEND;VALUE=DATE:20250404
DTSTAMP:20260424T092150
CREATED:20250214T155947Z
LAST-MODIFIED:20250214T155947Z
UID:1034064-1743638400-1743724799@allwork.space
SUMMARY:WORKTECH25 Melbourne: Pioneering the Future of Work
DESCRIPTION:Join industry leaders at WORKTECH25 Melbourne\, the premier conference exploring the future of work\, workplace innovation\, and technological advancements. \nScheduled for Thursday\, April 3\, 2025\, at the Telstra Customer Insights Centre\, Melbourne\, this event delves into emerging trends\, workplace experience\, culture\, and data-driven strategies. \nNetwork with senior professionals from real estate\, facilities\, HR\, technology\, architecture\, and design. Stay ahead in the evolving workplace landscape.
URL:https://allwork.space/event/worktech25-melbourne-pioneering-the-future-of-work/
CATEGORIES:Technology & Innovation,Workplace Design
ATTACH;FMTTYPE=image/jpeg:https://allwork.space/wp-content/uploads/2025/02/WORKTECH25-Melbourne-Pioneering-the-Future-of-Work.jpg
END:VEVENT
BEGIN:VEVENT
DTSTART;TZID=America/Kentucky/Louisville:20250407T080000
DTEND;TZID=America/Kentucky/Louisville:20250410T170000
DTSTAMP:20260424T092150
CREATED:20241002T235842Z
LAST-MODIFIED:20241002T235843Z
UID:1031697-1744012800-1744304400@allwork.space
SUMMARY:2025 Global Coworking Conference Unconference (GCUC) Boston
DESCRIPTION:You’re invited to join the movement\nGCUC brings together decision-makers and game-changers in the coworking and flexible workspace industry. This unique conference experience is packed with expert insights\, visionary conversations\, educational programming\, breakouts\, opportunities for connection and a showcase of industry-leading partners. Join us as we shape the future of work\, together. \n 
URL:https://allwork.space/event/2025-global-coworking-conference-unconference-gcuc-boston/
CATEGORIES:Coworking & Flex Office
ATTACH;FMTTYPE=image/jpeg:https://allwork.space/wp-content/uploads/2024/10/GCUC-BOSTON-ALLWORK.SPACE_.jpg
END:VEVENT
BEGIN:VEVENT
DTSTART;VALUE=DATE:20250408
DTEND;VALUE=DATE:20250409
DTSTAMP:20260424T092150
CREATED:20250404T230305Z
LAST-MODIFIED:20250407T134105Z
UID:1035372-1744070400-1744156799@allwork.space
SUMMARY:Will AI Enhance or Weaken Our Skills? with Ram Srinivasan
DESCRIPTION:Join us for a compelling new episode of The Future of Work® Podcast as we explore one of the most urgent questions facing modern organizations: Is artificial intelligence diminishing our human potential—or unlocking it?  \nIn this thought-provoking episode\, host Frank Cottle sits down with Ram Srinivasan\, AI Adoption Leader at JLL and author of The Conscious Machine\, to unpack the real impact of AI on the future of work.  \nFrom impacts on productivity and decision-making to authenticity and creativity\, this discussion\nchallenges the hype around AI and offers a roadmap for meaningful\, human-centered innovation. \nRam brings an unmatched blend of technical knowledge and strategic insight—holding 15\ncertifications from MIT\, advising Fortune  \nThis conversation goes beyond the buzzwords to address what leaders\, teams\, and individuals need to thrive in an era of “intelligence abundance.” If you’re navigating digital transformation\, leading a team\, or simply curious about what comes next\, this episode is for you.  \nWhat You’ll Learn \n\nWhy AI must amplify\, not replace\, human creativity and intelligence \nThe top three myths leaders believe about AI—and what to do instead \nHow to build human-centered AI transformation strategies that actually work \nWhy critical thinking\, empathy\, and adaptability are the new power skills \nWhat “intelligence abundance” means—and how to design for it \n\nAbout Ram Srinivasan \nThis episode features Ram Srinivasan\, Executive Management Consultant\, AI strategist\, and AI Adoption Leader at JLL. A thought leader in digital transformation and human-centric innovation\, Ram holds 15 certifications from MIT and is a best-selling author of The Conscious Machine. His expertise spans corporate governance\, financial strategy\, and exponential technologies. Host Frank Cottle\, founder of Alliance Business Centers Network and seasoned expert in remote and flexible work\, brings decades of insight into the shifting nature of global work. Together\, they deliver a high-level conversation that bridges tech\, humanity\, and the workplace of tomorrow. 
URL:https://allwork.space/event/will-ai-enhance-or-weaken-our-skills-with-ram-srinivasan/
CATEGORIES:Technology & Innovation
ATTACH;FMTTYPE=image/jpeg:https://allwork.space/wp-content/uploads/2025/04/Ram-Srinivasan.jpg
END:VEVENT
BEGIN:VEVENT
DTSTART;VALUE=DATE:20250408
DTEND;VALUE=DATE:20250411
DTSTAMP:20260424T092150
CREATED:20250219T213806Z
LAST-MODIFIED:20250219T213806Z
UID:1034231-1744070400-1744329599@allwork.space
SUMMARY:Great Place To Work® For All Summit™ 2025: Elevate Your Workplace Culture
DESCRIPTION:Join over 1\,600 leaders from more than 500 companies at the Great Place To Work® For All Summit™ 2025\, scheduled for April 8-10\, 2025\, at the Las Vegas Hilton at Resorts World. \nThis premier event focuses on transforming company culture and leadership\, offering attendees the opportunity to connect with visionary leaders\, culture experts\, and industry thought leaders. \nEngage in innovative sessions that address the evolving needs of people and businesses\, and return to your organization equipped with fresh ideas and best practices to implement immediately. Don’t miss this chance to lead with impact and drive meaningful change in your workplace. \nLocation: Las Vegas Hilton at Resorts World\, 999 Resorts World Ave\, Las Vegas\, NV 89109 \nDate: April 8-10\, 2025 \nWebsite: https://www.greatplacetowork.com/for-all-summit
URL:https://allwork.space/event/great-place-to-work-for-all-summit-2025-elevate-your-workplace-culture/
ATTACH;FMTTYPE=image/jpeg:https://allwork.space/wp-content/uploads/2025/02/Great-Place-To-Work®-For-All-Summit™-2025-Elevate-Your-Workplace-Culture.jpg
END:VEVENT
BEGIN:VEVENT
DTSTART;VALUE=DATE:20250409
DTEND;VALUE=DATE:20250410
DTSTAMP:20260424T092150
CREATED:20250214T155420Z
LAST-MODIFIED:20250214T155420Z
UID:1034061-1744156800-1744243199@allwork.space
SUMMARY:WORKTECH25 Auckland: Shaping the Future of Work
DESCRIPTION:Join industry leaders at WORKTECH25 Auckland\, the premier conference exploring the future of work\, workplace innovation\, and technological advancements. \nScheduled for Wednesday\, April 9\, 2025\, at B:HIVE\, Smales Farm\, this event delves into emerging trends\, workplace experience\, culture\, and data-driven strategies. \nNetwork with over 100 senior professionals from real estate\, facilities\, HR\, technology\, architecture\, and design. Stay ahead in the evolving workplace landscape.
URL:https://allwork.space/event/worktech25-auckland-shaping-the-future-of-work/
CATEGORIES:Technology & Innovation,Workplace Design
ATTACH;FMTTYPE=image/jpeg:https://allwork.space/wp-content/uploads/2025/02/WORKTECH25-Auckland-Shaping-the-Future-of-Work.jpg
END:VEVENT
BEGIN:VEVENT
DTSTART;VALUE=DATE:20250423
DTEND;VALUE=DATE:20250426
DTSTAMP:20260424T092150
CREATED:20250219T214320Z
LAST-MODIFIED:20250219T214320Z
UID:1034235-1745366400-1745625599@allwork.space
SUMMARY:2025 Workplace Benefits Conference: Navigating Pathways to Growth
DESCRIPTION:Join industry leaders at the 2025 Workplace Benefits Conference\, scheduled for April 23-25\, 2025\, at the Hilton Fort Lauderdale Marina in Fort Lauderdale\, Florida. \nThis premier event delves into the evolving workplace benefits landscape\, offering insights from carriers\, employers\, employees\, distributors\, brokers\, consultants\, and benefit technology experts. \nAttendees will explore key growth pathways\, including digital tool expansion\, holistic well-being solutions\, personalized benefits\, data-driven insights\, and new market opportunities. \nEngage in cross-functional learning and networking to navigate transformational industry changes effectively. Don’t miss this opportunity to gain fresh perspectives and strategies to drive success in the dynamic world of workplace benefits. \nLocation: Hilton Fort Lauderdale Marina\, 1881 SE 17th St\, Fort Lauderdale\, FL 33316\, USA \nDate: April 23-25\, 2025 \nWebsite: https://www.limra.com/en/events/conferences/2025/2025-workplace-benefits-conference/
URL:https://allwork.space/event/2025-workplace-benefits-conference-navigating-pathways-to-growth/
CATEGORIES:Human Resources,Leadership
ATTACH;FMTTYPE=image/jpeg:https://allwork.space/wp-content/uploads/2025/02/2025-Workplace-Benefits-Conference-Navigating-Pathways-to-Growth.jpg
END:VEVENT
BEGIN:VEVENT
DTSTART;VALUE=DATE:20250425
DTEND;VALUE=DATE:20250426
DTSTAMP:20260424T092150
CREATED:20250414T181912Z
LAST-MODIFIED:20250414T181913Z
UID:1035527-1745539200-1745625599@allwork.space
SUMMARY:Coworking Convo: Creating Local Partnerships to Elevate Your Brand
DESCRIPTION:​How can you leverage the power of local partnerships to elevate your coworking brand? \n​Let’s chat about it. \n​​Join us for a free and flexible community conversation with fellow workspace operators and coworking pros from around the world. \n​Our all-star guests for this one are: \n– Anne Olsen from The Shop Workspace\n– Tim Hasse from General Provision\n– Sarah Athanas from Groundwork\n– Hector Kolonas from Syncaroo and This Week in Coworking \nThey’ll kick things off with their best tips\, insights and strategies. Then we’ll open the conversation up for a Q&A. \n​Come learn\, share and connect with other coworking leaders and rising stars of our industry. \n​​Who should attend? \n\n​​Coworking space owners and operators\n​​Community managers\n​​Workspace teams\n\n​​What should you bring? \n\n​​Ideas\, insights and strategies\n​​Questions for other workspace operators\n​​A spirit of collaboration and cooperation\n\n​​Coworking Convos are hosted by Cat Johnson. \nJOIN FOR FREE: https://lu.ma/sok6pazz 
URL:https://allwork.space/event/coworking-convo-creating-local-partnerships-to-elevate-your-brand/
CATEGORIES:Coworking & Flex Office,Marketing & Sales
ATTACH;FMTTYPE=image/jpeg:https://allwork.space/wp-content/uploads/2024/10/Coworking-Convos-Featured.jpg
END:VEVENT
BEGIN:VEVENT
DTSTART;VALUE=DATE:20250429
DTEND;VALUE=DATE:20250430
DTSTAMP:20260424T092150
CREATED:20250425T192624Z
LAST-MODIFIED:20250425T192624Z
UID:1035724-1745884800-1745971199@allwork.space
SUMMARY:Leading People Who Are Not Like You with Stephanie Chung
DESCRIPTION:The Future of Work® Podcast welcomes Stephanie Chung\, an industry trailblazer who redefined corporate leadership in aviation and beyond. In this powerful episode\, Stephanie dives deep into Ally Leadership\, sharing practical strategies for leading today’s diverse\, multigenerational\, and hybrid teams. Discover why empathy\, belonging\, and bold action are the new leadership essentials — and how to future-proof your leadership style for the world ahead.  \nFrom overcoming unconscious bias to using privilege for empowerment\, this conversation is packed with actionable insights that every aspiring and current leader must hear. Stephanie’s powerful story and proven frameworks offer a fresh blueprint for anyone who wants to lead with impact in the evolving workplace of 2025 and beyond.  \nKey Takeaways \n\nWhat Ally Leadership truly is — and why it’s a leadership imperative \nThe neuroscience behind unconscious bias and how to reframe it \nHow leaders can proactively use privilege for good \nPractical steps to create a culture of belonging and performance \nWhy vulnerability and visibility are the leadership currencies of the future \n\nAbout Stephanie Chung\nStephanie Chung is a #1 bestselling author\, keynote speaker\, and corporate board member with over 30 years of leadership experience. She is the former Chief Growth Officer at Wheels Up and the first African-American president of a private aviation company\, JetSuite. Named one of Adweek’s “Women Trailblazers” and Robb Report’s “23 Black Visionaries\,” Stephanie has helped organizations achieve billion-dollar results through strategic leadership rooted in human connection\, neuroscience\, and innovation. 
URL:https://allwork.space/event/leading-people-who-are-not-like-you-with-stephanie-chung/
CATEGORIES:Leadership
ATTACH;FMTTYPE=image/jpeg:https://allwork.space/wp-content/uploads/2025/04/Stephanie-Chung.jpg
END:VEVENT
BEGIN:VEVENT
DTSTART;VALUE=DATE:20250429
DTEND;VALUE=DATE:20250501
DTSTAMP:20260424T092150
CREATED:20250219T212256Z
LAST-MODIFIED:20250227T182303Z
UID:1034223-1745884800-1746057599@allwork.space
SUMMARY:Running Remote 2025: The Fastest Growing Conference on Flexible Work​
DESCRIPTION:Join industry leaders at Running Remote 2025\, the foremost conference dedicated to distributed and hybrid teams\, scheduled for April 29-30\, 2025\, at Fair Market in Austin\, Texas. \nThis annual event gathers hundreds of companies worldwide to explore the latest strategies and insights on flexible work\, company culture\, scaling\, transitioning\, AI\, and more. \nWith over 50 expert speakers and 40 sessions\, attendees will gain valuable knowledge and practical tools to navigate the evolving landscape of remote work. Network with C-level executives\, founders\, VPs\, and HR leaders\, and engage in discussions that will shape the future of work. \nDon’t miss this opportunity to connect with global experts and elevate your organization’s approach to distributed work.
URL:https://allwork.space/event/running-remote-2025-premier-conference-on-distributed-and-hybrid-teams/
CATEGORIES:Leadership,Remote & Hybrid Work
ATTACH;FMTTYPE=image/png:https://allwork.space/wp-content/uploads/2025/02/LS5.png
END:VEVENT
END:VCALENDAR