BEGIN:VCALENDAR
VERSION:2.0
PRODID:-//Allwork.Space - ECPv6.0.10//NONSGML v1.0//EN
CALSCALE:GREGORIAN
METHOD:PUBLISH
X-WR-CALNAME:Allwork.Space
X-ORIGINAL-URL:https://allwork.space
X-WR-CALDESC:Events for Allwork.Space
REFRESH-INTERVAL;VALUE=DURATION:PT1H
X-Robots-Tag:noindex
X-PUBLISHED-TTL:PT1H
BEGIN:VTIMEZONE
TZID:America/Kentucky/Louisville
BEGIN:DAYLIGHT
TZOFFSETFROM:-0500
TZOFFSETTO:-0400
TZNAME:EDT
DTSTART:20250309T070000
END:DAYLIGHT
BEGIN:STANDARD
TZOFFSETFROM:-0400
TZOFFSETTO:-0500
TZNAME:EST
DTSTART:20251102T060000
END:STANDARD
END:VTIMEZONE
BEGIN:VEVENT
DTSTART;VALUE=DATE:20250603
DTEND;VALUE=DATE:20250604
DTSTAMP:20260424T061238
CREATED:20250530T080026Z
LAST-MODIFIED:20250530T211148Z
UID:1036446-1748908800-1748995199@allwork.space
SUMMARY:Solving The Hybrid Work Dilemma: Trust\, Space\, and Strategy with Andrew Farah
DESCRIPTION:Join us Next\, Tuesday June 3rd for a bold and data-driven episode of The Future of Work® Podcast featuring Andrew Farah\, CEO of Density.  \nWith his company powering workplace analytics for over 1.25 billion square feet globally\, Andrew brings sharp insight into how organizations are getting hybrid work wrong — and what to do instead. Discover why vague return-to-office policies are failing\, how trust is built in physical space\, and why companies must clearly define their “race” before hiring their team.  \nThis podcast explores how smart space utilization\, clear cultural expectations\, and transparent leadership can build high-performing teams in today’s work-from-anywhere world.  \nWhether you’re a small startup or a Fortune 1000\, this conversation will reshape how you approach hybrid work strategy.  \nAbout Andrew Farah\nAndrew Farah is the co-founder and CEO of Density\, a global leader in privacy-first workplace analytics. His company supports major brands like Uber and Shopify with space utilization insights across 1.25 billion square feet. As a writer-turned-technologist\, Andrew’s unique perspective blends strategic thinking with hard data. In this episode\, he joins The Future of Work® Podcast host to break down what organizations often get wrong about hybrid\, culture\, and clarity — and how to fix it. \nWhat You’ll Learn\n\nWhy “hybrid” may be the most misunderstood workplace model \nHow workspace data helps leaders make better real estate decisions \nWhat “freedom within constraints” actually looks like in practice \nHow culture and trust are built differently in person vs. remote \nWhy hiring sprinters for a marathon (or vice versa) leads to failure
URL:https://allwork.space/event/solving-the-hybrid-work-dilemma-trust-space-and-strategy-with-andrew-farah/
CATEGORIES:Remote & Hybrid Work
ATTACH;FMTTYPE=image/jpeg:https://allwork.space/wp-content/uploads/2025/05/Andrew-Farah-1.jpg
END:VEVENT
BEGIN:VEVENT
DTSTART;VALUE=DATE:20250603
DTEND;VALUE=DATE:20250605
DTSTAMP:20260424T061238
CREATED:20250513T211043Z
LAST-MODIFIED:20250513T211043Z
UID:1036090-1748908800-1749081599@allwork.space
SUMMARY:IMMERSIVE SAN FRANCISCO
DESCRIPTION:Step behind the scenes at our Immersive event—an exclusive opportunity to connect with leading experts delivering top-tier hospitality in the flexible workspace industry.  \nOver a day and a half\, attendees will experience thought-provoking panel discussions\, enjoy private guided tours of distinctive flex spaces\, and build meaningful connections through a variety of networking opportunities with speakers and peers alike. \nWelcome Happy HourJoin us on Monday\, June 2nd from 5:30–7:00 PM at Mindspace to kick off Immersive San Francisco with a lively Welcome Happy Hour. Mingle with fellow attendees and speakers in a casual\, laid-back atmosphere—an ideal way to relax\, make connections\, and set the tone for the inspiring day and a half ahead. \nInspiring Sessions & ConversationsOn Tuesday\, June 3rd\, gather with us at Studio at Mission Rock for a full day of insightful panel discussions and thought leadership sessions. The day begins with a casual meet & greet breakfast and concludes with a vibrant networking reception—an ideal setting to deepen industry relationships and exchange forward-thinking ideas. \n\nJune 3 – 4\, 2025 \nStudio at mission rock \nImmersive – GWA \nAll Access Pass $199 early bird
URL:https://allwork.space/event/immersive-san-francisco/
CATEGORIES:Coworking & Flex Office,Leadership
ATTACH;FMTTYPE=image/jpeg:https://allwork.space/wp-content/uploads/2025/05/IMMERSIVE-SAN-FRANCISCO.jpg
END:VEVENT
BEGIN:VEVENT
DTSTART;VALUE=DATE:20250610
DTEND;VALUE=DATE:20250611
DTSTAMP:20260424T061238
CREATED:20250606T060030Z
LAST-MODIFIED:20250605T202143Z
UID:1036556-1749513600-1749599999@allwork.space
SUMMARY:Fixing Healthcare in a Distributed World: A Conversation with Robert E. Andrews
DESCRIPTION:Join us for an essential episode of The Future of Work® Podcast\, as we sit down with Robert E. Andrews\, CEO of the Health Transformation Alliance and a principal author of the Affordable Care Act.   \nIn this wide-ranging conversation\, Robert shares how distributed workforces are reshaping healthcare needs — and how companies must evolve to meet them. With $40 billion in healthcare spend under his coalition’s management\, his advice is clear: employers who listen\, customize\, and empower their teams will win the talent war and control rising costs.  \nFrom using AI in healthcare decisions to addressing the mental health and loneliness epidemic\, this episode is a blueprint for forward-thinking HR and business leaders.  \nWhat You’ll Learn\n\nWhy personalization in healthcare matters more in remote workplaces \nHow AI can support (or disrupt) care delivery and costs \nWhy mental health and social connection are business issues \nHow to use healthcare benefits to boost employee retention \nWhat metrics define a future-ready healthcare plan\n\nAbout Robert E. Andrews \nRobert E. Andrews is the Chief Executive Officer of the Health Transformation Alliance and a former member of Congress\, best known as an original architect of the Affordable Care Act. Under his leadership\, HTA represents 70+ corporations and manages over $40 billion in healthcare costs for 4 million+ employees.
URL:https://allwork.space/event/fixing-healthcare-in-a-distributed-world-a-conversation-with-robert-e-andrews/
CATEGORIES:Workplace Wellness
ATTACH;FMTTYPE=image/jpeg:https://allwork.space/wp-content/uploads/2025/06/Robert-Andrews.jpg
END:VEVENT
BEGIN:VEVENT
DTSTART;VALUE=DATE:20250611
DTEND;VALUE=DATE:20250613
DTSTAMP:20260424T061238
CREATED:20250213T163232Z
LAST-MODIFIED:20250213T183811Z
UID:1033976-1749600000-1749772799@allwork.space
SUMMARY:The Future of Work USA 2025 (New York)
DESCRIPTION:The Future of Work USA 2025 conference is scheduled for June 11-12\, 2025\, at the Javits Center in New York City. This sixth annual event introduces three specialized tracks: Future Workplace\, Future Talent\, and Future Learning. Attendees will engage with over 100 industry experts\, including: \n\nBarrett Evans\, Chief Learning Officer at Ford Motor Company\nElizabeth Norberg\, Global Chief People Officer at SharkNinja\nDesirée Davis Stolar\, Chief Talent Management and Employee Programs Officer at Burson\n\nThe conference will cover key themes such as employee training\, skills development\, workplace strategies\, and talent acquisition. \nWith more than 500 senior executives from diverse sectors\, participants will have ample opportunities to network\, share best practices\, and explore the latest trends in HR\, talent management\, and organizational development. This event is essential for those aiming to stay ahead in the evolving world of work. \nLearn more & register: Future of Work USA 2025
URL:https://allwork.space/event/the-future-of-work-usa-2025-new-york/
CATEGORIES:Leadership,Technology & Innovation
ATTACH;FMTTYPE=image/jpeg:https://allwork.space/wp-content/uploads/2025/02/The-Future-of-Work-USA-2025-New-York.jpg
END:VEVENT
END:VCALENDAR