BEGIN:VCALENDAR
VERSION:2.0
PRODID:-//Allwork.Space - ECPv6.0.10//NONSGML v1.0//EN
CALSCALE:GREGORIAN
METHOD:PUBLISH
X-WR-CALNAME:Allwork.Space
X-ORIGINAL-URL:https://allwork.space
X-WR-CALDESC:Events for Allwork.Space
REFRESH-INTERVAL;VALUE=DURATION:PT1H
X-Robots-Tag:noindex
X-PUBLISHED-TTL:PT1H
BEGIN:VTIMEZONE
TZID:America/Kentucky/Louisville
BEGIN:DAYLIGHT
TZOFFSETFROM:-0500
TZOFFSETTO:-0400
TZNAME:EDT
DTSTART:20250309T070000
END:DAYLIGHT
BEGIN:STANDARD
TZOFFSETFROM:-0400
TZOFFSETTO:-0500
TZNAME:EST
DTSTART:20251102T060000
END:STANDARD
END:VTIMEZONE
BEGIN:VEVENT
DTSTART;VALUE=DATE:20250812
DTEND;VALUE=DATE:20250813
DTSTAMP:20260424T025509
CREATED:20250807T205751Z
LAST-MODIFIED:20250807T205751Z
UID:1037970-1754956800-1755043199@allwork.space
SUMMARY:How AI and Data Turn Flexible Workspaces into Profitable Futures with Harun Biswas
DESCRIPTION:Join us next Tuesday for a brand-new episode of The Future of Work® Podcast\, where our host Frank Cottle talks with expert Harun Biswas—Founder & CEO of UltraSoft Technologies—about how human‑centric AI\, data‑driven automation\, and scalable workspace systems are transforming the flexible workspace industry. Harun brings over 30 years of experience and has architected UltraSoftBIS\, a leading ERP solution that empowers operators to harness data as a strategic asset. \nIn this episode you’ll uncover how predictive insight\, seamless CRM workflows\, and AI‑powered automation are reshaping operations—from lead generation to forecasting and proposal generation—enabling workspace operators to boost profitability\, deepen service\, and future‑proof their business. \n Whether you’re involved in coworking\, CRE\, or workspace technology\, this episode delivers essential strategies for the next era of flexible work.  \nWhat You’ll Learn\n\nHow to transform raw workspace data into actionable business decisions \n\n\nWays AI and CRM integration drive efficiency from inquiries to contracts \n\n\nTechniques for forecasting occupancy and revenue with precision \n\n\nHow to design systems that serve multiple generations intuitively \n\n\nWhy physical workspaces remain relevant\, and how AI amplifies the human touch 
URL:https://allwork.space/event/how-ai-and-data-turn-flexible-workspaces-into-profitable-futures-with-harun-biswas-2/
CATEGORIES:Technology & Innovation
ATTACH;FMTTYPE=image/jpeg:https://allwork.space/wp-content/uploads/2025/08/Harun-Biswas.jpg
END:VEVENT
BEGIN:VEVENT
DTSTART;VALUE=DATE:20250819
DTEND;VALUE=DATE:20250820
DTSTAMP:20260424T025509
CREATED:20250814T221151Z
LAST-MODIFIED:20250814T221151Z
UID:1038168-1755561600-1755647999@allwork.space
SUMMARY:The Gen Z Workforce Revolution:  What Leaders  Need to Know
DESCRIPTION:Next week on The Future of Work® Podcast\, we explore how Gen Z is redefining everything from hiring and hustle to leadership and learning. Join us as Dr. Jasmine Escalera\, career expert and LinkedIn Top Voice\, reveals why this generation is not killing workplace culture — they’re rebuilding it. Through an eye-opening conversation\, we unpack the power shift from company loyalty to self-prioritization\, how TikTok is replacing resumes\, and what it means for HR\, higher education\, and leadership today.  \nJasmine brings a wealth of experience in hiring\, DEI\, and career empowerment\, and she’s helping professionals understand how to thrive in a rapidly changing landscape. As Gen Z becomes a dominant force in the workforce\, it’s time for leaders to listen\, adapt\, and evolve.  \nWhat You’ll Learn\n\nHow Gen Z is reshaping hiring through social media and personal branding \nWhy mentorship is the missing key to generational synergy at work \nHow AI is redefining job roles — and the skills needed to stay relevant \nWhat the decline of traditional education means for talent pipelines \nHow to create workplace cultures that prioritize mental health over hustle 
URL:https://allwork.space/event/the-gen-z-workforce-revolution-what-leaders-need-to-know/
CATEGORIES:Career Growth
ATTACH;FMTTYPE=image/jpeg:https://allwork.space/wp-content/uploads/2025/08/Dr.-Jasmine-Escalera.jpg
END:VEVENT
BEGIN:VEVENT
DTSTART;VALUE=DATE:20250821
DTEND;VALUE=DATE:20250823
DTSTAMP:20260424T025509
CREATED:20250217T220341Z
LAST-MODIFIED:20250217T220505Z
UID:1034161-1755734400-1755907199@allwork.space
SUMMARY:FWACon25: Exploring the Future of Flexible Workspaces in Brisbane
DESCRIPTION:Mark your calendars for FWACon25\, Flexible Workspace Australia’s National Conference 2025\, set for August 21–22\, 2025\, in Brisbane\, Australia. This premier event is tailored for flexible workspace owners\, operators\, investors\, policymakers\, property owners\, and industry suppliers. \nEvent Highlights: \n\n\nDay 1: Embark on exclusive tours of Brisbane’s innovative coworking spaces\, gaining insights into cutting-edge designs and technologies. Conclude the day with the Awards Welcome Party\, celebrating excellence in the flexible workspace industry. \n\n\nDay 2: Engage with visionary keynote speakers\, participate in interactive workshops\, and expand your professional network during the afternoon networking session. \n\n\nDon’t miss this opportunity to connect with industry leaders and shape the future of coworking. \n📅 Date: August 21–22\, 2025 📍 Location: Brisbane\, Australia 🔗 Learn More
URL:https://allwork.space/event/fwacon25-exploring-the-future-of-flexible-workspaces-in-brisbane/
CATEGORIES:Coworking & Flex Office,CRE
ATTACH;FMTTYPE=image/jpeg:https://allwork.space/wp-content/uploads/2025/02/FWACon25-Exploring-the-Future-of-Flexible-Workspaces-in-Brisbane.jpg
END:VEVENT
END:VCALENDAR