BEGIN:VCALENDAR
VERSION:2.0
PRODID:-//Allwork.Space - ECPv6.0.10//NONSGML v1.0//EN
CALSCALE:GREGORIAN
METHOD:PUBLISH
X-ORIGINAL-URL:https://allwork.space
X-WR-CALDESC:Events for Allwork.Space
REFRESH-INTERVAL;VALUE=DURATION:PT1H
X-Robots-Tag:noindex
X-PUBLISHED-TTL:PT1H
BEGIN:VTIMEZONE
TZID:America/Kentucky/Louisville
BEGIN:DAYLIGHT
TZOFFSETFROM:-0500
TZOFFSETTO:-0400
TZNAME:EDT
DTSTART:20230312T070000
END:DAYLIGHT
BEGIN:STANDARD
TZOFFSETFROM:-0400
TZOFFSETTO:-0500
TZNAME:EST
DTSTART:20231105T060000
END:STANDARD
END:VTIMEZONE
BEGIN:VEVENT
DTSTART;VALUE=DATE:20230328
DTEND;VALUE=DATE:20230330
DTSTAMP:20260424T234228
CREATED:20220826T195203Z
LAST-MODIFIED:20220826T201013Z
UID:1015871-1679961600-1680134399@allwork.space
SUMMARY:Future Of Work Canada
DESCRIPTION:The Future of Work Canada Event launched in 2019 with the core mission to focus on the latest trends & strategies within the Future of Work landscape including: Frontline Workers\, Workplace Transformation\, HR Technology\, Culture\, Employee Engagement\, Digital Workplace\, Learning & Development\, Human Resources and Office Space & Design.
URL:https://allwork.space/event/future-of-work-canada/
LOCATION:M-Media Events LTD
CATEGORIES:Leadership
ATTACH;FMTTYPE=image/png:https://allwork.space/wp-content/uploads/2022/08/FUTURE-OF-WORK-CANADA-2023.png
END:VEVENT
END:VCALENDAR