BEGIN:VCALENDAR
VERSION:2.0
PRODID:-//Allwork.Space - ECPv6.0.10//NONSGML v1.0//EN
CALSCALE:GREGORIAN
METHOD:PUBLISH
X-WR-CALNAME:Allwork.Space
X-ORIGINAL-URL:https://allwork.space
X-WR-CALDESC:Events for Allwork.Space
REFRESH-INTERVAL;VALUE=DURATION:PT1H
X-Robots-Tag:noindex
X-PUBLISHED-TTL:PT1H
BEGIN:VTIMEZONE
TZID:America/Toronto
BEGIN:DAYLIGHT
TZOFFSETFROM:-0500
TZOFFSETTO:-0400
TZNAME:EDT
DTSTART:20220313T070000
END:DAYLIGHT
BEGIN:STANDARD
TZOFFSETFROM:-0400
TZOFFSETTO:-0500
TZNAME:EST
DTSTART:20221106T060000
END:STANDARD
END:VTIMEZONE
BEGIN:VEVENT
DTSTART;TZID=America/Toronto:20220809T090000
DTEND;TZID=America/Toronto:20220809T170000
DTSTAMP:20260425T195712
CREATED:20220729T150517Z
LAST-MODIFIED:20220729T153417Z
UID:1014860-1660035600-1660064400@allwork.space
SUMMARY:International Coworking Day - Free Day of Coworking
DESCRIPTION:August 9th is International Coworking Day! \nTo celebrate we are opening our workspace for free from 9 a.m. to 5 p.m. \n\n\n\nFree wifi\nFree parking\nFree tea & coffee\nSourcing Library\nCafé style seating\nLarge work tables and standing desks\n\n\n\nSee you there!
URL:https://allwork.space/event/international-coworking-day-free-day-of-coworking/
LOCATION:The Collective Workspace\, 14 Leswyn Road\, Toronto\, Ontario\, Canada
CATEGORIES:Coworking & Flex Office
ATTACH;FMTTYPE=image/jpeg:https://allwork.space/wp-content/uploads/2022/07/FREE-COWORKING-DAY.jpg
END:VEVENT
END:VCALENDAR