BEGIN:VCALENDAR
VERSION:2.0
PRODID:-//Allwork.Space - ECPv6.0.10//NONSGML v1.0//EN
CALSCALE:GREGORIAN
METHOD:PUBLISH
X-WR-CALNAME:Allwork.Space
X-ORIGINAL-URL:https://allwork.space
X-WR-CALDESC:Events for Allwork.Space
REFRESH-INTERVAL;VALUE=DURATION:PT1H
X-Robots-Tag:noindex
X-PUBLISHED-TTL:PT1H
BEGIN:VTIMEZONE
TZID:America/Kentucky/Louisville
BEGIN:DAYLIGHT
TZOFFSETFROM:-0500
TZOFFSETTO:-0400
TZNAME:EDT
DTSTART:20240310T070000
END:DAYLIGHT
BEGIN:STANDARD
TZOFFSETFROM:-0400
TZOFFSETTO:-0500
TZNAME:EST
DTSTART:20241103T060000
END:STANDARD
END:VTIMEZONE
BEGIN:VEVENT
DTSTART;TZID=America/Kentucky/Louisville:20241113T080000
DTEND;TZID=America/Kentucky/Louisville:20241114T170000
DTSTAMP:20260423T185354
CREATED:20240619T193342Z
LAST-MODIFIED:20240619T193342Z
UID:1029426-1731484800-1731603600@allwork.space
SUMMARY:Coworking Europe 2024 | Sofia
DESCRIPTION:Program\nCoworking Tour – More than a dozen coworking and co-living spaces open their doors for a personal visit to the Coworking Europe delegates (Self-Guided). \nCoworking Industry in Europe – Latests facts & figures on coworking profitability\, occupancy and revenues\, for big or small spaces. \nWhat is the coworking’s tenants breakdown in 2024 and what changed over the last months in Europe. \nWhat are coworking’s upcoming new borders and how operators can prepare for it? \nHow to transform a “not so good” location into a thriving coworking environment? \nMobile indoor coverage\, network safety\, customized wireless accesses – Create waterproof secured and convenient connectivity environment. \nCultivating coworking branding as a gem\, whether you are a Boutique coworking or a chain. \nHow to make suburban and rural coworking locations appealing for local SME’s? \nBuilding a coworking community: how to put the balance right between soft regular actions and more engaging moments?
URL:https://allwork.space/event/coworking-europe-2024-sofia/
LOCATION:National Palace of Culture\, Ndk\, Bulgaria Blvd 1463 Sofia\, Sofia\, Bulgaria
CATEGORIES:Coworking & Flex Office
ATTACH;FMTTYPE=image/jpeg:https://allwork.space/wp-content/uploads/2024/06/Coworking-Europe-2024.jpg
END:VEVENT
BEGIN:VEVENT
DTSTART;VALUE=DATE:20241119
DTEND;VALUE=DATE:20241120
DTSTAMP:20260423T185354
CREATED:20241115T223732Z
LAST-MODIFIED:20241115T232853Z
UID:1032490-1731974400-1732060799@allwork.space
SUMMARY:The Future Of Less Work with Nirit Cohen | New Episode!
DESCRIPTION:Learn how to redefine success with Nirit Cohen\, an acclaimed HR strategist and expert on workforce transformation\, in this highly anticipated episode of The Future of Work® Podcast.   \nWith Nirit’s decades of leadership experience and unique perspective on how technology\, demographics\, and societal values intersect with employment\, this episode is a must-listen for anyone curious about the evolving meaning of productivity and success.  \nJoin us to gain practical insights and a visionary outlook as Nirit shares her expertise from a career that has spanned the globe\, including transformative leadership roles at Intel. \nExplore how these insights can empower both individuals and organizations to thrive in a workplace that is rapidly reimagining traditional metrics and values.  \nDon’t miss this chance to engage with cutting-edge ideas and take the next step in shaping your understanding of the future of work.  \nKey Takeaways for the Audience: \n\nLearn what it means to “work less” in a world focused on redefining success and productivity. \n\n\nDiscover strategies for leading and measuring success when traditional workplace metrics no longer apply. \n\n\nUnderstand the impact of demographics\, technology\, and societal shifts on workplace transformation. \n\n\nExplore solutions to the challenges of hybrid work environments. \n\n\nGain practical advice from Nirit Cohen’s extensive leadership and HR expertise to navigate your professional future.  \n\n 
URL:https://allwork.space/event/the-future-of-less-work-with-nirit-cohen-new-episode/
ATTACH;FMTTYPE=image/jpeg:https://allwork.space/wp-content/uploads/2024/11/Nirit-Cohen.jpg
END:VEVENT
END:VCALENDAR