BEGIN:VCALENDAR
VERSION:2.0
PRODID:-//Allwork.Space - ECPv6.0.10//NONSGML v1.0//EN
CALSCALE:GREGORIAN
METHOD:PUBLISH
X-ORIGINAL-URL:https://allwork.space
X-WR-CALDESC:Events for Allwork.Space
REFRESH-INTERVAL;VALUE=DURATION:PT1H
X-Robots-Tag:noindex
X-PUBLISHED-TTL:PT1H
BEGIN:VTIMEZONE
TZID:America/Kentucky/Louisville
BEGIN:DAYLIGHT
TZOFFSETFROM:-0500
TZOFFSETTO:-0400
TZNAME:EDT
DTSTART:20240310T070000
END:DAYLIGHT
BEGIN:STANDARD
TZOFFSETFROM:-0400
TZOFFSETTO:-0500
TZNAME:EST
DTSTART:20241103T060000
END:STANDARD
END:VTIMEZONE
BEGIN:VEVENT
DTSTART;TZID=America/Kentucky/Louisville:20240422T080000
DTEND;TZID=America/Kentucky/Louisville:20240424T170000
DTSTAMP:20260423T143332
CREATED:20240202T222042Z
LAST-MODIFIED:20240202T222150Z
UID:1026583-1713772800-1713978000@allwork.space
SUMMARY:Empowering The World's Transition Towards Distributed Work
DESCRIPTION:Three Days of Learning\, Networking and Scaling\n\n\n\n\n\nThe Running Remote leaders community is the source of inspiration and our knowledge grail when it comes to crafting the conference agenda. 50+ speakers and 40+ sessions\, our 3-day live event will be jam-packed with value.\n\n\n\n\n\nCompany Culture\n\n\n\n\nLearn how to create a positive and inclusive work environment that makes distributed employees feel valued\, accepted\, and happy. \n\n\nHiring\, onboarding\, and training\n\n\n\n\nAttract\, motivate and retain top workers with equity. Understand when to hire full-timers vs contractors and get best practices on how to onboard and ramp remote employees effectively. \n\n\nCommunication\n\n\n\n\nBoost your remote-team’s efficiency\, create unified alignment and avoid meeting-fatigue. \n\n\nEngagement and motivation\n\n\n\n\nEffective strategies for improving morale\, driving engagement\, lowering attrition\, and improving work efficiency. \n\n\nCollaboration\n\n\n\n\nFacilitate teamwork\, collaboration\, and knowledge-sharing across remote teams. Learn how to leverage your workforce to create self-reliant teams. \n\n\nSHRM certification\n\n\n\n\nHR professionals can now earn continuing education credits at Running Remote Events
URL:https://allwork.space/event/empowering-the-worlds-transition-towards-distributed-work/
LOCATION:SUD Lisboa\, Lisbon\, Portugal
ATTACH;FMTTYPE=image/jpeg:https://allwork.space/wp-content/uploads/2024/02/Empowering-The-Worlds-Transition-Towards-Distributed-Work.jpg
END:VEVENT
END:VCALENDAR