BEGIN:VCALENDAR
VERSION:2.0
PRODID:-//Allwork.Space - ECPv6.0.10//NONSGML v1.0//EN
CALSCALE:GREGORIAN
METHOD:PUBLISH
X-WR-CALNAME:Allwork.Space
X-ORIGINAL-URL:https://allwork.space
X-WR-CALDESC:Events for Allwork.Space
REFRESH-INTERVAL;VALUE=DURATION:PT1H
X-Robots-Tag:noindex
X-PUBLISHED-TTL:PT1H
BEGIN:VTIMEZONE
TZID:America/Kentucky/Louisville
BEGIN:DAYLIGHT
TZOFFSETFROM:-0500
TZOFFSETTO:-0400
TZNAME:EDT
DTSTART:20230312T070000
END:DAYLIGHT
BEGIN:STANDARD
TZOFFSETFROM:-0400
TZOFFSETTO:-0500
TZNAME:EST
DTSTART:20231105T060000
END:STANDARD
END:VTIMEZONE
BEGIN:VEVENT
DTSTART;TZID=America/Kentucky/Louisville:20231107T110000
DTEND;TZID=America/Kentucky/Louisville:20231107T120000
DTSTAMP:20260424T075429
CREATED:20231013T164556Z
LAST-MODIFIED:20231013T223719Z
UID:1024510-1699354800-1699358400@allwork.space
SUMMARY:Evolving Workplaces: Top Hybrid Work Trends in 2024
DESCRIPTION:Join them for an insightful conversation on what the future holds for hybrid work in 2024 and beyond! They promise a stellar panel of speakers and takeaways that will undoubtedly set you up for success ringing in the new year! \nIn as little as 45 minutes you will learn: \n\n\nThe hottest trends in hybrid work for next year and beyond\nThe evolution of hybrid work policies and schedules\nThe remote work flexibility vs return-to-office challenges\nThe hybrid work tech stack leading organizations’ will choose in 2024\nThe answers to your questions during the live Q&A session
URL:https://allwork.space/event/evolving-workplaces-top-hybrid-work-trends-in-2024/
CATEGORIES:Remote & Hybrid Work,Technology & Innovation
ATTACH;FMTTYPE=image/jpeg:https://allwork.space/wp-content/uploads/2023/10/Allwork.Space-1.jpg
END:VEVENT
END:VCALENDAR