BEGIN:VCALENDAR
VERSION:2.0
PRODID:-//Allwork.Space - ECPv6.0.10//NONSGML v1.0//EN
CALSCALE:GREGORIAN
METHOD:PUBLISH
X-ORIGINAL-URL:https://allwork.space
X-WR-CALDESC:Events for Allwork.Space
REFRESH-INTERVAL;VALUE=DURATION:PT1H
X-Robots-Tag:noindex
X-PUBLISHED-TTL:PT1H
BEGIN:VTIMEZONE
TZID:America/Kentucky/Louisville
BEGIN:DAYLIGHT
TZOFFSETFROM:-0500
TZOFFSETTO:-0400
TZNAME:EDT
DTSTART:20240310T070000
END:DAYLIGHT
BEGIN:STANDARD
TZOFFSETFROM:-0400
TZOFFSETTO:-0500
TZNAME:EST
DTSTART:20241103T060000
END:STANDARD
END:VTIMEZONE
BEGIN:VEVENT
DTSTART;VALUE=DATE:20240903
DTEND;VALUE=DATE:20240904
DTSTAMP:20260424T025912
CREATED:20240626T165932Z
LAST-MODIFIED:20240730T225207Z
UID:1029588-1725321600-1725407999@allwork.space
SUMMARY:WORKPLACE EXPERIENCE SUMMIT
DESCRIPTION:CONFERENCE | EXHIBITION | NETWORKING\nStrategy\, technology and design for future-fit productive workplaces\n\n\n\n\n\nThe workplace is rapidly evolving and the design and building of the workplace has become a powerful tool in influencing productivity\, employee satisfaction\, innovation and the bottom line. It is now more critical than ever that workplace experience be a partner with corporate real estate and facilities in order to respond to organisational needs taking into account different industries and job functions.   \nThe Workplace Experience Summit will focus on the many ways in which the fight for talent and ways of working are: changing the design footprint of organisations; changing real estate needs; changing company culture; changing leadership approaches and harnessing technologies to create collaborative and connected workplace ecosystems.  \nThe Summit will bring together employers\, office landlords\, agencies\, tenant rep firms\, flex workspace providers\, the workplace design (AEC) sector and tech enablers to rethink the needs of the modern workplace. The summit will also cover the cultural shifts and realignments of today’s organisational climate and highlight how the physical workspace is being repurposed and redesigned\, revealing the pivotal technological factors in transforming our work.  \nThe event will feature top level presentations\, interactive panel discussions as well as roundtables and networking activities.
URL:https://allwork.space/event/workplace-experience-summit/
LOCATION:Doltone House\, Hyde Park\, 181 Elizabeth St\, Sydney\, NSW 2000\, Australia
ATTACH;FMTTYPE=image/jpeg:https://allwork.space/wp-content/uploads/2024/06/WORKPLACE-EXPERIENCE-SUMMIT.jpg
END:VEVENT
END:VCALENDAR