BEGIN:VCALENDAR
VERSION:2.0
PRODID:-//Allwork.Space - ECPv6.0.10//NONSGML v1.0//EN
CALSCALE:GREGORIAN
METHOD:PUBLISH
X-ORIGINAL-URL:https://allwork.space
X-WR-CALDESC:Events for Allwork.Space
REFRESH-INTERVAL;VALUE=DURATION:PT1H
X-Robots-Tag:noindex
X-PUBLISHED-TTL:PT1H
BEGIN:VTIMEZONE
TZID:America/Kentucky/Louisville
BEGIN:DAYLIGHT
TZOFFSETFROM:-0500
TZOFFSETTO:-0400
TZNAME:EDT
DTSTART:20250309T070000
END:DAYLIGHT
BEGIN:STANDARD
TZOFFSETFROM:-0400
TZOFFSETTO:-0500
TZNAME:EST
DTSTART:20251102T060000
END:STANDARD
END:VTIMEZONE
BEGIN:VEVENT
DTSTART;VALUE=DATE:20250304
DTEND;VALUE=DATE:20250305
DTSTAMP:20260424T092627
CREATED:20250227T193652Z
LAST-MODIFIED:20250227T193652Z
UID:1034495-1741046400-1741132799@allwork.space
SUMMARY:Why the Future of Work Isn’t About ‘Going Back’ with Melissa Marsh
DESCRIPTION:Join us for an exclusive live discussion on The Future of Work® Podcast on Tuesday\, March 4\, 2025\, as we discuss the evolving landscape of work with Melissa Marsh\, Founder & CEO of PLASTARC. In this episode\, we’ll explore the fundamental shifts in workplace strategy\, the role of real estate in shaping employee experience\, and how organizations can navigate the transition from traditional office environments to dynamic\, people-centric workspaces. With Melissa’s deep expertise in workplace innovation\, data-driven real estate decisions\, and social research\, this conversation will provide invaluable insights for leaders\, HR professionals\, and businesses seeking to optimize their workforce strategies. \nAs we stand at the midpoint of a decade-long transformation in how\, where\, and why we work\, this conversation will reveal how businesses can future-proof their workplace strategies to stay competitive in an era defined by flexibility\, digital connectivity\, and changing employee expectations. Whether you’re an executive designing the next generation of offices\, an HR leader focused on employee retention\, or a remote work advocate\, this episode is packed with actionable takeaways. Don’t miss this thought-provoking discussion on what’s next for the future of work! \nWhat You’ll Learn\n\nThe impact of workplace evolution on business success and employee satisfaction.\nHow cities and real estate are adapting to lower office utilization rates.\nStrategies for companies to create workplaces that employees want to return to.\nThe role of data\, AI\, and workplace analytics in shaping work environments.\nHow flexible office models and remote work strategies can drive productivity and innovation.
URL:https://allwork.space/event/why-the-future-of-work-isnt-about-going-back-with-melissa-marsh/
CATEGORIES:Leadership,Workplace Wellness
ATTACH;FMTTYPE=image/jpeg:https://allwork.space/wp-content/uploads/2025/02/Melissa-Marsh-Plastarc.jpg
END:VEVENT
END:VCALENDAR