BEGIN:VCALENDAR
VERSION:2.0
PRODID:-//Allwork.Space - ECPv6.0.10//NONSGML v1.0//EN
CALSCALE:GREGORIAN
METHOD:PUBLISH
X-ORIGINAL-URL:https://allwork.space
X-WR-CALDESC:Events for Allwork.Space
REFRESH-INTERVAL;VALUE=DURATION:PT1H
X-Robots-Tag:noindex
X-PUBLISHED-TTL:PT1H
BEGIN:VTIMEZONE
TZID:America/Kentucky/Louisville
BEGIN:DAYLIGHT
TZOFFSETFROM:-0500
TZOFFSETTO:-0400
TZNAME:EDT
DTSTART:20230312T070000
END:DAYLIGHT
BEGIN:STANDARD
TZOFFSETFROM:-0400
TZOFFSETTO:-0500
TZNAME:EST
DTSTART:20231105T060000
END:STANDARD
END:VTIMEZONE
BEGIN:VEVENT
DTSTART;TZID=America/Kentucky/Louisville:20231115T080000
DTEND;TZID=America/Kentucky/Louisville:20231117T170000
DTSTAMP:20260422T180606
CREATED:20230825T005430Z
LAST-MODIFIED:20230905T163430Z
UID:1023743-1700035200-1700240400@allwork.space
SUMMARY:8th Future Workplaces Summit
DESCRIPTION:Join them and global executives as they return for their 8th FUTURE Workplaces Summit in Prague\, Czech Republic on November 15th-17th. This edition will focus on the latest developments in the infrastructure of digital workplaces\, modern office design\, human centricity\, principles of sustainable design\, methods for maximizing space usage\, and optimal strategies for creating versatile and motivational work environments. \nThis hybrid event will bring together digital workplace experts\, corporate real estate managers\, architects\, designers\, infrastructure management specialists\, technology solution providers and other industry professionals to discuss the best practices\, success factors and latest technological advancements through practical case studies. Leading professionals from global brands will be attending to share their knowledge and expertise on the latest trends in workspace design\, automation and AI\, employee engagement\, remote work arrangements and many other important topics. \nThis is a unique 3-day opportunity to connect with industry leaders and discuss the best approaches to shape the future of work.
URL:https://allwork.space/event/8th-future-workplaces-summit/
LOCATION:Hotel KINGS COURT Prague\, Prague\, Czech Republic
CATEGORIES:Remote & Hybrid Work,Workplace Design
ATTACH;FMTTYPE=image/png:https://allwork.space/wp-content/uploads/2023/08/Allwork.Space_-1.png
END:VEVENT
BEGIN:VEVENT
DTSTART;TZID=America/Kentucky/Louisville:20231121T080000
DTEND;TZID=America/Kentucky/Louisville:20231122T170000
DTSTAMP:20260422T180606
CREATED:20230905T060226Z
LAST-MODIFIED:20230905T060226Z
UID:1023920-1700553600-1700672400@allwork.space
SUMMARY:Future of Work Europe 2023
DESCRIPTION:The Future of Work Europe Event launched in 2019 with the core mission to focus on the latest trends & strategies within the Future of Work landscape including: Frontline Workers\, Workplace Transformation\, HR Technology\, Culture\, Employee Engagement\, Digital Workplace\, Learning & Development\, Human Resources and Office Space & Design. \n\n\n\n\n\nCreated for senior executives within:\n\n\n\n\n\n\n\n\n✓ Human Resources\n✓ Internal Communication\n✓ Change Management \n\n\n\n\n\n\n\n\n\n\n✓ Digital Workplace\n✓ Employee Experience & Engagement\n✓ Business Transformation
URL:https://allwork.space/event/future-of-work-europe-2023/
LOCATION:Park Plaza Victoria London\, 239 Vauxhall Bridge Rd\, Pimlico\, London SW1V 1EQ
CATEGORIES:Human Resources
ATTACH;FMTTYPE=image/jpeg:https://allwork.space/wp-content/uploads/2023/09/Allwork.Space-12.jpg
END:VEVENT
END:VCALENDAR