BEGIN:VCALENDAR
VERSION:2.0
PRODID:-//Allwork.Space - ECPv6.0.10//NONSGML v1.0//EN
CALSCALE:GREGORIAN
METHOD:PUBLISH
X-WR-CALNAME:Allwork.Space
X-ORIGINAL-URL:https://allwork.space
X-WR-CALDESC:Events for Allwork.Space
REFRESH-INTERVAL;VALUE=DURATION:PT1H
X-Robots-Tag:noindex
X-PUBLISHED-TTL:PT1H
BEGIN:VTIMEZONE
TZID:America/Kentucky/Louisville
BEGIN:DAYLIGHT
TZOFFSETFROM:-0500
TZOFFSETTO:-0400
TZNAME:EDT
DTSTART:20240310T070000
END:DAYLIGHT
BEGIN:STANDARD
TZOFFSETFROM:-0400
TZOFFSETTO:-0500
TZNAME:EST
DTSTART:20241103T060000
END:STANDARD
END:VTIMEZONE
BEGIN:VEVENT
DTSTART;TZID=America/Kentucky/Louisville:20240305T080000
DTEND;TZID=America/Kentucky/Louisville:20240306T170000
DTSTAMP:20260422T232735
CREATED:20230905T233249Z
LAST-MODIFIED:20230905T233249Z
UID:1023930-1709625600-1709744400@allwork.space
SUMMARY:Future of work Canada 2024
DESCRIPTION:The Future of Work Canada Event launched in 2019 with the core mission to focus on the latest trends & strategies within the Future of Work landscape including: Frontline Workers\, Workplace Transformation\, HR Technology\, Culture\, Employee Engagement\, Digital Workplace\, Learning & Development\, Human Resources and Office Space & Design. \n\n\n\n\n\nCreated for senior executives within:\n\n\n\n\n\n\n\n\n✓ Human Resources\n✓ Internal Communication\n✓ Change Management\n✓ Talent Management \n\n\n\n\n\n\n\n\n\n\n✓ Digital Workplace\n✓ Employee Experience & Engagement\n✓ Business Transformation\n✓ Diversity\, Equity & Inclusion
URL:https://allwork.space/event/future-of-work-canada-2024/
LOCATION:THE WESTIN HARBOUR CASTLE\, TORONTO\, CANADA\, 1 Harbour Square\, Toronto\, ON M5J 1A6\, Canada
CATEGORIES:Human Resources
ATTACH;FMTTYPE=image/jpeg:https://allwork.space/wp-content/uploads/2023/09/Allwork.Space-14.jpg
END:VEVENT
BEGIN:VEVENT
DTSTART;TZID=America/Kentucky/Louisville:20240329T120000
DTEND;TZID=America/Kentucky/Louisville:20240329T130000
DTSTAMP:20260422T232735
CREATED:20240321T204127Z
LAST-MODIFIED:20240321T204127Z
UID:1027645-1711713600-1711717200@allwork.space
SUMMARY:Convo: Attracting Office Members to Your Coworking Space
DESCRIPTION:How do you attract perfect-fit office members to your coworking space? \n​Let’s chat about it! \n​​Join them for a free\, informal\, community conversation with fellow workspace operators and coworking pros around the world. \nTheir Convos guests will kick things off with their best tips\, insights and strategies to attract office members who are active\, engaged and reliable. Then they’ll open the conversation up to share your tips\, ideas\, strategies and questions. \n​Their all-star guests for this one are Kyle Steele from Credo Conduit\, Katharine Chestnut from Alkaloid Networks\, Reuben Lau from Spacefully and Meagan Schoenrock from 25N. \n​​Who should attend? \n\n​​Coworking space operators\n​​Community managers\n​​Workspace teams\n​​Coworking brand builders\n\n​​What should you bring? \n\n​​Ideas\, insights and strategies\n​​Questions for other workspace operators\n​​A spirit of collaboration and cooperation
URL:https://allwork.space/event/convo-attracting-office-members-to-your-coworking-space/
CATEGORIES:Coworking & Flex Office
ATTACH;FMTTYPE=image/jpeg:https://allwork.space/wp-content/uploads/2024/03/Convo-Attracting-Office-Members-to-Your-Coworking-Space.jpg
END:VEVENT
END:VCALENDAR