BEGIN:VCALENDAR
VERSION:2.0
PRODID:-//Allwork.Space - ECPv6.0.10//NONSGML v1.0//EN
CALSCALE:GREGORIAN
METHOD:PUBLISH
X-ORIGINAL-URL:https://allwork.space
X-WR-CALDESC:Events for Allwork.Space
REFRESH-INTERVAL;VALUE=DURATION:PT1H
X-Robots-Tag:noindex
X-PUBLISHED-TTL:PT1H
BEGIN:VTIMEZONE
TZID:America/Kentucky/Louisville
BEGIN:DAYLIGHT
TZOFFSETFROM:-0500
TZOFFSETTO:-0400
TZNAME:EDT
DTSTART:20240310T070000
END:DAYLIGHT
BEGIN:STANDARD
TZOFFSETFROM:-0400
TZOFFSETTO:-0500
TZNAME:EST
DTSTART:20241103T060000
END:STANDARD
END:VTIMEZONE
BEGIN:VEVENT
DTSTART;TZID=America/Kentucky/Louisville:20240603T080000
DTEND;TZID=America/Kentucky/Louisville:20240604T170000
DTSTAMP:20260422T182618
CREATED:20231206T172644Z
LAST-MODIFIED:20231206T172644Z
UID:1025503-1717401600-1717520400@allwork.space
SUMMARY:Future Of Work USA 2024
DESCRIPTION:THE LEADING FUTURE OF WORK EVENT SERIES\nThe Future of Work USA Event launched in 2019 with the core mission to focus on the latest trends & strategies within the Future of Work landscape including: the role of the HR and People function\, Talent Management\, Workforce Planning\, Frontline Workers\, Workplace Transformation\, HR Technology\, Culture\, DEI\, Employee Engagement\, Digital Workplace\, Learning & Development and Office Space & Design. \n\n\nCreated for senior executives within:\n\n\n\n\n\n\n\n\n✓ Human Resources\n✓ Internal Communication\n✓ Change Management\n✓ Talent Management \n\n\n\n\n\n\n\n\n\n\n✓ Digital Workplace\n✓ Employee Experience & Engagement\n✓ Business Transformation\n✓ Diversity\, Equity & Inclusion
URL:https://allwork.space/event/future-of-work-usa-2024/
LOCATION:New York Marriott Downtown\, USA\, 85 West Street at Albany Street\, New York\, 10006\, United States
CATEGORIES:Human Resources
ATTACH;FMTTYPE=image/jpeg:https://allwork.space/wp-content/uploads/2023/12/Future-of-work-USA-2024.jpg
END:VEVENT
BEGIN:VEVENT
DTSTART;TZID=America/Kentucky/Louisville:20240603T080000
DTEND;TZID=America/Kentucky/Louisville:20240605T170000
DTSTAMP:20260422T182618
CREATED:20231205T223017Z
LAST-MODIFIED:20240125T002322Z
UID:1025473-1717401600-1717606800@allwork.space
SUMMARY:Gallup at work SUMMIT 2024
DESCRIPTION:Explore the latest research\, insights and best practices shaping the future of work. \nInspiring insights \nFueled by Gallup’s unmatched research and workplace discoveries\, their sessions sharpen your competitive edge. \nCareer-advancing takeaways \nSolve your most pressing challenges with their practical tactics you can apply in your role immediately. \nPassionate professionals \nEngage with people from around the world who are just as focused on personal development and workplace success as you are.
URL:https://allwork.space/event/gallup-at-work-summit-2024/
ATTACH;FMTTYPE=image/jpeg:https://allwork.space/wp-content/uploads/2023/12/Gallup-SUMMIT-2024.jpg
END:VEVENT
BEGIN:VEVENT
DTSTART;TZID=America/Kentucky/Louisville:20240611T080000
DTEND;TZID=America/Kentucky/Louisville:20240612T170000
DTSTAMP:20260422T182618
CREATED:20230905T055413Z
LAST-MODIFIED:20230905T163247Z
UID:1023916-1718092800-1718211600@allwork.space
SUMMARY:Future of work USA
DESCRIPTION:The Future of Work USA Event launched in 2019 with the core mission to focus on the latest trends & strategies within the Future of Work landscape including: the role of the HR and People function\, Talent Management\, Workforce Planning\, Frontline Workers\, Workplace Transformation\, HR Technology\, Culture\, DEI\, Employee Engagement\, Digital Workplace\, Learning & Development and Office Space & Design. \n\n\nCreated for senior executives within:\n\n\n\n\n\n\n\n\n✓ Human Resources\n✓ Internal Communication\n✓ Change Management\n✓ Talent Management \n\n\n\n\n\n\n\n\n\n\n✓ Digital Workplace\n✓ Employee Experience & Engagement\n✓ Business Transformation\n✓ Diversity\, Equity & Inclusion \n 
URL:https://allwork.space/event/the-leading-future-of-work-event-series/
LOCATION:HYATT REGENCY CHICAGO\, 151 East Wacker Drive\, Chicago\, Illinois
CATEGORIES:Human Resources,Leadership
ATTACH;FMTTYPE=image/jpeg:https://allwork.space/wp-content/uploads/2023/09/Allwork.Space-11.jpg
END:VEVENT
END:VCALENDAR